Back to the "Multiple platform build/check report"
| Package 40/48 | Hostname | OS | Arch | BUILD | CHECK | BUILD BIN |
SNAData1.8.0Denise ScholtensLast Changed Date: 2006-09-28 18:17:09 -0700 Last Changed Rev: 142 | lamb1 | Linux (SUSE 10.1) | x86_64 | [ OK ] | OK | |
| lemming | Windows Server 2003 (32-bit) | x64 | OK | OK | OK |
| Package: SNAData |
| Version: 1.8.0 |
| Command: /home/biocbuild/bbs-2.0-bioc/R/bin/R CMD build SNAData |
| RetCode: 0 |
| Time: 6.5 seconds |
| Status: OK |
| PackageFile: SNAData_1.8.0.tar.gz |
* checking for file 'SNAData/DESCRIPTION' ... OK
* preparing 'SNAData':
* checking DESCRIPTION meta-information ... OK
* checking whether 'INDEX' is up-to-date ... NO
* use '--force' to overwrite the existing 'INDEX'
* installing the package to re-build vignettes
* Installing *source* package 'SNAData' ...
** R
** data
** inst
** help
>>> Building/Updating help pages for package 'SNAData'
Formats: text html latex example
CEOclubs text html latex example
Countries text html latex example
Florentine text html latex example
Freeman text html latex example
Krackhardt text html latex example
** building package indices ...
* DONE (SNAData)
* creating vignettes ... OK
* removing junk files
* checking for LF line-endings in source files
* checking for empty or unneeded directories
* building 'SNAData_1.8.0.tar.gz'