Back to the "Multiple platform build/check report"
| Package 40/48 | Hostname | OS | Arch | BUILD | CHECK | BUILD BIN |
SNAData1.8.0Denise ScholtensLast Changed Date: 2006-09-28 18:17:09 -0700 Last Changed Rev: 142 | lamb1 | Linux (SUSE 10.1) | x86_64 | OK | OK | |
| lemming | Windows Server 2003 (32-bit) | x64 | OK | OK | [ OK ] |
| Package: SNAData |
| Version: 1.8.0 |
| Command: D:\biocbld\bbs-2.0-bioc\R\bin\R.exe CMD INSTALL --build --library=SNAData.buildbin-libdir SNAData_1.8.0.tar.gz |
| RetCode: 0 |
| Time: 10.5 seconds |
| Status: OK |
| PackageFile: SNAData_1.8.0.zip |
installing R.css in D:/biocbld/bbs-2.0-data-experiment/meat/SNAData.buildbin-libdir
Using auto-selected zip options ''
---------- Making package SNAData ------------
adding build stamp to DESCRIPTION
installing R files
installing inst files
installing data files
installing man source files
installing indices
not zipping data
installing help
>>> Building/Updating help pages for package 'SNAData'
Formats: text html latex example chm
CEOclubs text html latex example chm
Countries text html latex example chm
Florentine text html latex example chm
Freeman text html latex example chm
Krackhardt text html latex example chm
Microsoft HTML Help Compiler 4.74.8702
Compiling d:\biocbld\bbs-2.0-data-experiment\meat\R.INSTALL.7724\SNAData\chm\SNAData.chm
Compile time: 0 minutes, 0 seconds
6 Topics
24 Local links
0 Internet links
1 Graphic
Created d:\biocbld\bbs-2.0-data-experiment\meat\R.INSTALL.7724\SNAData\chm\SNAData.chm, 22,674 bytes
Compression decreased file by 1,236 bytes.
adding MD5 sums
packaged installation of package 'SNAData' as SNAData_1.8.0.zip
* DONE (SNAData)