Back to the "Multiple platform build/check report"
| Package 42/48 | Hostname | OS | Arch | BUILD | CHECK | BUILD BIN | 
SpikeInSubset1.2.5Rafael A. IrizarryLast Changed Date: 2007-05-12 13:07:24 -0700 Last Changed Rev: 295  | lamb1 | Linux (SUSE 10.1) | x86_64 | OK | [ OK ] | |
| lemming | Windows Server 2003 (32-bit) | x64 | OK | OK | OK | 
| Package: SpikeInSubset | 
| Version: 1.2.5 | 
| Command: /home/biocbuild/bbs-2.0-bioc/R/bin/R CMD check SpikeInSubset_1.2.5.tar.gz | 
| RetCode: 0 | 
| Time: 47.5 seconds | 
| Status: OK | 
| CheckDir: SpikeInSubset.Rcheck | 
| Warnings: 0 | 
* checking for working latex ... OK * using log directory '/home/biocbuild/bbs-2.0-data-experiment/meat/SpikeInSubset.Rcheck' * using R version 2.5.1 (2007-06-27) * checking for file 'SpikeInSubset/DESCRIPTION' ... OK * this is package 'SpikeInSubset' version '1.2.5' * checking package dependencies ... OK * checking if this is a source package ... OK * checking whether package 'SpikeInSubset' can be installed ... OK * checking package directory ... OK * checking for portable file names ... OK * checking for sufficient/correct file permissions ... OK * checking DESCRIPTION meta-information ... OK * checking top-level files ... OK * checking index information ... OK * checking package subdirectories ... OK * checking R files for non-ASCII characters ... OK * checking R files for syntax errors ... OK * checking whether the package can be loaded ... OK * checking whether the package can be loaded with stated dependencies ... OK * checking for unstated dependencies in R code ... OK * checking S3 generic/method consistency ... OK * checking replacement functions ... OK * checking foreign function calls ... OK * checking R code for possible problems ... OK * checking Rd files ... OK * checking Rd cross-references ... OK * checking for missing documentation entries ... OK * checking for code/documentation mismatches ... OK * checking Rd \usage sections ... OK * checking data for non-ASCII characters ... OK * creating SpikeInSubset-Ex.R ... OK * checking examples ... OK * creating SpikeInSubset-manual.tex ... OK * checking SpikeInSubset-manual.tex ... OK
SpikeInSubset.Rcheck/00install.out:
* Installing *source* package 'SpikeInSubset' ...
** R
** data
** help
 >>> Building/Updating help pages for package 'SpikeInSubset'
     Formats: text html latex example 
  SpikeIn                           text    html    latex
  xhyb                              text    html    latex
** building package indices ...
Loading required package: methods
* DONE (SpikeInSubset)