Back to the "Multiple platform build/check report"
| Package 42/48 | Hostname | OS | Arch | BUILD | CHECK | BUILD BIN | 
SpikeInSubset1.2.5Rafael A. IrizarryLast Changed Date: 2007-05-12 13:07:24 -0700 Last Changed Rev: 295  | lamb1 | Linux (SUSE 10.1) | x86_64 | OK | OK | |
| lemming | Windows Server 2003 (32-bit) | x64 | OK | OK | [ OK ] | 
| Package: SpikeInSubset | 
| Version: 1.2.5 | 
| Command: D:\biocbld\bbs-2.0-bioc\R\bin\R.exe CMD INSTALL --build --library=SpikeInSubset.buildbin-libdir SpikeInSubset_1.2.5.tar.gz | 
| RetCode: 0 | 
| Time: 20.5 seconds | 
| Status: OK | 
| PackageFile: SpikeInSubset_1.2.5.zip | 
installing R.css in D:/biocbld/bbs-2.0-data-experiment/meat/SpikeInSubset.buildbin-libdir
Using auto-selected zip options 'SpikeInSubset-ZIPDATA=zip'
---------- Making package SpikeInSubset ------------
  adding build stamp to DESCRIPTION
  installing R files
  installing data files
  installing man source files
  installing indices
Loading required package: methods
  zipping data
  installing help
 >>> Building/Updating help pages for package 'SpikeInSubset'
     Formats: text html latex example chm 
  SpikeIn                           text    html    latex           chm
  xhyb                              text    html    latex           chm
Microsoft HTML Help Compiler 4.74.8702
Compiling d:\biocbld\bbs-2.0-data-experiment\meat\R.INSTALL.4792\SpikeInSubset\chm\SpikeInSubset.chm
Compile time: 0 minutes, 0 seconds
3	Topics
11	Local links
1	Internet link
1	Graphic
Created d:\biocbld\bbs-2.0-data-experiment\meat\R.INSTALL.4792\SpikeInSubset\chm\SpikeInSubset.chm, 17,702 bytes
Compression increased file by 6,264 bytes.
  adding MD5 sums
packaged installation of package 'SpikeInSubset' as SpikeInSubset_1.2.5.zip
* DONE (SpikeInSubset)