Back to the "Multiple platform build/check report"
| Package 36/48 | Hostname | OS | Arch | BUILD | CHECK | BUILD BIN | 
ppiData0.1.7Tony ChiangLast Changed Date: 2007-06-06 14:49:24 -0700 Last Changed Rev: 341  | lamb1 | Linux (SUSE 10.1) | x86_64 | OK | WARNINGS | |
| lemming | Windows Server 2003 (32-bit) | x64 | OK | WARNINGS | [ OK ] | 
| Package: ppiData | 
| Version: 0.1.7 | 
| Command: D:\biocbld\bbs-2.0-bioc\R\bin\R.exe CMD INSTALL --build --library=ppiData.buildbin-libdir ppiData_0.1.7.tar.gz | 
| RetCode: 0 | 
| Time: 27.6 seconds | 
| Status: OK | 
| PackageFile: ppiData_0.1.7.zip | 
installing R.css in D:/biocbld/bbs-2.0-data-experiment/meat/ppiData.buildbin-libdir
Using auto-selected zip options 'ppiData-ZIPDATA=zip ppiData-HELP=ziponly'
---------- Making package ppiData ------------
  adding build stamp to DESCRIPTION
  installing R files
  installing inst files
  installing data files
  preparing package ppiData for lazy loading
Loading required package: Rgraphviz
Loading required package: graph
Loading required package: geneplotter
Loading required package: annotate
Loading required package: Biobase
Loading required package: tools
Welcome to Bioconductor
  Vignettes contain introductory material. To view, type
  'openVignette()'. To cite Bioconductor, see
  'citation("Biobase")' and for packages 'citation(pkgname)'.
Loading required package: lattice
KernSmooth 2.22 installed
Copyright M. P. Wand 1997
Attaching package: 'Rgraphviz'
	The following object(s) are masked from package:annotate :
	 toFile 
  preparing package ppiData for lazy data loading
  installing man source files
  installing indices
  installing help
 >>> Building/Updating help pages for package 'ppiData'
     Formats: text html latex example chm 
  Cagney2001BPGraph                 text    html    latex   example chm
  Gavin2002BPGraph                  text    html    latex   example chm
  Gavin2006bPGraph                  text    html    latex   example chm
  Hazbun2003BPGraph                 text    html    latex   example chm
  Ho2002BPGraph                     text    html    latex   example chm
  Ito2001BPGraph                    text    html    latex   example chm
  Krogan2004BPGraph                 text    html    latex   example chm
  Krogan2006BPGraph                 text    html    latex   example chm
  Tong2002BPGraph                   text    html    latex   example chm
  Uetz2000BPGraph1                  text    html    latex   example chm
  Uetz2000BPGraph2                  text    html    latex   example chm
  Zhao2005BPGraph                   text    html    latex   example chm
  bpExperimentNames                 text    html    latex   example chm
  collectIntactPPIData              text    html    latex   example chm
  createBPList                      text    html    latex   example chm
  intAct2Sys                        text    html    latex   example chm
  intActPPIData                     text    html    latex   example chm
  map2Systematic                    text    html    latex   example chm
  map2Systematic2                   text    html    latex           chm
  ppipred                           text    html    latex   example chm
  proteinProperty                   text    html    latex   example chm
  sWAC2Sys                          text    html    latex   example chm
  stochasticBaits                   text    html    latex   example chm
  tableList                         text    html    latex   example chm
  viableProteins                    text    html    latex   example chm
  y2h                               text    html    latex   example chm
  y2hSysGW                          text    html    latex   example chm
  zipping help files
Microsoft HTML Help Compiler 4.74.8702
Compiling d:\biocbld\bbs-2.0-data-experiment\meat\R.INSTALL.6236\ppiData\chm\ppiData.chm
Compile time: 0 minutes, 0 seconds
28	Topics
55	Local links
1	Internet link
1	Graphic
Created d:\biocbld\bbs-2.0-data-experiment\meat\R.INSTALL.6236\ppiData\chm\ppiData.chm, 44,336 bytes
Compression decreased file by 42,048 bytes.
  adding MD5 sums
packaged installation of package 'ppiData' as ppiData_0.1.7.zip
* DONE (ppiData)