Back to the "Multiple platform build/check report"
| Package 43/48 | Hostname | OS | Arch | BUILD | CHECK | BUILD BIN |
stjudem1.2.0Joern ToedlingLast Changed Date: 2006-09-28 18:17:09 -0700 Last Changed Rev: 142 | lamb1 | Linux (SUSE 10.1) | x86_64 | OK | OK | |
| lemming | Windows Server 2003 (32-bit) | x64 | OK | OK | [ OK ] |
| Package: stjudem |
| Version: 1.2.0 |
| Command: D:\biocbld\bbs-2.0-bioc\R\bin\R.exe CMD INSTALL --build --library=stjudem.buildbin-libdir stjudem_1.2.0.tar.gz |
| RetCode: 0 |
| Time: 52.4 seconds |
| Status: OK |
| PackageFile: stjudem_1.2.0.zip |
installing R.css in D:/biocbld/bbs-2.0-data-experiment/meat/stjudem.buildbin-libdir
Using auto-selected zip options 'stjudem-ZIPDATA=zip'
---------- Making package stjudem ------------
adding build stamp to DESCRIPTION
installing R files
installing data files
installing man source files
installing indices
zipping data
installing help
>>> Building/Updating help pages for package 'stjudem'
Formats: text html latex example chm
stjude text html latex example chm
Microsoft HTML Help Compiler 4.74.8702
Compiling d:\biocbld\bbs-2.0-data-experiment\meat\R.INSTALL.2288\stjudem\chm\stjudem.chm
Compile time: 0 minutes, 0 seconds
2 Topics
2 Local links
0 Internet links
1 Graphic
Created d:\biocbld\bbs-2.0-data-experiment\meat\R.INSTALL.2288\stjudem\chm\stjudem.chm, 16,946 bytes
Compression increased file by 9,405 bytes.
adding MD5 sums
packaged installation of package 'stjudem' as stjudem_1.2.0.zip
* DONE (stjudem)