Back to the "Multiple platform build/check report"
| Package 43/48 | Hostname | OS | Arch | BUILD | CHECK | BUILD BIN | 
stjudem1.2.0Joern ToedlingLast Changed Date: 2006-09-28 18:17:09 -0700 Last Changed Rev: 142  | lamb1 | Linux (SUSE 10.1) | x86_64 | OK | OK | |
| lemming | Windows Server 2003 (32-bit) | x64 | [ OK ] | OK | OK | 
| Package: stjudem | 
| Version: 1.2.0 | 
| Command: D:\biocbld\bbs-2.0-bioc\R\bin\R.exe CMD build stjudem | 
| RetCode: 0 | 
| Time: 31.5 seconds | 
| Status: OK | 
| PackageFile: stjudem_1.2.0.tar.gz | 
* checking for file 'stjudem/DESCRIPTION' ... OK * preparing 'stjudem': * checking DESCRIPTION meta-information ... OK * removing junk files * checking for LF line-endings in source files * checking for empty or unneeded directories * building 'stjudem_1.2.0.tar.gz'