Back to the "Multiple platform build/check report"
| Package 44/48 | Hostname | OS | Arch | BUILD | CHECK | BUILD BIN | 
tinesath1cdf1.0.2Tine CasneufLast Changed Date: 2007-07-06 08:47:27 -0700 Last Changed Rev: 362  | lamb1 | Linux (SUSE 10.1) | x86_64 | OK | OK | |
| lemming | Windows Server 2003 (32-bit) | x64 | OK | OK | [ OK ] | 
| Package: tinesath1cdf | 
| Version: 1.0.2 | 
| Command: D:\biocbld\bbs-2.0-bioc\R\bin\R.exe CMD INSTALL --build --library=tinesath1cdf.buildbin-libdir tinesath1cdf_1.0.2.tar.gz | 
| RetCode: 0 | 
| Time: 9.1 seconds | 
| Status: OK | 
| PackageFile: tinesath1cdf_1.0.2.zip | 
installing R.css in D:/biocbld/bbs-2.0-data-experiment/meat/tinesath1cdf.buildbin-libdir
Using auto-selected zip options 'tinesath1cdf-ZIPDATA=zip'
---------- Making package tinesath1cdf ------------
  adding build stamp to DESCRIPTION
  installing R files
  installing data files
  installing man source files
  installing indices
  zipping data
  installing help
 >>> Building/Updating help pages for package 'tinesath1cdf'
     Formats: text html latex example chm 
  geometry                          text    html    latex   example chm
  tinesath1cdf                      text    html    latex           chm
Microsoft HTML Help Compiler 4.74.8702
Compiling d:\biocbld\bbs-2.0-data-experiment\meat\R.INSTALL.3752\tinesath1cdf\chm\tinesath1cdf.chm
Compile time: 0 minutes, 0 seconds
3	Topics
5	Local links
0	Internet links
1	Graphic
Created d:\biocbld\bbs-2.0-data-experiment\meat\R.INSTALL.3752\tinesath1cdf\chm\tinesath1cdf.chm, 16,267 bytes
Compression increased file by 7,741 bytes.
  adding MD5 sums
packaged installation of package 'tinesath1cdf' as tinesath1cdf_1.0.2.zip
* DONE (tinesath1cdf)