Back to the "Multiple platform build/check report"
| Package 44/48 | Hostname | OS | Arch | BUILD | CHECK | BUILD BIN | 
tinesath1cdf1.0.2Tine CasneufLast Changed Date: 2007-07-06 08:47:27 -0700 Last Changed Rev: 362  | lamb1 | Linux (SUSE 10.1) | x86_64 | OK | OK | |
| lemming | Windows Server 2003 (32-bit) | x64 | [ OK ] | OK | OK | 
| Package: tinesath1cdf | 
| Version: 1.0.2 | 
| Command: D:\biocbld\bbs-2.0-bioc\R\bin\R.exe CMD build tinesath1cdf | 
| RetCode: 0 | 
| Time: 2.7 seconds | 
| Status: OK | 
| PackageFile: tinesath1cdf_1.0.2.tar.gz | 
* checking for file 'tinesath1cdf/DESCRIPTION' ... OK * preparing 'tinesath1cdf': * checking DESCRIPTION meta-information ... OK * checking whether 'INDEX' is up-to-date ... NO * use '--force' to overwrite the existing 'INDEX' * removing junk files * checking for LF line-endings in source files * checking for empty or unneeded directories * building 'tinesath1cdf_1.0.2.tar.gz'