| Package STATUS - Package status is indicated by one of the following glyphs: | 
|  -  TIMEOUT  | 
BUILD, CHECK or BUILD BIN of package took more than 40 minutes | 
|  -  ERROR  | 
BUILD, CHECK or BUILD BIN of package returned an error | 
|  -  WARNINGS  | 
CHECK of package produced warnings | 
|  -  OK  | 
BUILD, CHECK or BUILD BIN of package was OK | 
|  - skipped  | 
CHECK or BUILD BIN of package was skipped because the BUILD step failed (or because something bad happened with the Build System itself) | 
| Click on any glyph in the report below to see the status details (command output). | 
| [lamb1] | 
Linux (openSUSE 12.1) / x86_64  |  |  |  | 
| moscato1 | 
Windows Server 2008 R2 Enterprise SP1 (64-bit) / x64  |  |  |  | 
| perceval | 
Mac OS X Leopard (10.5.8) / i386  |  |  |  | 
 | 
| affycompData 1.1.4 | Harris Jaffee |  OK  |  OK  |  | 
| affydata 1.11.17 | Harris Jaffee |  OK  |  WARNINGS  |  | 
| AffymetrixDataTestFiles 0.1.5 | Henrik Bengtsson |  OK  |  OK  |  | 
| ALL 1.4.13 | Robert Gentleman |  OK  |  OK  |  | 
| ALLMLL 1.2.13 | B. M. Bolstad |  OK  |  OK  |  | 
| AmpAffyExample 1.2.11 | Rafael A. Irizarry |  OK  |  WARNINGS  |  | 
| beadarrayExampleData 1.0.5 | Mark Dunning |  OK  |  OK  |  | 
| BeadArrayUseCases 1.0.9 | Mike Smith |  OK  |  OK  |  | 
| beta7 1.0.4 | Jean Yang |  OK  |  WARNINGS  |  | 
| bladderbatch 1.0.4 | Jeffrey T. Leek |  OK  |  WARNINGS  |  | 
| breastCancerMAINZ 1.0.4 | Markus Schroeder , Benjamin Haibe-Kains |  OK  |  WARNINGS  |  | 
| breastCancerNKI 1.0.4 | Markus Schroeder , Benjamin Haibe-Kains |  OK  |  WARNINGS  |  | 
| breastCancerTRANSBIG 1.0.4 | Markus Schroeder , Benjamin Haibe-Kains |  OK  |  WARNINGS  |  | 
| breastCancerUNT 1.0.4 | Markus Schroeder , Benjamin Haibe-Kains |  OK  |  WARNINGS  |  | 
| breastCancerUPP 1.0.4 | Markus Schroeder , Benjamin Haibe-Kains |  OK  |  WARNINGS  |  | 
| breastCancerVDX 1.0.4 | Markus Schroeder , Benjamin Haibe-Kains |  OK  |  WARNINGS  |  | 
| bronchialIL13 1.0.10 | Vince Carey |  OK  |  OK  |  | 
| bsseqData 0.1.2 | Kasper Daniel Hansen |  OK  |  OK  |  | 
| cancerdata 1.1.1 | Daniel Kosztyla |  OK  |  OK  |  | 
| CCl4 1.0.13 | Audrey Kauffmann |  OK  |  WARNINGS  |  | 
| ccTutorial 1.0.22 | Joern Toedling |  OK  |  OK  |  | 
| ceu1kg 0.0.31 | VJ Carey |  OK  |  OK  |  | 
| ceuhm3 0.0.14 | VJ Carey |  OK  |  OK  |  | 
| cgdv17 0.0.19 | VJ Carey |  ERROR  |  skipped  |  | 
| charmData 0.99.7 | Martin Aryee |  OK  |  WARNINGS  |  | 
| cheung2010 0.0.26 | Vince Carey |  OK  |  OK  |  | 
| ChIPXpressData 0.99.1 | George Wu |  OK  |  OK  |  | 
| CLL 1.2.13 | Robert Gentleman |  OK  |  OK  |  | 
| cnvGSAdata 0.99.3 | Robert Ziman |  OK  |  OK  |  | 
| colonCA 1.4.10 | W Sylvia Merk |  OK  |  WARNINGS  |  | 
| davidTiling 1.2.16 | Wolfgang Huber |  OK  |  OK  |  | 
| DLBCL 1.3.5 | Marcus Dittrich |  OK  |  WARNINGS  |  | 
| dressCheck 0.1.6 | Vincent Carey |  OK  |  OK  |  | 
| dsQTL 0.0.22 | VJ Carey |  OK  |  OK  |  | 
| dyebiasexamples 1.0.9 | Philip Lijnzaad |  OK  |  WARNINGS  |  | 
| EatonEtAlChIPseq 0.0.8 | Patrick Aboyoun |  OK  |  OK  |  | 
| ecoliLeucine 1.2.9 | Laurent Gautier |  OK  |  WARNINGS  |  | 
| encoDnaseI 0.1.15 | VJ Carey |  OK  |  OK  |  | 
| estrogen 1.8.9 | R. Gentleman |  OK  |  OK  |  | 
| faahKO 1.2.12 | Colin A. Smith |  OK  |  WARNINGS  |  | 
| fabiaData 1.0.1 | Sepp Hochreiter |  OK  |  OK  |  | 
| facsDorit 1.4.6 | Florian Hahne |  OK  |  OK  |  | 
| ffpeExampleData 1.0.2 | Levi Waldron |  OK  |  OK  |  | 
| fibroEset 1.4.8 | Sylvia Merk |  OK  |  WARNINGS  |  | 
| flowWorkspaceData 0.99.8 | Greg Finak |  OK  |  OK  |  | 
| frmaExampleData 0.99.4 | Matthew N. McCall |  OK  |  WARNINGS  |  | 
| FunciSNP.data 0.99.1 | Simon G. Coetzee |  OK  |  OK  |  | 
| gageData 1.1.5 | Weijun Luo |  OK  |  WARNINGS  |  | 
| gaschYHS 1.0.10 | Vince Carey |  OK  |  OK  |  | 
| gatingMLData 1.0.6 | Nishant Gopalakrishnan |  OK  |  OK  |  | 
| gcspikelite 1.0.8 | Mark Robinson |  OK  |  WARNINGS  |  | 
| geneLenDataBase 0.99.10 | Matthew Young , Nadia Davidson |  OK  |  WARNINGS  |  | 
| GGdata 1.0.20 | VJ Carey |  OK  |  OK  |  | 
| ggtut 0.0.43 | VJ Carey |  OK  |  OK  |  | 
| golubEsets 1.4.12 | Vince Carey |  OK  |  OK  |  | 
| GSVAdata 0.99.9 | Robert Castelo |  OK  |  OK  |  | 
| GWASdata 1.0.7 | Stephanie Gogarten |  OK  |  WARNINGS  |  | 
| hapmap100khind 1.4.1 | Benilton Carvalho |  OK  |  OK  |  | 
| hapmap100kxba 1.4.1 | Benilton Carvalho |  OK  |  OK  |  | 
| hapmap500knsp 1.4.1 | Benilton Carvalho |  OK  |  OK  |  | 
| hapmap500ksty 1.4.1 | Benilton Carvalho |  OK  |  OK  |  | 
| hapmapsnp5 1.4.1 | Benilton Carvalho |  OK  |  OK  |  | 
| hapmapsnp6 1.4.1 | Benilton Carvalho |  OK  |  OK  |  | 
| harbChIP 1.0.9 | VJ Carey |  OK  |  OK  |  | 
| HEEBOdata 1.0.4 | Agnes Paquet |  OK  |  WARNINGS  |  | 
| hgu133abarcodevecs 1.0.5 | Matthew N. McCall |  OK  |  OK  |  | 
| hgu133plus2barcodevecs 1.0.5 | Matthew N. McCall |  OK  |  OK  |  | 
| hgu2beta7 1.2.7 | Bioconductor Package Maintainer |  OK  |  WARNINGS  |  | 
| HIVcDNAvantWout03 1.2.7 | Chris Fraley |  OK  |  OK  |  | 
| hmyriB36 0.99.16 | Vincent Carey |  OK  |  OK  |  | 
| humanStemCell 0.2.7 | R. Gentleman |  OK  |  WARNINGS  |  | 
| ind1KG 0.1.14 | VJ Carey |  OK  |  OK  |  | 
| iontreeData 0.99.7 | Mingshu Cao |  OK  |  WARNINGS  |  | 
| ITALICSData 2.0.6 | Guillem Rigaill |  OK  |  WARNINGS  |  | 
| Iyer517 1.4.11 | Vince Carey |  OK  |  OK  |  | 
| KEGGdzPathwaysGEO 1.1.1 | Gaurav Bhatti |  OK  |  OK  |  | 
| kidpack 1.5.11 | Wolfgang Huber |  OK  |  WARNINGS  |  | 
| leeBamViews 0.99.21 | VJ Carey |  ERROR  |  skipped  |  | 
| LiebermanAidenHiC2009 0.1.13 | Felix Klein |  OK  |  WARNINGS  |  | 
| lumiBarnes 1.3.9 | Pan Du |  OK  |  WARNINGS  |  | 
| LungCancerLines 0.0.7 | Cory Barr |  OK  |  OK  |  | 
| lungExpression 0.0.14 | Robert Scharpf |  OK  |  OK  |  | 
| maqcExpression4plex 1.6.1 | Benilton Carvalho |  OK  |  OK  |  | 
| MAQCsubset 1.0.26 | VJ Carey |  OK  |  OK  |  | 
| MAQCsubsetAFX 1.0.9 | Laurent Gatto |  OK  |  OK  |  | 
| MAQCsubsetILM 1.0.8 | Laurent Gatto |  ERROR  |  skipped  |  | 
| MEDIPSData 0.99.3 | Lukas Chavez |  OK  |  OK  |  | 
| MEEBOdata 1.0.4 | Agnes Paquet |  OK  |  WARNINGS  |  | 
| minfiData 0.3.1 | Kasper Daniel Hansen |  OK  |  OK  |  | 
| miRNATarget 0.99.2 | Y-h. Taguchi |  OK  |  OK  |  | 
| mosaicsExample 0.99.7 | Dongjun Chung |  OK  |  OK  |  | 
| mouse4302barcodevecs 1.0.5 | Matthew N. McCall |  OK  |  OK  |  | 
| msdata 0.1.12 | Steffen Neumann |  OK  |  WARNINGS  |  | 
| Mulder2012 0.2.2 | Xin Wang |  OK  |  OK  |  | 
| mvoutData 0.99.9 | VJ Carey |  OK  |  OK  |  | 
| NCIgraphData 0.99.5 | Laurent Jacob |  OK  |  WARNINGS  |  | 
| Neve2006 0.1.15 | VJ Carey |  OK  |  OK  |  | 
| pasilla 0.2.15 | Alejandro Reyes |  OK  |  WARNINGS  |  | 
| pasillaBamSubset 0.0.6 | H. Pages |  OK  |  OK  |  | 
| pcaGoPromoter.Hs.hg19 0.99.3 | Morten Hansen, |  OK  |  OK  |  | 
| pcaGoPromoter.Mm.mm9 0.99.3 | Morten Hansen, |  OK  |  OK  |  | 
| pcaGoPromoter.Rn.rn4 0.99.3 | Morten Hansen, |  OK  |  OK  |  | 
| pd.atdschip.tiling 0.0.4 | Kristof De Beuf |  OK  |  OK  |  | 
| ppiData 0.1.18 | Tony Chiang |  OK  |  WARNINGS  |  | 
| PREDAsampledata 0.2.6 | Francesco Ferrari |  OK  |  WARNINGS  |  | 
| ProData 1.0.7 | Xiaochun Li |  OK  |  OK  |  | 
| pumadata 1.99.4 | Richard Pearson |  OK  |  WARNINGS  |  | 
| PWMEnrich.Dmelanogaster.background 2.0.0 | Robert Stojnic |  OK  |  ERROR  |  | 
| rheumaticConditionWOLLBOLD 1.0.2 | Alejandro Quiroz-Zarate |  OK  |  OK  |  | 
| RMassBankData 0.99.1 | Michael Stravs |  OK  |  OK  |  | 
| RNAinteractMAPK 1.0.10 | Bernd Fischer |  OK  |  OK  |  | 
| RNASeqDataSubset 0.99.1 | D. Bindreither |  OK  |  OK  |  | 
| RnaSeqTutorial 0.0.11 | Nicolas Delhomme |  OK  |  OK  |  | 
| serumStimulation 0.99.3 | Morten Hansen, |  OK  |  OK  |  | 
| simpIntLists 0.99.3 | Kircicegi Korkmaz |  OK  |  WARNINGS  |  | 
| SNAData 1.8.5 | Denise Scholtens |  OK  |  OK  |  | 
| SpikeIn 1.4.9 | Rafael A. Irizarry |  OK  |  WARNINGS  |  | 
| SpikeInSubset 1.2.12 | Rafael A. Irizarry |  OK  |  WARNINGS  |  | 
| stemHypoxia 0.99.2 | Cristobal Fresno |  OK  |  OK  |  | 
| stjudem 1.2.8 | Joern Toedling |  OK  |  OK  |  | 
| synapterdata 0.99.3 | Laurent Gatto |  OK  |  OK  |  | 
| TargetSearchData 1.0.8 | Alvaro Cuadros-Inostroza |  OK  |  OK  |  | 
| TCGAMethylation450k 0.99.3 | Sean Davis |  OK  |  OK  |  | 
| tinesath1cdf 1.0.8 | Tine Casneuf |  OK  |  WARNINGS  |  | 
| tinesath1probe 1.0.8 | Tine Casneuf |  OK  |  WARNINGS  |  | 
| tweeDEseqCountData 1.0.8 | Juan R Gonzalez |  OK  |  OK  |  | 
| waveTilingData 0.99.1 | Kristof De Beuf |  OK  |  OK  |  | 
| XhybCasneuf 1.0.10 | Tineke Casneuf |  OK  |  WARNINGS  |  | 
| yeastCC 1.2.17 | Sandrine Dudoit |  OK  |  WARNINGS  |  | 
| yeastExpData 0.9.21 | R. Gentleman |  OK  |  WARNINGS  |  | 
| yeastGSData 0.1.9 | R. Gentleman |  OK  |  WARNINGS  |  | 
| yeastNagalakshmi 0.99.5 | Bioconductor Package Maintainer |  OK  |  OK  |  | 
| yeastRNASeq 0.0.7 | J. Bullard |  OK  |  WARNINGS  |  |