| Back to the "Multiple platform build/check report" |
| Package 34/61 | Hostname | OS / Arch | BUILD | CHECK | BUILD BIN | ||||
| humanStemCell 0.2.0 R. Gentleman
| lamb1 | Linux (SUSE 10.1) / x86_64 | [ OK ] | WARNINGS | |||||
| liverpool | Windows Server 2003 R2 (32-bit) / x64 | OK | WARNINGS | OK | |||||
| pitt | Mac OS X Tiger (10.4.11) / i386 | OK | WARNINGS | OK |
| Package: humanStemCell |
| Version: 0.2.0 |
| Command: /home/biocbuild/bbs-2.2-bioc/R/bin/R CMD build humanStemCell |
| StartedAt: 2008-10-16 13:08:20 -0700 (Thu, 16 Oct 2008) |
| EndedAt: 2008-10-16 13:09:45 -0700 (Thu, 16 Oct 2008) |
| EllapsedTime: 84.3 seconds |
| RetCode: 0 |
| Status: OK |
| PackageFile: humanStemCell_0.2.0.tar.gz |
| PackageFileSize: 30.84 MiB |
* checking for file 'humanStemCell/DESCRIPTION' ... OK * preparing 'humanStemCell': * checking DESCRIPTION meta-information ... OK * removing junk files * checking for LF line-endings in source and make files * checking for empty or unneeded directories * building 'humanStemCell_0.2.0.tar.gz'