| lamb1 | Linux (SUSE 10.1) / x86_64 |  |  |  | 
| liverpool | Windows Server 2003 R2 (32-bit) / x64 |  |  |  | 
| pitt | Mac OS X Tiger (10.4.11) / i386 |  |  |  | 
| affydata 1.11.3 Laurent
 
 | Last Changed Rev: 410 / Revision: 729 |  | Last Changed Date: 2007-08-07 18:27:33 -0700 | 
 | lamb1 | Linux (SUSE 10.1) / x86_64 | OK | OK |  | 
| liverpool | Windows Server 2003 R2 (32-bit) / x64 | OK | OK | OK | 
| pitt | Mac OS X Tiger (10.4.11) / i386 | OK | OK | OK | 
| AffymetrixDataTestFiles 0.1.1 Henrik Bengtsson
 
 | Last Changed Rev: 610 / Revision: 729 |  | Last Changed Date: 2008-04-08 17:50:50 -0700 | 
 | lamb1 | Linux (SUSE 10.1) / x86_64 | OK | OK |  | 
| liverpool | Windows Server 2003 R2 (32-bit) / x64 | OK | OK | OK | 
| pitt | Mac OS X Tiger (10.4.11) / i386 | OK | OK | OK | 
| ALL 1.4.4 Xiaochun Li
 
 | Last Changed Rev: 670 / Revision: 729 |  | Last Changed Date: 2008-06-10 09:44:29 -0700 | 
 | lamb1 | Linux (SUSE 10.1) / x86_64 | OK | OK |  | 
| liverpool | Windows Server 2003 R2 (32-bit) / x64 | OK | OK | OK | 
| pitt | Mac OS X Tiger (10.4.11) / i386 | OK | OK | OK | 
| ALLMLL 1.2.2 B. M. Bolstad
 
 | Last Changed Rev: 253 / Revision: 729 |  | Last Changed Date: 2007-04-15 13:06:52 -0700 | 
 | lamb1 | Linux (SUSE 10.1) / x86_64 | OK | OK |  | 
| liverpool | Windows Server 2003 R2 (32-bit) / x64 | OK | OK | OK | 
| pitt | Mac OS X Tiger (10.4.11) / i386 | OK | OK | OK | 
| AmpAffyExample 1.2.2 Rafael A. Irizarry
 
 | Last Changed Rev: 298 / Revision: 729 |  | Last Changed Date: 2007-05-13 22:20:57 -0700 | 
 | lamb1 | Linux (SUSE 10.1) / x86_64 | OK | OK |  | 
| liverpool | Windows Server 2003 R2 (32-bit) / x64 | OK | OK | OK | 
| pitt | Mac OS X Tiger (10.4.11) / i386 | OK | OK | OK | 
| beta7 0.6.0 Jean Yang
 
 | Last Changed Rev: 142 / Revision: 729 |  | Last Changed Date: 2006-09-28 18:17:09 -0700 | 
 | lamb1 | Linux (SUSE 10.1) / x86_64 | OK | OK |  | 
| liverpool | Windows Server 2003 R2 (32-bit) / x64 | OK | OK | OK | 
| pitt | Mac OS X Tiger (10.4.11) / i386 | OK | OK | OK | 
| bronchialIL13 1.0-3 Vince Carey
 
 | Last Changed Rev: 435 / Revision: 729 |  | Last Changed Date: 2007-09-07 20:25:17 -0700 | 
 | lamb1 | Linux (SUSE 10.1) / x86_64 | OK | OK |  | 
| liverpool | Windows Server 2003 R2 (32-bit) / x64 | OK | OK | OK | 
| pitt | Mac OS X Tiger (10.4.11) / i386 | OK | OK | OK | 
| CCl4 1.0.7 Audrey Kauffmann
 
 | Last Changed Rev: 545 / Revision: 729 |  | Last Changed Date: 2008-01-25 02:00:42 -0800 | 
 | lamb1 | Linux (SUSE 10.1) / x86_64 | OK | OK |  | 
| liverpool | Windows Server 2003 R2 (32-bit) / x64 | OK | OK | OK | 
| pitt | Mac OS X Tiger (10.4.11) / i386 | OK | OK | OK | 
| ccTutorial 0.9.9 Joern Toedling
 
 | Last Changed Rev: 719 / Revision: 729 |  | Last Changed Date: 2008-10-06 03:05:16 -0700 | 
 | lamb1 | Linux (SUSE 10.1) / x86_64 | OK | OK |  | 
| liverpool | Windows Server 2003 R2 (32-bit) / x64 | OK | OK | OK | 
| pitt | Mac OS X Tiger (10.4.11) / i386 | OK | OK | OK | 
| CLL 1.2.4 Robert Gentleman
 
 | Last Changed Rev: 483 / Revision: 729 |  | Last Changed Date: 2007-10-05 13:29:00 -0700 | 
 | lamb1 | Linux (SUSE 10.1) / x86_64 | OK | OK |  | 
| liverpool | Windows Server 2003 R2 (32-bit) / x64 | OK | OK | OK | 
| pitt | Mac OS X Tiger (10.4.11) / i386 | OK | OK | OK | 
| colonCA 1.4.2 W Sylvia Merk
 
 | Last Changed Rev: 463 / Revision: 729 |  | Last Changed Date: 2007-09-15 19:52:14 -0700 | 
 | lamb1 | Linux (SUSE 10.1) / x86_64 | OK | OK |  | 
| liverpool | Windows Server 2003 R2 (32-bit) / x64 | OK | OK | OK | 
| pitt | Mac OS X Tiger (10.4.11) / i386 | OK | OK | OK | 
| davidTiling 1.2.8 Wolfgang Huber
 
 | Last Changed Rev: 724 / Revision: 729 |  | Last Changed Date: 2008-10-08 08:55:01 -0700 | 
 | lamb1 | Linux (SUSE 10.1) / x86_64 | OK | OK |  | 
| liverpool | Windows Server 2003 R2 (32-bit) / x64 | OK | OK | OK | 
| pitt | Mac OS X Tiger (10.4.11) / i386 | OK | OK | OK | 
| ecoliLeucine 1.2.1 Laurent Gautier
 
 | Last Changed Rev: 288 / Revision: 729 |  | Last Changed Date: 2007-04-19 16:52:19 -0700 | 
 | lamb1 | Linux (SUSE 10.1) / x86_64 | OK | OK |  | 
| liverpool | Windows Server 2003 R2 (32-bit) / x64 | OK | OK | OK | 
| pitt | Mac OS X Tiger (10.4.11) / i386 | OK | OK | OK | 
| encoDnaseI 0.0-17 VJ Carey
 
 | Last Changed Rev: 656 / Revision: 729 |  | Last Changed Date: 2008-05-27 11:03:17 -0700 | 
 | lamb1 | Linux (SUSE 10.1) / x86_64 | ERROR | skipped |  | 
| liverpool | Windows Server 2003 R2 (32-bit) / x64 | ERROR | skipped | skipped | 
| pitt | Mac OS X Tiger (10.4.11) / i386 | ERROR | skipped | skipped | 
| estrogen 1.8.2 R. Gentleman
 
 | Last Changed Rev: 348 / Revision: 729 |  | Last Changed Date: 2007-06-28 17:03:35 -0700 | 
 | lamb1 | Linux (SUSE 10.1) / x86_64 | OK | OK |  | 
| liverpool | Windows Server 2003 R2 (32-bit) / x64 | OK | OK | OK | 
| pitt | Mac OS X Tiger (10.4.11) / i386 | OK | OK | OK | 
| faahKO 1.2.1 Colin A. Smith
 
 | Last Changed Rev: 695 / Revision: 729 |  | Last Changed Date: 2008-07-16 14:26:39 -0700 | 
 | lamb1 | Linux (SUSE 10.1) / x86_64 | OK | ERROR |  | 
| liverpool | Windows Server 2003 R2 (32-bit) / x64 | OK | ERROR | OK | 
| pitt | Mac OS X Tiger (10.4.11) / i386 | OK | ERROR | OK | 
| facsDorit 1.4.0 Florian Hahne
 
 | Last Changed Rev: 142 / Revision: 729 |  | Last Changed Date: 2006-09-28 18:17:09 -0700 | 
 | lamb1 | Linux (SUSE 10.1) / x86_64 | OK | WARNINGS |  | 
| liverpool | Windows Server 2003 R2 (32-bit) / x64 | OK | WARNINGS | OK | 
| pitt | Mac OS X Tiger (10.4.11) / i386 | OK | WARNINGS | OK | 
| fibroEset 1.4.2 Sylvia Merk
 
 | Last Changed Rev: 257 / Revision: 729 |  | Last Changed Date: 2007-04-15 15:23:07 -0700 | 
 | lamb1 | Linux (SUSE 10.1) / x86_64 | OK | OK |  | 
| liverpool | Windows Server 2003 R2 (32-bit) / x64 | OK | OK | OK | 
| pitt | Mac OS X Tiger (10.4.11) / i386 | OK | OK | OK | 
| gaschYHS 1.0.0 Vince Carey
 
 | Last Changed Rev: 163 / Revision: 729 |  | Last Changed Date: 2006-10-10 12:38:08 -0700 | 
 | lamb1 | Linux (SUSE 10.1) / x86_64 | OK | OK |  | 
| liverpool | Windows Server 2003 R2 (32-bit) / x64 | OK | OK | OK | 
| pitt | Mac OS X Tiger (10.4.11) / i386 | OK | OK | OK | 
| gatingMLData 1.0.1 Nishant Gopalakrishnan
 
 | Last Changed Rev: 729 / Revision: 729 |  | Last Changed Date: 2008-10-14 11:09:02 -0700 | 
 | lamb1 | Linux (SUSE 10.1) / x86_64 | OK | OK |  | 
| liverpool | Windows Server 2003 R2 (32-bit) / x64 | OK | OK | OK | 
| pitt | Mac OS X Tiger (10.4.11) / i386 | OK | OK | OK | 
| GGdata 0.99.2 VJ Carey
 
 | Last Changed Rev: 711 / Revision: 729 |  | Last Changed Date: 2008-09-13 11:47:15 -0700 | 
 | lamb1 | Linux (SUSE 10.1) / x86_64 | OK | ERROR |  | 
| liverpool | Windows Server 2003 R2 (32-bit) / x64 | OK | ERROR | OK | 
| pitt | Mac OS X Tiger (10.4.11) / i386 | OK | ERROR | OK | 
| golubEsets 1.4.4 Vince Carey
 
 | Last Changed Rev: 439 / Revision: 729 |  | Last Changed Date: 2007-09-07 20:41:45 -0700 | 
 | lamb1 | Linux (SUSE 10.1) / x86_64 | OK | OK |  | 
| liverpool | Windows Server 2003 R2 (32-bit) / x64 | OK | OK | OK | 
| pitt | Mac OS X Tiger (10.4.11) / i386 | OK | OK | OK | 
| hapmap100khind 1.3 Benilton Carvalho
 
 | Last Changed Rev: 466 / Revision: 729 |  | Last Changed Date: 2007-09-17 07:20:21 -0700 | 
 | lamb1 | Linux (SUSE 10.1) / x86_64 | OK | OK |  | 
| liverpool | Windows Server 2003 R2 (32-bit) / x64 | OK | OK | OK | 
| pitt | Mac OS X Tiger (10.4.11) / i386 | OK | OK | OK | 
| hapmap100kxba 1.3 Benilton Carvalho
 
 | Last Changed Rev: 466 / Revision: 729 |  | Last Changed Date: 2007-09-17 07:20:21 -0700 | 
 | lamb1 | Linux (SUSE 10.1) / x86_64 | OK | OK |  | 
| liverpool | Windows Server 2003 R2 (32-bit) / x64 | OK | OK | OK | 
| pitt | Mac OS X Tiger (10.4.11) / i386 | OK | OK | OK | 
| hapmap500knsp 1.3 Benilton Carvalho
 
 | Last Changed Rev: 466 / Revision: 729 |  | Last Changed Date: 2007-09-17 07:20:21 -0700 | 
 | lamb1 | Linux (SUSE 10.1) / x86_64 | OK | OK |  | 
| liverpool | Windows Server 2003 R2 (32-bit) / x64 | OK | OK | OK | 
| pitt | Mac OS X Tiger (10.4.11) / i386 | OK | OK | OK | 
| hapmap500ksty 1.3 Benilton Carvalho
 
 | Last Changed Rev: 466 / Revision: 729 |  | Last Changed Date: 2007-09-17 07:20:21 -0700 | 
 | lamb1 | Linux (SUSE 10.1) / x86_64 | OK | OK |  | 
| liverpool | Windows Server 2003 R2 (32-bit) / x64 | OK | OK | OK | 
| pitt | Mac OS X Tiger (10.4.11) / i386 | OK | OK | OK | 
| hapmapsnp5 1.3 Benilton Carvalho
 
 | Last Changed Rev: 543 / Revision: 729 |  | Last Changed Date: 2008-01-18 10:46:58 -0800 | 
 | lamb1 | Linux (SUSE 10.1) / x86_64 | OK | OK |  | 
| liverpool | Windows Server 2003 R2 (32-bit) / x64 | OK | OK | OK | 
| pitt | Mac OS X Tiger (10.4.11) / i386 | OK | OK | OK | 
| hapmapsnp6 1.3 Benilton Carvalho
 
 | Last Changed Rev: 543 / Revision: 729 |  | Last Changed Date: 2008-01-18 10:46:58 -0800 | 
 | lamb1 | Linux (SUSE 10.1) / x86_64 | OK | OK |  | 
| liverpool | Windows Server 2003 R2 (32-bit) / x64 | OK | OK | OK | 
| pitt | Mac OS X Tiger (10.4.11) / i386 | OK | OK | OK | 
| harbChIP 0.0.7 VJ Carey
 
 | Last Changed Rev: 676 / Revision: 729 |  | Last Changed Date: 2008-06-25 09:20:50 -0700 | 
 | lamb1 | Linux (SUSE 10.1) / x86_64 | OK | OK |  | 
| liverpool | Windows Server 2003 R2 (32-bit) / x64 | OK | OK | OK | 
| pitt | Mac OS X Tiger (10.4.11) / i386 | OK | OK | OK | 
| HEEBOdata 1.0.0 Agnes Paquet
 
 | Last Changed Rev: 142 / Revision: 729 |  | Last Changed Date: 2006-09-28 18:17:09 -0700 | 
 | lamb1 | Linux (SUSE 10.1) / x86_64 | OK | OK |  | 
| liverpool | Windows Server 2003 R2 (32-bit) / x64 | OK | OK | OK | 
| pitt | Mac OS X Tiger (10.4.11) / i386 | OK | OK | OK | 
| hgu2beta7 1.2.1 Biocore Team c/o BioC user list
 
 | Last Changed Rev: 453 / Revision: 729 |  | Last Changed Date: 2007-09-10 10:29:54 -0700 | 
 | lamb1 | Linux (SUSE 10.1) / x86_64 | OK | OK |  | 
| liverpool | Windows Server 2003 R2 (32-bit) / x64 | OK | OK | OK | 
| pitt | Mac OS X Tiger (10.4.11) / i386 | OK | OK | OK | 
| HIVcDNAvantWout03 1.2.0 Chris Fraley
 
 | Last Changed Rev: 227 / Revision: 729 |  | Last Changed Date: 2007-01-10 09:38:56 -0800 | 
 | lamb1 | Linux (SUSE 10.1) / x86_64 | OK | OK |  | 
| liverpool | Windows Server 2003 R2 (32-bit) / x64 | OK | OK | OK | 
| pitt | Mac OS X Tiger (10.4.11) / i386 | OK | OK | OK | 
| hmyriB36 0.99.0 Vincent Carey
 
 | Last Changed Rev: 710 / Revision: 729 |  | Last Changed Date: 2008-09-12 14:41:44 -0700 | 
 | lamb1 | Linux (SUSE 10.1) / x86_64 | OK | ERROR |  | 
| liverpool | Windows Server 2003 R2 (32-bit) / x64 | OK | ERROR | OK | 
| pitt | Mac OS X Tiger (10.4.11) / i386 | OK | ERROR | OK | 
| humanStemCell 0.2.0 R. Gentleman
 
 | Last Changed Rev: 634 / Revision: 729 |  | Last Changed Date: 2008-04-16 12:30:31 -0700 | 
 | lamb1 | Linux (SUSE 10.1) / x86_64 | OK | WARNINGS |  | 
| liverpool | Windows Server 2003 R2 (32-bit) / x64 | OK | WARNINGS | OK | 
| pitt | Mac OS X Tiger (10.4.11) / i386 | OK | WARNINGS | OK | 
| ITALICSData 2.0.0 Guillem Rigaill
 
 | Last Changed Rev: 679 / Revision: 729 |  | Last Changed Date: 2008-06-30 14:13:02 -0700 | 
 | lamb1 | Linux (SUSE 10.1) / x86_64 | OK | OK |  | 
| liverpool | Windows Server 2003 R2 (32-bit) / x64 | OK | OK | OK | 
| pitt | Mac OS X Tiger (10.4.11) / i386 | OK | OK | OK | 
| Iyer517 1.4.2 Vince Carey
 
 | Last Changed Rev: 390 / Revision: 729 |  | Last Changed Date: 2007-07-10 04:15:48 -0700 | 
 | lamb1 | Linux (SUSE 10.1) / x86_64 | OK | OK |  | 
| liverpool | Windows Server 2003 R2 (32-bit) / x64 | OK | OK | OK | 
| pitt | Mac OS X Tiger (10.4.11) / i386 | OK | OK | OK | 
| kidpack 1.5.1 Wolfgang Huber
 
 | Last Changed Rev: 462 / Revision: 729 |  | Last Changed Date: 2007-09-15 16:45:57 -0700 | 
 | lamb1 | Linux (SUSE 10.1) / x86_64 | OK | OK |  | 
| liverpool | Windows Server 2003 R2 (32-bit) / x64 | OK | OK | OK | 
| pitt | Mac OS X Tiger (10.4.11) / i386 | OK | OK | OK | 
| lumiBarnes 1.3.3 Pan Du
 
 | Last Changed Rev: 482 / Revision: 729 |  | Last Changed Date: 2007-10-01 19:40:14 -0700 | 
 | lamb1 | Linux (SUSE 10.1) / x86_64 | OK | OK |  | 
| liverpool | Windows Server 2003 R2 (32-bit) / x64 | OK | OK | OK | 
| pitt | Mac OS X Tiger (10.4.11) / i386 | OK | OK | OK | 
| lungExpression 0.0.6 Robert Scharpf
 
 | Last Changed Rev: 409 / Revision: 729 |  | Last Changed Date: 2007-08-06 12:14:18 -0700 | 
 | lamb1 | Linux (SUSE 10.1) / x86_64 | OK | OK |  | 
| liverpool | Windows Server 2003 R2 (32-bit) / x64 | OK | OK | OK | 
| pitt | Mac OS X Tiger (10.4.11) / i386 | OK | OK | OK | 
| maqcExpression4plex 1.2 Benilton Carvalho
 
 | Last Changed Rev: 399 / Revision: 729 |  | Last Changed Date: 2007-07-28 14:59:14 -0700 | 
 | lamb1 | Linux (SUSE 10.1) / x86_64 | OK | OK |  | 
| liverpool | Windows Server 2003 R2 (32-bit) / x64 | OK | OK | OK | 
| pitt | Mac OS X Tiger (10.4.11) / i386 | OK | OK | OK | 
| MAQCsubset 1.0.13 VJ Carey
 
 | Last Changed Rev: 659 / Revision: 729 |  | Last Changed Date: 2008-05-27 12:56:09 -0700 | 
 | lamb1 | Linux (SUSE 10.1) / x86_64 | OK | OK |  | 
| liverpool | Windows Server 2003 R2 (32-bit) / x64 | OK | OK | OK | 
| pitt | Mac OS X Tiger (10.4.11) / i386 | OK | OK | OK | 
| MAQCsubsetAFX 1.0.0 Laurent Gatto
 
 | Last Changed Rev: 572 / Revision: 729 |  | Last Changed Date: 2008-03-12 02:29:20 -0700 | 
 | lamb1 | Linux (SUSE 10.1) / x86_64 | OK | OK |  | 
| liverpool | Windows Server 2003 R2 (32-bit) / x64 | OK | OK | OK | 
| pitt | Mac OS X Tiger (10.4.11) / i386 | OK | OK | OK | 
| MAQCsubsetILM 1.0.0 Laurent Gatto
 
 | Last Changed Rev: 584 / Revision: 729 |  | Last Changed Date: 2008-03-12 03:46:46 -0700 | 
 | lamb1 | Linux (SUSE 10.1) / x86_64 | OK | OK |  | 
| liverpool | Windows Server 2003 R2 (32-bit) / x64 | OK | OK | OK | 
| pitt | Mac OS X Tiger (10.4.11) / i386 | OK | OK | OK | 
| MEEBOdata 1.0.0 Agnes Paquet
 
 | Last Changed Rev: 142 / Revision: 729 |  | Last Changed Date: 2006-09-28 18:17:09 -0700 | 
 | lamb1 | Linux (SUSE 10.1) / x86_64 | OK | OK |  | 
| liverpool | Windows Server 2003 R2 (32-bit) / x64 | OK | OK | OK | 
| pitt | Mac OS X Tiger (10.4.11) / i386 | OK | OK | OK | 
| msdata 0.1.3 Steffen Neumann
 
 | Last Changed Rev: 693 / Revision: 729 |  | Last Changed Date: 2008-07-14 06:49:32 -0700 | 
 | lamb1 | Linux (SUSE 10.1) / x86_64 | OK | ERROR |  | 
| liverpool | Windows Server 2003 R2 (32-bit) / x64 | OK | ERROR | OK | 
| pitt | Mac OS X Tiger (10.4.11) / i386 | OK | ERROR | OK | 
| mvoutData 0.99.0 VJ Carey
 
 | Last Changed Rev: 717 / Revision: 729 |  | Last Changed Date: 2008-09-28 19:44:16 -0700 | 
 | lamb1 | Linux (SUSE 10.1) / x86_64 | OK | OK |  | 
| liverpool | Windows Server 2003 R2 (32-bit) / x64 | OK | OK | OK | 
| pitt | Mac OS X Tiger (10.4.11) / i386 | OK | OK | OK | 
| Neve2006 0.1.6 VJ Carey
 
 | Last Changed Rev: 661 / Revision: 729 |  | Last Changed Date: 2008-05-29 19:15:34 -0700 | 
 | lamb1 | Linux (SUSE 10.1) / x86_64 | OK | OK |  | 
| liverpool | Windows Server 2003 R2 (32-bit) / x64 | OK | OK | OK | 
| pitt | Mac OS X Tiger (10.4.11) / i386 | OK | OK | OK | 
| ppiData 0.1.13 Tony Chiang
 
 | Last Changed Rev: 701 / Revision: 729 |  | Last Changed Date: 2008-09-03 14:16:31 -0700 | 
 | lamb1 | Linux (SUSE 10.1) / x86_64 | OK | OK |  | 
| liverpool | Windows Server 2003 R2 (32-bit) / x64 | OK | OK | OK | 
| pitt | Mac OS X Tiger (10.4.11) / i386 | OK | OK | OK | 
| ProData 0.4.1 Xiaochun Li
 
 | Last Changed Rev: 158 / Revision: 729 |  | Last Changed Date: 2006-10-09 17:54:27 -0700 | 
 | lamb1 | Linux (SUSE 10.1) / x86_64 | OK | WARNINGS |  | 
| liverpool | Windows Server 2003 R2 (32-bit) / x64 | OK | WARNINGS | OK | 
| pitt | Mac OS X Tiger (10.4.11) / i386 | OK | WARNINGS | OK | 
| pumadata 1.0.1 Richard Pearson
 
 | Last Changed Rev: 699 / Revision: 729 |  | Last Changed Date: 2008-08-28 09:23:53 -0700 | 
 | lamb1 | Linux (SUSE 10.1) / x86_64 | OK | OK |  | 
| liverpool | Windows Server 2003 R2 (32-bit) / x64 | OK | OK | OK | 
| pitt | Mac OS X Tiger (10.4.11) / i386 | OK | OK | OK | 
| rfcdmin 1.6.5 N. Le Meur
 
 | Last Changed Rev: 456 / Revision: 729 |  | Last Changed Date: 2007-09-11 16:51:21 -0700 | 
 | lamb1 | Linux (SUSE 10.1) / x86_64 | OK | OK |  | 
| liverpool | Windows Server 2003 R2 (32-bit) / x64 | OK | OK | OK | 
| pitt | Mac OS X Tiger (10.4.11) / i386 | OK | OK | OK | 
| SNAData 1.8.0 Denise Scholtens
 
 | Last Changed Rev: 142 / Revision: 729 |  | Last Changed Date: 2006-09-28 18:17:09 -0700 | 
 | lamb1 | Linux (SUSE 10.1) / x86_64 | ERROR | skipped |  | 
| liverpool | Windows Server 2003 R2 (32-bit) / x64 | ERROR | skipped | skipped | 
| pitt | Mac OS X Tiger (10.4.11) / i386 | ERROR | skipped | skipped | 
| SpikeIn 1.4.1 Rafael A. Irizarry
 
 | Last Changed Rev: 233 / Revision: 729 |  | Last Changed Date: 2007-03-02 15:09:05 -0800 | 
 | lamb1 | Linux (SUSE 10.1) / x86_64 | OK | OK |  | 
| liverpool | Windows Server 2003 R2 (32-bit) / x64 | OK | OK | OK | 
| pitt | Mac OS X Tiger (10.4.11) / i386 | OK | OK | OK | 
| SpikeInSubset 1.2.6 Rafael A. Irizarry
 
 | Last Changed Rev: 474 / Revision: 729 |  | Last Changed Date: 2007-09-18 17:49:34 -0700 | 
 | lamb1 | Linux (SUSE 10.1) / x86_64 | OK | OK |  | 
| liverpool | Windows Server 2003 R2 (32-bit) / x64 | OK | OK | OK | 
| pitt | Mac OS X Tiger (10.4.11) / i386 | OK | OK | OK | 
| stjudem 1.2.0 Joern Toedling
 
 | Last Changed Rev: 142 / Revision: 729 |  | Last Changed Date: 2006-09-28 18:17:09 -0700 | 
 | lamb1 | Linux (SUSE 10.1) / x86_64 | OK | OK |  | 
| liverpool | Windows Server 2003 R2 (32-bit) / x64 | OK | OK | OK | 
| pitt | Mac OS X Tiger (10.4.11) / i386 | OK | OK | OK | 
| tinesath1cdf 1.0.2 Tine Casneuf
 
 | Last Changed Rev: 362 / Revision: 729 |  | Last Changed Date: 2007-07-06 08:47:27 -0700 | 
 | lamb1 | Linux (SUSE 10.1) / x86_64 | OK | OK |  | 
| liverpool | Windows Server 2003 R2 (32-bit) / x64 | OK | OK | OK | 
| pitt | Mac OS X Tiger (10.4.11) / i386 | OK | OK | OK | 
| tinesath1probe 1.0.2 Tine Casneuf
 
 | Last Changed Rev: 364 / Revision: 729 |  | Last Changed Date: 2007-07-06 08:50:55 -0700 | 
 | lamb1 | Linux (SUSE 10.1) / x86_64 | OK | OK |  | 
| liverpool | Windows Server 2003 R2 (32-bit) / x64 | OK | OK | OK | 
| pitt | Mac OS X Tiger (10.4.11) / i386 | OK | OK | OK | 
| XhybCasneuf 1.0.0 Tineke Casneuf
 
 | Last Changed Rev: 360 / Revision: 729 |  | Last Changed Date: 2007-07-06 08:43:53 -0700 | 
 | lamb1 | Linux (SUSE 10.1) / x86_64 | OK | OK |  | 
| liverpool | Windows Server 2003 R2 (32-bit) / x64 | OK | OK | OK | 
| pitt | Mac OS X Tiger (10.4.11) / i386 | OK | OK | OK | 
| yeastCC 1.2.6 Sandrine Dudoit
 
 | Last Changed Rev: 397 / Revision: 729 |  | Last Changed Date: 2007-07-25 14:06:01 -0700 | 
 | lamb1 | Linux (SUSE 10.1) / x86_64 | OK | OK |  | 
| liverpool | Windows Server 2003 R2 (32-bit) / x64 | OK | OK | OK | 
| pitt | Mac OS X Tiger (10.4.11) / i386 | OK | OK | OK | 
| yeastExpData 0.9.13 R. Gentleman
 
 | Last Changed Rev: 705 / Revision: 729 |  | Last Changed Date: 2008-09-08 12:10:29 -0700 | 
 | lamb1 | Linux (SUSE 10.1) / x86_64 | OK | OK |  | 
| liverpool | Windows Server 2003 R2 (32-bit) / x64 | OK | OK | OK | 
| pitt | Mac OS X Tiger (10.4.11) / i386 | OK | OK | OK | 
| yeastGSData 0.1.1 R. Gentleman
 
 | Last Changed Rev: 723 / Revision: 729 |  | Last Changed Date: 2008-10-07 11:44:01 -0700 | 
 | lamb1 | Linux (SUSE 10.1) / x86_64 | OK | OK |  | 
| liverpool | Windows Server 2003 R2 (32-bit) / x64 | OK | OK | OK | 
| pitt | Mac OS X Tiger (10.4.11) / i386 | OK | OK | OK |