| Back to the "Multiple platform build/check report" | 
| Package 5/65 | Hostname | OS / Arch | BUILD | CHECK | BUILD BIN | ||||
| AmpAffyExample 1.2.3 Rafael A. Irizarry 
  | wilson1 | Linux (openSUSE 11.1) / x86_64 | OK | ERROR | |||||
| liverpool | Windows Server 2003 R2 (32-bit) / x64 | OK | ERROR | ERROR | |||||
| pitt | Mac OS X Tiger (10.4.11) / i386 | OK | ERROR | ERROR | |||||
| pelham | Mac OS X Leopard (10.5.7) / i386 | [ OK ] | ERROR | ERROR | 
| Package: AmpAffyExample | 
| Version: 1.2.3 | 
| Command: /Library/Frameworks/R.framework/Versions/2.9/Resources/bin/R CMD build AmpAffyExample | 
| StartedAt: 2009-08-10 01:26:37 -0700 (Mon, 10 Aug 2009) | 
| EndedAt: 2009-08-10 01:26:44 -0700 (Mon, 10 Aug 2009) | 
| EllapsedTime: 7.2 seconds | 
| RetCode: 0 | 
| Status: OK | 
| PackageFile: AmpAffyExample_1.2.3.tar.gz | 
| PackageFileSize: 6.464 MiB | 
* checking for file 'AmpAffyExample/DESCRIPTION' ... OK * preparing 'AmpAffyExample': * checking DESCRIPTION meta-information ... OK * removing junk files * checking for LF line-endings in source and make files * checking for empty or unneeded directories * building 'AmpAffyExample_1.2.3.tar.gz'