| wilson1 | 
Linux (openSUSE 11.1) / x86_64  |  |  |  | 
| liverpool | 
Windows Server 2003 R2 (32-bit) / x64  |  |  |  | 
| pitt | 
Mac OS X Tiger (10.4.11) / i386  |  |  |  | 
| pelham | 
Mac OS X Leopard (10.5.7) / i386  |  |  |  | 
affydata 1.11.9 Laurent
 | Last Changed Rev: 867 / Revision: 938 |  | Last Changed Date: 2009-07-24 15:43:42 -0700 |  
  | wilson1  | Linux (openSUSE 11.1) / x86_64  |  ERROR  |  skipped  |  | 
| liverpool  | Windows Server 2003 R2 (32-bit) / x64  |  ERROR  |  skipped  |  skipped  | 
| pitt  | Mac OS X Tiger (10.4.11) / i386  |  ERROR  |  skipped  |  skipped  | 
| pelham  | Mac OS X Leopard (10.5.7) / i386  |  ERROR  |  skipped  |  skipped  | 
AffymetrixDataTestFiles 0.1.1 Henrik Bengtsson
 | Last Changed Rev: 610 / Revision: 938 |  | Last Changed Date: 2008-04-08 17:50:50 -0700 |  
  | wilson1  | Linux (openSUSE 11.1) / x86_64  |  OK  |  OK  |  | 
| liverpool  | Windows Server 2003 R2 (32-bit) / x64  |  OK  |  OK  |  OK  | 
| pitt  | Mac OS X Tiger (10.4.11) / i386  |  OK  |  OK  |  OK  | 
| pelham  | Mac OS X Leopard (10.5.7) / i386  |  OK  |  OK  |  OK  | 
ALL 1.4.6 Xiaochun Li
 | Last Changed Rev: 869 / Revision: 938 |  | Last Changed Date: 2009-07-24 15:46:50 -0700 |  
  | wilson1  | Linux (openSUSE 11.1) / x86_64  |  ERROR  |  skipped  |  | 
| liverpool  | Windows Server 2003 R2 (32-bit) / x64  |  ERROR  |  skipped  |  skipped  | 
| pitt  | Mac OS X Tiger (10.4.11) / i386  |  ERROR  |  skipped  |  skipped  | 
| pelham  | Mac OS X Leopard (10.5.7) / i386  |  ERROR  |  skipped  |  skipped  | 
ALLMLL 1.2.4 B. M. Bolstad
 | Last Changed Rev: 871 / Revision: 938 |  | Last Changed Date: 2009-07-24 15:57:30 -0700 |  
  | wilson1  | Linux (openSUSE 11.1) / x86_64  |  OK  |  ERROR  |  | 
| liverpool  | Windows Server 2003 R2 (32-bit) / x64  |  OK  |  ERROR  |  OK  | 
| pitt  | Mac OS X Tiger (10.4.11) / i386  |  OK  |  ERROR  |  OK  | 
| pelham  | Mac OS X Leopard (10.5.7) / i386  |  OK  |  ERROR  |  OK  | 
AmpAffyExample 1.2.3 Rafael A. Irizarry
 | Last Changed Rev: 873 / Revision: 938 |  | Last Changed Date: 2009-07-24 16:01:11 -0700 |  
  | wilson1  | Linux (openSUSE 11.1) / x86_64  |  OK  |  ERROR  |  | 
| liverpool  | Windows Server 2003 R2 (32-bit) / x64  |  OK  |  ERROR  |  ERROR  | 
| pitt  | Mac OS X Tiger (10.4.11) / i386  |  OK  |  ERROR  |  ERROR  | 
| pelham  | Mac OS X Leopard (10.5.7) / i386  |  OK  |  ERROR  |  ERROR  | 
beta7 1.0.0 Jean Yang
 | Last Changed Rev: 780 / Revision: 938 |  | Last Changed Date: 2009-05-08 11:53:22 -0700 |  
  | wilson1  | Linux (openSUSE 11.1) / x86_64  |  OK  |  OK  |  | 
| liverpool  | Windows Server 2003 R2 (32-bit) / x64  |  OK  |  OK  |  OK  | 
| pitt  | Mac OS X Tiger (10.4.11) / i386  |  OK  |  OK  |  OK  | 
| pelham  | Mac OS X Leopard (10.5.7) / i386  |  OK  |  OK  |  OK  | 
bronchialIL13 1.0-4 Vince Carey
 | Last Changed Rev: 875 / Revision: 938 |  | Last Changed Date: 2009-07-24 16:07:19 -0700 |  
  | wilson1  | Linux (openSUSE 11.1) / x86_64  |  OK  |  ERROR  |  | 
| liverpool  | Windows Server 2003 R2 (32-bit) / x64  |  OK  |  ERROR  |  OK  | 
| pitt  | Mac OS X Tiger (10.4.11) / i386  |  OK  |  ERROR  |  OK  | 
| pelham  | Mac OS X Leopard (10.5.7) / i386  |  OK  |  ERROR  |  OK  | 
CCl4 1.0.8 Audrey Kauffmann
 | Last Changed Rev: 877 / Revision: 938 |  | Last Changed Date: 2009-07-24 16:11:07 -0700 |  
  | wilson1  | Linux (openSUSE 11.1) / x86_64  |  ERROR  |  skipped  |  | 
| liverpool  | Windows Server 2003 R2 (32-bit) / x64  |  ERROR  |  skipped  |  skipped  | 
| pitt  | Mac OS X Tiger (10.4.11) / i386  |  ERROR  |  skipped  |  skipped  | 
| pelham  | Mac OS X Leopard (10.5.7) / i386  |  ERROR  |  skipped  |  skipped  | 
ccTutorial 1.0.9 Joern Toedling
 | Last Changed Rev: 935 / Revision: 938 |  | Last Changed Date: 2009-07-31 01:21:16 -0700 |  
  | wilson1  | Linux (openSUSE 11.1) / x86_64  |  ERROR  |  skipped  |  | 
| liverpool  | Windows Server 2003 R2 (32-bit) / x64  |  ERROR  |  skipped  |  skipped  | 
| pitt  | Mac OS X Tiger (10.4.11) / i386  |  ERROR  |  skipped  |  skipped  | 
| pelham  | Mac OS X Leopard (10.5.7) / i386  |  ERROR  |  skipped  |  skipped  | 
CLL 1.2.6 Robert Gentleman
 | Last Changed Rev: 881 / Revision: 938 |  | Last Changed Date: 2009-07-24 16:27:46 -0700 |  
  | wilson1  | Linux (openSUSE 11.1) / x86_64  |  OK  |  ERROR  |  | 
| liverpool  | Windows Server 2003 R2 (32-bit) / x64  |  OK  |  ERROR  |  ERROR  | 
| pitt  | Mac OS X Tiger (10.4.11) / i386  |  OK  |  ERROR  |  ERROR  | 
| pelham  | Mac OS X Leopard (10.5.7) / i386  |  OK  |  ERROR  |  ERROR  | 
colonCA 1.4.5 W Sylvia Merk
 | Last Changed Rev: 883 / Revision: 938 |  | Last Changed Date: 2009-07-24 16:29:57 -0700 |  
  | wilson1  | Linux (openSUSE 11.1) / x86_64  |  OK  |  ERROR  |  | 
| liverpool  | Windows Server 2003 R2 (32-bit) / x64  |  OK  |  ERROR  |  ERROR  | 
| pitt  | Mac OS X Tiger (10.4.11) / i386  |  OK  |  ERROR  |  ERROR  | 
| pelham  | Mac OS X Leopard (10.5.7) / i386  |  OK  |  ERROR  |  ERROR  | 
davidTiling 1.2.10 Wolfgang Huber
 | Last Changed Rev: 884 / Revision: 938 |  | Last Changed Date: 2009-07-24 16:39:47 -0700 |  
  | wilson1  | Linux (openSUSE 11.1) / x86_64  |  OK  |  ERROR  |  | 
| liverpool  | Windows Server 2003 R2 (32-bit) / x64  |  OK  |  ERROR  |  ERROR  | 
| pitt  | Mac OS X Tiger (10.4.11) / i386  |  OK  |  ERROR  |  ERROR  | 
| pelham  | Mac OS X Leopard (10.5.7) / i386  |  OK  |  ERROR  |  ERROR  | 
dyebiasexamples 1.0.3 Philip Lijnzaad
 | Last Changed Rev: 757 / Revision: 938 |  | Last Changed Date: 2009-04-03 14:32:25 -0700 |  
  | wilson1  | Linux (openSUSE 11.1) / x86_64  |  OK  |  OK  |  | 
| liverpool  | Windows Server 2003 R2 (32-bit) / x64  |  OK  |  OK  |  OK  | 
| pitt  | Mac OS X Tiger (10.4.11) / i386  |  OK  |  OK  |  OK  | 
| pelham  | Mac OS X Leopard (10.5.7) / i386  |  OK  |  OK  |  OK  | 
ecoliLeucine 1.2.4 Laurent Gautier
 | Last Changed Rev: 889 / Revision: 938 |  | Last Changed Date: 2009-07-24 16:56:49 -0700 |  
  | wilson1  | Linux (openSUSE 11.1) / x86_64  |  OK  |  ERROR  |  | 
| liverpool  | Windows Server 2003 R2 (32-bit) / x64  |  OK  |  ERROR  |  OK  | 
| pitt  | Mac OS X Tiger (10.4.11) / i386  |  OK  |  ERROR  |  OK  | 
| pelham  | Mac OS X Leopard (10.5.7) / i386  |  OK  |  ERROR  |  OK  | 
encoDnaseI 0.1-1 VJ Carey
 | Last Changed Rev: 891 / Revision: 938 |  | Last Changed Date: 2009-07-24 17:06:26 -0700 |  
  | wilson1  | Linux (openSUSE 11.1) / x86_64  |  ERROR  |  skipped  |  | 
| liverpool  | Windows Server 2003 R2 (32-bit) / x64  |  ERROR  |  skipped  |  skipped  | 
| pitt  | Mac OS X Tiger (10.4.11) / i386  |  ERROR  |  skipped  |  skipped  | 
| pelham  | Mac OS X Leopard (10.5.7) / i386  |  ERROR  |  skipped  |  skipped  | 
estrogen 1.8.3 R. Gentleman
 | Last Changed Rev: 815 / Revision: 938 |  | Last Changed Date: 2009-06-03 13:40:34 -0700 |  
  | wilson1  | Linux (openSUSE 11.1) / x86_64  |  OK  |  OK  |  | 
| liverpool  | Windows Server 2003 R2 (32-bit) / x64  |  OK  |  OK  |  OK  | 
| pitt  | Mac OS X Tiger (10.4.11) / i386  |  OK  |  OK  |  OK  | 
| pelham  | Mac OS X Leopard (10.5.7) / i386  |  OK  |  OK  |  OK  | 
faahKO 1.2.1 Colin A. Smith
 | Last Changed Rev: 695 / Revision: 938 |  | Last Changed Date: 2008-07-16 14:26:39 -0700 |  
  | wilson1  | Linux (openSUSE 11.1) / x86_64  |  OK  |  OK  |  | 
| liverpool  | Windows Server 2003 R2 (32-bit) / x64  |  OK  |  OK  |  OK  | 
| pitt  | Mac OS X Tiger (10.4.11) / i386  |  OK  |  OK  |  OK  | 
| pelham  | Mac OS X Leopard (10.5.7) / i386  |  OK  |  OK  |  OK  | 
facsDorit 1.4.1 Florian Hahne
 | Last Changed Rev: 848 / Revision: 938 |  | Last Changed Date: 2009-06-25 16:12:57 -0700 |  
  | wilson1  | Linux (openSUSE 11.1) / x86_64  |  OK  |  OK  |  | 
| liverpool  | Windows Server 2003 R2 (32-bit) / x64  |  OK  |  OK  |  OK  | 
| pitt  | Mac OS X Tiger (10.4.11) / i386  |  OK  |  OK  |  OK  | 
| pelham  | Mac OS X Leopard (10.5.7) / i386  |  OK  |  OK  |  OK  | 
fibroEset 1.4.3 Sylvia Merk
 | Last Changed Rev: 893 / Revision: 938 |  | Last Changed Date: 2009-07-24 17:10:53 -0700 |  
  | wilson1  | Linux (openSUSE 11.1) / x86_64  |  OK  |  ERROR  |  | 
| liverpool  | Windows Server 2003 R2 (32-bit) / x64  |  OK  |  ERROR  |  ERROR  | 
| pitt  | Mac OS X Tiger (10.4.11) / i386  |  OK  |  ERROR  |  ERROR  | 
| pelham  | Mac OS X Leopard (10.5.7) / i386  |  OK  |  ERROR  |  ERROR  | 
gaschYHS 1.0.1 Vince Carey
 | Last Changed Rev: 895 / Revision: 938 |  | Last Changed Date: 2009-07-24 17:14:43 -0700 |  
  | wilson1  | Linux (openSUSE 11.1) / x86_64  |  OK  |  ERROR  |  | 
| liverpool  | Windows Server 2003 R2 (32-bit) / x64  |  OK  |  ERROR  |  OK  | 
| pitt  | Mac OS X Tiger (10.4.11) / i386  |  OK  |  ERROR  |  OK  | 
| pelham  | Mac OS X Leopard (10.5.7) / i386  |  OK  |  ERROR  |  OK  | 
gatingMLData 1.0.2 Nishant Gopalakrishnan
 | Last Changed Rev: 792 / Revision: 938 |  | Last Changed Date: 2009-05-11 11:47:30 -0700 |  
  | wilson1  | Linux (openSUSE 11.1) / x86_64  |  OK  |  OK  |  | 
| liverpool  | Windows Server 2003 R2 (32-bit) / x64  |  OK  |  OK  |  OK  | 
| pitt  | Mac OS X Tiger (10.4.11) / i386  |  OK  |  OK  |  OK  | 
| pelham  | Mac OS X Leopard (10.5.7) / i386  |  OK  |  OK  |  OK  | 
gcspikelite 1.0.2 Mark Robinson
 | Last Changed Rev: 793 / Revision: 938 |  | Last Changed Date: 2009-05-11 11:48:05 -0700 |  
  | wilson1  | Linux (openSUSE 11.1) / x86_64  |  OK  |  WARNINGS  |  | 
| liverpool  | Windows Server 2003 R2 (32-bit) / x64  |  OK  |  WARNINGS  |  OK  | 
| pitt  | Mac OS X Tiger (10.4.11) / i386  |  OK  |  WARNINGS  |  OK  | 
| pelham  | Mac OS X Leopard (10.5.7) / i386  |  OK  |  WARNINGS  |  OK  | 
GenomicFeatures 0.0.6 Deepayan Sarkar
 | Last Changed Rev: 938 / Revision: 938 |  | Last Changed Date: 2009-08-06 13:31:51 -0700 |  
  | wilson1  | Linux (openSUSE 11.1) / x86_64  |  OK  |  ERROR  |  | 
| liverpool  | Windows Server 2003 R2 (32-bit) / x64  |  OK  |  ERROR  |  ERROR  | 
| pitt  | Mac OS X Tiger (10.4.11) / i386  |  OK  |  ERROR  |  ERROR  | 
| pelham  | Mac OS X Leopard (10.5.7) / i386  |  OK  |  ERROR  |  ERROR  | 
GGdata 1.0.1 VJ Carey
 | Last Changed Rev: 896 / Revision: 938 |  | Last Changed Date: 2009-07-24 17:19:03 -0700 |  
  | wilson1  | Linux (openSUSE 11.1) / x86_64  |  OK  |  ERROR  |  | 
| liverpool  | Windows Server 2003 R2 (32-bit) / x64  |  OK  |  ERROR  |  ERROR  | 
| pitt  | Mac OS X Tiger (10.4.11) / i386  |  OK  |  ERROR  |  ERROR  | 
| pelham  | Mac OS X Leopard (10.5.7) / i386  |  OK  |  ERROR  |  ERROR  | 
golubEsets 1.4.6 Vince Carey
 | Last Changed Rev: 899 / Revision: 938 |  | Last Changed Date: 2009-07-24 17:24:37 -0700 |  
  | wilson1  | Linux (openSUSE 11.1) / x86_64  |  OK  |  ERROR  |  | 
| liverpool  | Windows Server 2003 R2 (32-bit) / x64  |  OK  |  ERROR  |  OK  | 
| pitt  | Mac OS X Tiger (10.4.11) / i386  |  OK  |  ERROR  |  OK  | 
| pelham  | Mac OS X Leopard (10.5.7) / i386  |  OK  |  ERROR  |  OK  | 
hapmap100khind 1.3.2 Benilton Carvalho
 | Last Changed Rev: 827 / Revision: 938 |  | Last Changed Date: 2009-06-18 14:58:48 -0700 |  
  | wilson1  | Linux (openSUSE 11.1) / x86_64  |  OK  |  OK  |  | 
| liverpool  | Windows Server 2003 R2 (32-bit) / x64  |  OK  |  OK  |  OK  | 
| pitt  | Mac OS X Tiger (10.4.11) / i386  |  OK  |  OK  |  OK  | 
| pelham  | Mac OS X Leopard (10.5.7) / i386  |  OK  |  OK  |  OK  | 
hapmap100kxba 1.3.2 Benilton Carvalho
 | Last Changed Rev: 835 / Revision: 938 |  | Last Changed Date: 2009-06-18 15:14:19 -0700 |  
  | wilson1  | Linux (openSUSE 11.1) / x86_64  |  OK  |  OK  |  | 
| liverpool  | Windows Server 2003 R2 (32-bit) / x64  |  OK  |  OK  |  OK  | 
| pitt  | Mac OS X Tiger (10.4.11) / i386  |  OK  |  OK  |  OK  | 
| pelham  | Mac OS X Leopard (10.5.7) / i386  |  OK  |  OK  |  OK  | 
hapmap500knsp 1.3.2 Benilton Carvalho
 | Last Changed Rev: 836 / Revision: 938 |  | Last Changed Date: 2009-06-18 15:17:24 -0700 |  
  | wilson1  | Linux (openSUSE 11.1) / x86_64  |  OK  |  OK  |  | 
| liverpool  | Windows Server 2003 R2 (32-bit) / x64  |  OK  |  OK  |  OK  | 
| pitt  | Mac OS X Tiger (10.4.11) / i386  |  OK  |  OK  |  OK  | 
| pelham  | Mac OS X Leopard (10.5.7) / i386  |  OK  |  OK  |  OK  | 
hapmap500ksty 1.3.2 Benilton Carvalho
 | Last Changed Rev: 837 / Revision: 938 |  | Last Changed Date: 2009-06-18 15:18:18 -0700 |  
  | wilson1  | Linux (openSUSE 11.1) / x86_64  |  OK  |  OK  |  | 
| liverpool  | Windows Server 2003 R2 (32-bit) / x64  |  OK  |  OK  |  OK  | 
| pitt  | Mac OS X Tiger (10.4.11) / i386  |  OK  |  OK  |  OK  | 
| pelham  | Mac OS X Leopard (10.5.7) / i386  |  OK  |  OK  |  OK  | 
hapmapsnp5 1.3.2 Benilton Carvalho
 | Last Changed Rev: 838 / Revision: 938 |  | Last Changed Date: 2009-06-18 15:19:12 -0700 |  
  | wilson1  | Linux (openSUSE 11.1) / x86_64  |  OK  |  OK  |  | 
| liverpool  | Windows Server 2003 R2 (32-bit) / x64  |  OK  |  OK  |  OK  | 
| pitt  | Mac OS X Tiger (10.4.11) / i386  |  OK  |  OK  |  OK  | 
| pelham  | Mac OS X Leopard (10.5.7) / i386  |  OK  |  OK  |  OK  | 
hapmapsnp6 1.3.2 Benilton Carvalho
 | Last Changed Rev: 839 / Revision: 938 |  | Last Changed Date: 2009-06-18 15:20:09 -0700 |  
  | wilson1  | Linux (openSUSE 11.1) / x86_64  |  OK  |  OK  |  | 
| liverpool  | Windows Server 2003 R2 (32-bit) / x64  |  OK  |  OK  |  OK  | 
| pitt  | Mac OS X Tiger (10.4.11) / i386  |  OK  |  OK  |  OK  | 
| pelham  | Mac OS X Leopard (10.5.7) / i386  |  OK  |  OK  |  OK  | 
harbChIP 1.0.1 VJ Carey
 | Last Changed Rev: 901 / Revision: 938 |  | Last Changed Date: 2009-07-24 17:28:09 -0700 |  
  | wilson1  | Linux (openSUSE 11.1) / x86_64  |  ERROR  |  skipped  |  | 
| liverpool  | Windows Server 2003 R2 (32-bit) / x64  |  ERROR  |  skipped  |  skipped  | 
| pitt  | Mac OS X Tiger (10.4.11) / i386  |  ERROR  |  skipped  |  skipped  | 
| pelham  | Mac OS X Leopard (10.5.7) / i386  |  ERROR  |  skipped  |  skipped  | 
HEEBOdata 1.0.0 Agnes Paquet
 | Last Changed Rev: 142 / Revision: 938 |  | Last Changed Date: 2006-09-28 18:17:09 -0700 |  
  | wilson1  | Linux (openSUSE 11.1) / x86_64  |  OK  |  OK  |  | 
| liverpool  | Windows Server 2003 R2 (32-bit) / x64  |  OK  |  OK  |  OK  | 
| pitt  | Mac OS X Tiger (10.4.11) / i386  |  OK  |  OK  |  OK  | 
| pelham  | Mac OS X Leopard (10.5.7) / i386  |  OK  |  OK  |  OK  | 
hgu2beta7 1.2.2 Biocore Team c/o BioC user list
 | Last Changed Rev: 782 / Revision: 938 |  | Last Changed Date: 2009-05-08 12:29:52 -0700 |  
  | wilson1  | Linux (openSUSE 11.1) / x86_64  |  OK  |  OK  |  | 
| liverpool  | Windows Server 2003 R2 (32-bit) / x64  |  OK  |  OK  |  OK  | 
| pitt  | Mac OS X Tiger (10.4.11) / i386  |  OK  |  OK  |  OK  | 
| pelham  | Mac OS X Leopard (10.5.7) / i386  |  OK  |  OK  |  OK  | 
HIVcDNAvantWout03 1.2.2 Chris Fraley
 | Last Changed Rev: 828 / Revision: 938 |  | Last Changed Date: 2009-06-18 15:00:07 -0700 |  
  | wilson1  | Linux (openSUSE 11.1) / x86_64  |  OK  |  OK  |  | 
| liverpool  | Windows Server 2003 R2 (32-bit) / x64  |  OK  |  OK  |  OK  | 
| pitt  | Mac OS X Tiger (10.4.11) / i386  |  OK  |  OK  |  OK  | 
| pelham  | Mac OS X Leopard (10.5.7) / i386  |  OK  |  OK  |  OK  | 
hmyriB36 0.99.2 Vincent Carey
 | Last Changed Rev: 904 / Revision: 938 |  | Last Changed Date: 2009-07-24 17:39:21 -0700 |  
  | wilson1  | Linux (openSUSE 11.1) / x86_64  |  OK  |  ERROR  |  | 
| liverpool  | Windows Server 2003 R2 (32-bit) / x64  |  OK  |  ERROR  |  ERROR  | 
| pitt  | Mac OS X Tiger (10.4.11) / i386  |  OK  |  ERROR  |  ERROR  | 
| pelham  | Mac OS X Leopard (10.5.7) / i386  |  OK  |  ERROR  |  ERROR  | 
humanStemCell 0.2.3 R. Gentleman
 | Last Changed Rev: 906 / Revision: 938 |  | Last Changed Date: 2009-07-24 17:41:39 -0700 |  
  | wilson1  | Linux (openSUSE 11.1) / x86_64  |  OK  |  ERROR  |  | 
| liverpool  | Windows Server 2003 R2 (32-bit) / x64  |  OK  |  ERROR  |  OK  | 
| pitt  | Mac OS X Tiger (10.4.11) / i386  |  OK  |  ERROR  |  OK  | 
| pelham  | Mac OS X Leopard (10.5.7) / i386  |  OK  |  ERROR  |  OK  | 
ITALICSData 2.0.1 Guillem Rigaill
 | Last Changed Rev: 801 / Revision: 938 |  | Last Changed Date: 2009-05-11 12:23:04 -0700 |  
  | wilson1  | Linux (openSUSE 11.1) / x86_64  |  OK  |  OK  |  | 
| liverpool  | Windows Server 2003 R2 (32-bit) / x64  |  OK  |  OK  |  OK  | 
| pitt  | Mac OS X Tiger (10.4.11) / i386  |  OK  |  OK  |  OK  | 
| pelham  | Mac OS X Leopard (10.5.7) / i386  |  OK  |  OK  |  OK  | 
Iyer517 1.4.3 Vince Carey
 | Last Changed Rev: 908 / Revision: 938 |  | Last Changed Date: 2009-07-24 17:45:40 -0700 |  
  | wilson1  | Linux (openSUSE 11.1) / x86_64  |  ERROR  |  skipped  |  | 
| liverpool  | Windows Server 2003 R2 (32-bit) / x64  |  ERROR  |  skipped  |  skipped  | 
| pitt  | Mac OS X Tiger (10.4.11) / i386  |  ERROR  |  skipped  |  skipped  | 
| pelham  | Mac OS X Leopard (10.5.7) / i386  |  ERROR  |  skipped  |  skipped  | 
kidpack 1.5.4 Wolfgang Huber
 | Last Changed Rev: 910 / Revision: 938 |  | Last Changed Date: 2009-07-24 17:52:47 -0700 |  
  | wilson1  | Linux (openSUSE 11.1) / x86_64  |  ERROR  |  skipped  |  | 
| liverpool  | Windows Server 2003 R2 (32-bit) / x64  |  ERROR  |  skipped  |  skipped  | 
| pitt  | Mac OS X Tiger (10.4.11) / i386  |  ERROR  |  skipped  |  skipped  | 
| pelham  | Mac OS X Leopard (10.5.7) / i386  |  ERROR  |  skipped  |  skipped  | 
lumiBarnes 1.3.4 Pan Du
 | Last Changed Rev: 912 / Revision: 938 |  | Last Changed Date: 2009-07-24 17:56:18 -0700 |  
  | wilson1  | Linux (openSUSE 11.1) / x86_64  |  OK  |  ERROR  |  | 
| liverpool  | Windows Server 2003 R2 (32-bit) / x64  |  OK  |  ERROR  |  OK  | 
| pitt  | Mac OS X Tiger (10.4.11) / i386  |  OK  |  ERROR  |  OK  | 
| pelham  | Mac OS X Leopard (10.5.7) / i386  |  OK  |  ERROR  |  OK  | 
lungExpression 0.0.9 Robert Scharpf
 | Last Changed Rev: 914 / Revision: 938 |  | Last Changed Date: 2009-07-24 18:00:01 -0700 |  
  | wilson1  | Linux (openSUSE 11.1) / x86_64  |  OK  |  ERROR  |  | 
| liverpool  | Windows Server 2003 R2 (32-bit) / x64  |  OK  |  ERROR  |  OK  | 
| pitt  | Mac OS X Tiger (10.4.11) / i386  |  OK  |  ERROR  |  OK  | 
| pelham  | Mac OS X Leopard (10.5.7) / i386  |  OK  |  ERROR  |  OK  | 
maqcExpression4plex 1.2 Benilton Carvalho
 | Last Changed Rev: 399 / Revision: 938 |  | Last Changed Date: 2007-07-28 14:59:14 -0700 |  
  | wilson1  | Linux (openSUSE 11.1) / x86_64  |  OK  |  OK  |  | 
| liverpool  | Windows Server 2003 R2 (32-bit) / x64  |  OK  |  OK  |  OK  | 
| pitt  | Mac OS X Tiger (10.4.11) / i386  |  OK  |  OK  |  OK  | 
| pelham  | Mac OS X Leopard (10.5.7) / i386  |  OK  |  OK  |  OK  | 
MAQCsubset 1.0.15 VJ Carey
 | Last Changed Rev: 918 / Revision: 938 |  | Last Changed Date: 2009-07-24 18:19:26 -0700 |  
  | wilson1  | Linux (openSUSE 11.1) / x86_64  |  ERROR  |  skipped  |  | 
| liverpool  | Windows Server 2003 R2 (32-bit) / x64  |  ERROR  |  skipped  |  skipped  | 
| pitt  | Mac OS X Tiger (10.4.11) / i386  |  ERROR  |  skipped  |  skipped  | 
| pelham  | Mac OS X Leopard (10.5.7) / i386  |  ERROR  |  skipped  |  skipped  | 
MAQCsubsetAFX 1.0.1 Laurent Gatto
 | Last Changed Rev: 916 / Revision: 938 |  | Last Changed Date: 2009-07-24 18:10:57 -0700 |  
  | wilson1  | Linux (openSUSE 11.1) / x86_64  |  ERROR  |  skipped  |  | 
| liverpool  | Windows Server 2003 R2 (32-bit) / x64  |  ERROR  |  skipped  |  skipped  | 
| pitt  | Mac OS X Tiger (10.4.11) / i386  |  ERROR  |  skipped  |  skipped  | 
| pelham  | Mac OS X Leopard (10.5.7) / i386  |  ERROR  |  skipped  |  skipped  | 
MAQCsubsetILM 1.0.1 Laurent Gatto
 | Last Changed Rev: 920 / Revision: 938 |  | Last Changed Date: 2009-07-24 18:23:39 -0700 |  
  | wilson1  | Linux (openSUSE 11.1) / x86_64  |  ERROR  |  skipped  |  | 
| liverpool  | Windows Server 2003 R2 (32-bit) / x64  |  ERROR  |  skipped  |  skipped  | 
| pitt  | Mac OS X Tiger (10.4.11) / i386  |  ERROR  |  skipped  |  skipped  | 
| pelham  | Mac OS X Leopard (10.5.7) / i386  |  ERROR  |  skipped  |  skipped  | 
MEEBOdata 1.0.0 Agnes Paquet
 | Last Changed Rev: 142 / Revision: 938 |  | Last Changed Date: 2006-09-28 18:17:09 -0700 |  
  | wilson1  | Linux (openSUSE 11.1) / x86_64  |  OK  |  OK  |  | 
| liverpool  | Windows Server 2003 R2 (32-bit) / x64  |  OK  |  OK  |  OK  | 
| pitt  | Mac OS X Tiger (10.4.11) / i386  |  OK  |  OK  |  OK  | 
| pelham  | Mac OS X Leopard (10.5.7) / i386  |  OK  |  OK  |  OK  | 
msdata 0.1.3 Steffen Neumann
 | Last Changed Rev: 693 / Revision: 938 |  | Last Changed Date: 2008-07-14 06:49:32 -0700 |  
  | wilson1  | Linux (openSUSE 11.1) / x86_64  |  OK  |  OK  |  | 
| liverpool  | Windows Server 2003 R2 (32-bit) / x64  |  OK  |  OK  |  OK  | 
| pitt  | Mac OS X Tiger (10.4.11) / i386  |  OK  |  OK  |  OK  | 
| pelham  | Mac OS X Leopard (10.5.7) / i386  |  OK  |  OK  |  OK  | 
mvoutData 0.99.2 VJ Carey
 | Last Changed Rev: 922 / Revision: 938 |  | Last Changed Date: 2009-07-24 18:28:53 -0700 |  
  | wilson1  | Linux (openSUSE 11.1) / x86_64  |  OK  |  ERROR  |  | 
| liverpool  | Windows Server 2003 R2 (32-bit) / x64  |  OK  |  ERROR  |  OK  | 
| pitt  | Mac OS X Tiger (10.4.11) / i386  |  OK  |  ERROR  |  OK  | 
| pelham  | Mac OS X Leopard (10.5.7) / i386  |  OK  |  ERROR  |  OK  | 
Neve2006 0.1.6 VJ Carey
 | Last Changed Rev: 737 / Revision: 938 |  | Last Changed Date: 2008-10-30 14:43:37 -0700 |  
  | wilson1  | Linux (openSUSE 11.1) / x86_64  |  OK  |  OK  |  | 
| liverpool  | Windows Server 2003 R2 (32-bit) / x64  |  OK  |  OK  |  OK  | 
| pitt  | Mac OS X Tiger (10.4.11) / i386  |  OK  |  OK  |  OK  | 
| pelham  | Mac OS X Leopard (10.5.7) / i386  |  OK  |  OK  |  OK  | 
ppiData 0.1.13 Tony Chiang
 | Last Changed Rev: 701 / Revision: 938 |  | Last Changed Date: 2008-09-03 14:16:31 -0700 |  
  | wilson1  | Linux (openSUSE 11.1) / x86_64  |  OK  |  OK  |  | 
| liverpool  | Windows Server 2003 R2 (32-bit) / x64  |  OK  |  OK  |  OK  | 
| pitt  | Mac OS X Tiger (10.4.11) / i386  |  OK  |  OK  |  OK  | 
| pelham  | Mac OS X Leopard (10.5.7) / i386  |  OK  |  OK  |  OK  | 
ProData 1.0.3 Xiaochun Li
 | Last Changed Rev: 924 / Revision: 938 |  | Last Changed Date: 2009-07-24 18:53:02 -0700 |  
  | wilson1  | Linux (openSUSE 11.1) / x86_64  |  OK  |  ERROR  |  | 
| liverpool  | Windows Server 2003 R2 (32-bit) / x64  |  OK  |  ERROR  |  OK  | 
| pitt  | Mac OS X Tiger (10.4.11) / i386  |  OK  |  ERROR  |  OK  | 
| pelham  | Mac OS X Leopard (10.5.7) / i386  |  OK  |  ERROR  |  OK  | 
pumadata 1.0.2 Richard Pearson
 | Last Changed Rev: 926 / Revision: 938 |  | Last Changed Date: 2009-07-24 19:01:07 -0700 |  
  | wilson1  | Linux (openSUSE 11.1) / x86_64  |  ERROR  |  skipped  |  | 
| liverpool  | Windows Server 2003 R2 (32-bit) / x64  |  ERROR  |  skipped  |  skipped  | 
| pitt  | Mac OS X Tiger (10.4.11) / i386  |  ERROR  |  skipped  |  skipped  | 
| pelham  | Mac OS X Leopard (10.5.7) / i386  |  ERROR  |  skipped  |  skipped  | 
rfcdmin 1.6.8 N. Le Meur
 | Last Changed Rev: 863 / Revision: 938 |  | Last Changed Date: 2009-07-16 12:30:37 -0700 |  
  | wilson1  | Linux (openSUSE 11.1) / x86_64  |  OK  |  OK  |  | 
| liverpool  | Windows Server 2003 R2 (32-bit) / x64  |  OK  |  OK  |  OK  | 
| pitt  | Mac OS X Tiger (10.4.11) / i386  |  OK  |  OK  |  OK  | 
| pelham  | Mac OS X Leopard (10.5.7) / i386  |  OK  |  OK  |  OK  | 
SNAData 1.8.1 Denise Scholtens
 | Last Changed Rev: 733 / Revision: 938 |  | Last Changed Date: 2008-10-27 10:59:54 -0700 |  
  | wilson1  | Linux (openSUSE 11.1) / x86_64  |  OK  |  OK  |  | 
| liverpool  | Windows Server 2003 R2 (32-bit) / x64  |  OK  |  OK  |  OK  | 
| pitt  | Mac OS X Tiger (10.4.11) / i386  |  OK  |  OK  |  OK  | 
| pelham  | Mac OS X Leopard (10.5.7) / i386  |  OK  |  OK  |  OK  | 
SpikeIn 1.4.2 Rafael A. Irizarry
 | Last Changed Rev: 927 / Revision: 938 |  | Last Changed Date: 2009-07-24 19:07:31 -0700 |  
  | wilson1  | Linux (openSUSE 11.1) / x86_64  |  OK  |  ERROR  |  | 
| liverpool  | Windows Server 2003 R2 (32-bit) / x64  |  OK  |  ERROR  |  ERROR  | 
| pitt  | Mac OS X Tiger (10.4.11) / i386  |  OK  |  ERROR  |  ERROR  | 
| pelham  | Mac OS X Leopard (10.5.7) / i386  |  OK  |  ERROR  |  ERROR  | 
SpikeInSubset 1.2.8 Rafael A. Irizarry
 | Last Changed Rev: 930 / Revision: 938 |  | Last Changed Date: 2009-07-24 19:13:55 -0700 |  
  | wilson1  | Linux (openSUSE 11.1) / x86_64  |  OK  |  ERROR  |  | 
| liverpool  | Windows Server 2003 R2 (32-bit) / x64  |  OK  |  ERROR  |  ERROR  | 
| pitt  | Mac OS X Tiger (10.4.11) / i386  |  OK  |  ERROR  |  ERROR  | 
| pelham  | Mac OS X Leopard (10.5.7) / i386  |  OK  |  ERROR  |  ERROR  | 
stjudem 1.2.0 Joern Toedling
 | Last Changed Rev: 142 / Revision: 938 |  | Last Changed Date: 2006-09-28 18:17:09 -0700 |  
  | wilson1  | Linux (openSUSE 11.1) / x86_64  |  OK  |  OK  |  | 
| liverpool  | Windows Server 2003 R2 (32-bit) / x64  |  OK  |  OK  |  OK  | 
| pitt  | Mac OS X Tiger (10.4.11) / i386  |  OK  |  OK  |  OK  | 
| pelham  | Mac OS X Leopard (10.5.7) / i386  |  OK  |  OK  |  OK  | 
TargetSearchData 1.0.0 Alvaro Cuadros-Inostroza
 | Last Changed Rev: 787 / Revision: 938 |  | Last Changed Date: 2009-05-08 14:01:59 -0700 |  
  | wilson1  | Linux (openSUSE 11.1) / x86_64  |  OK  |  OK  |  | 
| liverpool  | Windows Server 2003 R2 (32-bit) / x64  |  OK  |  OK  |  OK  | 
| pitt  | Mac OS X Tiger (10.4.11) / i386  |  OK  |  OK  |  OK  | 
| pelham  | Mac OS X Leopard (10.5.7) / i386  |  OK  |  OK  |  OK  | 
tinesath1cdf 1.0.2 Tine Casneuf
 | Last Changed Rev: 362 / Revision: 938 |  | Last Changed Date: 2007-07-06 08:47:27 -0700 |  
  | wilson1  | Linux (openSUSE 11.1) / x86_64  |  OK  |  OK  |  | 
| liverpool  | Windows Server 2003 R2 (32-bit) / x64  |  OK  |  OK  |  OK  | 
| pitt  | Mac OS X Tiger (10.4.11) / i386  |  OK  |  OK  |  OK  | 
| pelham  | Mac OS X Leopard (10.5.7) / i386  |  OK  |  OK  |  OK  | 
tinesath1probe 1.0.2 Tine Casneuf
 | Last Changed Rev: 738 / Revision: 938 |  | Last Changed Date: 2008-10-30 14:47:17 -0700 |  
  | wilson1  | Linux (openSUSE 11.1) / x86_64  |  OK  |  OK  |  | 
| liverpool  | Windows Server 2003 R2 (32-bit) / x64  |  OK  |  OK  |  OK  | 
| pitt  | Mac OS X Tiger (10.4.11) / i386  |  OK  |  OK  |  OK  | 
| pelham  | Mac OS X Leopard (10.5.7) / i386  |  OK  |  OK  |  OK  | 
XhybCasneuf 1.0.4 Tineke Casneuf
 | Last Changed Rev: 821 / Revision: 938 |  | Last Changed Date: 2009-06-18 14:38:01 -0700 |  
  | wilson1  | Linux (openSUSE 11.1) / x86_64  |  OK  |  OK  |  | 
| liverpool  | Windows Server 2003 R2 (32-bit) / x64  |  OK  |  OK  |  OK  | 
| pitt  | Mac OS X Tiger (10.4.11) / i386  |  OK  |  OK  |  OK  | 
| pelham  | Mac OS X Leopard (10.5.7) / i386  |  OK  |  OK  |  OK  | 
yeastCC 1.2.9 Sandrine Dudoit
 | Last Changed Rev: 932 / Revision: 938 |  | Last Changed Date: 2009-07-24 19:22:51 -0700 |  
  | wilson1  | Linux (openSUSE 11.1) / x86_64  |  OK  |  ERROR  |  | 
| liverpool  | Windows Server 2003 R2 (32-bit) / x64  |  OK  |  ERROR  |  ERROR  | 
| pitt  | Mac OS X Tiger (10.4.11) / i386  |  OK  |  ERROR  |  ERROR  | 
| pelham  | Mac OS X Leopard (10.5.7) / i386  |  OK  |  ERROR  |  ERROR  | 
yeastExpData 0.9.16 R. Gentleman
 | Last Changed Rev: 831 / Revision: 938 |  | Last Changed Date: 2009-06-18 15:04:17 -0700 |  
  | wilson1  | Linux (openSUSE 11.1) / x86_64  |  OK  |  OK  |  | 
| liverpool  | Windows Server 2003 R2 (32-bit) / x64  |  OK  |  OK  |  OK  | 
| pitt  | Mac OS X Tiger (10.4.11) / i386  |  OK  |  OK  |  OK  | 
| pelham  | Mac OS X Leopard (10.5.7) / i386  |  OK  |  OK  |  OK  | 
yeastGSData 0.1.4 R. Gentleman
 | Last Changed Rev: 832 / Revision: 938 |  | Last Changed Date: 2009-06-18 15:05:08 -0700 |  
  | wilson1  | Linux (openSUSE 11.1) / x86_64  |  OK  |  OK  |  | 
| liverpool  | Windows Server 2003 R2 (32-bit) / x64  |  OK  |  OK  |  OK  | 
| pitt  | Mac OS X Tiger (10.4.11) / i386  |  OK  |  OK  |  OK  | 
| pelham  | Mac OS X Leopard (10.5.7) / i386  |  OK  |  OK  |  OK  |