| Package STATUS - Package status is indicated by one of the following glyphs: | 
|  -  TIMEOUT  | 
BUILD, CHECK or BUILD BIN of package took more than 40 minutes | 
|  -  ERROR  | 
BUILD, CHECK or BUILD BIN of package returned an error | 
|  -  WARNINGS  | 
CHECK of package produced warnings | 
|  -  OK  | 
BUILD, CHECK or BUILD BIN of package was OK | 
|  - skipped  | 
CHECK or BUILD BIN of package was skipped because the BUILD step failed (or because something bad happened with the Build System itself) | 
| Click on any glyph in the report below to see the status details (command output). | 
| [wilson1] | 
Linux (openSUSE 11.1) / x86_64  |  |  |  | 
| liverpool | 
Windows Server 2003 R2 (32-bit) / x64  |  |  |  | 
| pitt | 
Mac OS X Tiger (10.4.11) / i386  |  |  |  | 
| pelham | 
Mac OS X Leopard (10.5.7) / i386  |  |  |  | 
| affydata 1.11.9 | Laurent |  ERROR  |  skipped  |  | 
| AffymetrixDataTestFiles 0.1.1 | Henrik Bengtsson |  OK  |  OK  |  | 
| ALL 1.4.6 | Xiaochun Li |  ERROR  |  skipped  |  | 
| ALLMLL 1.2.4 | B. M. Bolstad |  OK  |  ERROR  |  | 
| AmpAffyExample 1.2.3 | Rafael A. Irizarry |  OK  |  ERROR  |  | 
| beta7 1.0.0 | Jean Yang |  OK  |  OK  |  | 
| bronchialIL13 1.0-4 | Vince Carey |  OK  |  ERROR  |  | 
| CCl4 1.0.8 | Audrey Kauffmann |  ERROR  |  skipped  |  | 
| ccTutorial 1.0.9 | Joern Toedling |  ERROR  |  skipped  |  | 
| CLL 1.2.6 | Robert Gentleman |  OK  |  ERROR  |  | 
| colonCA 1.4.5 | W Sylvia Merk |  OK  |  ERROR  |  | 
| davidTiling 1.2.10 | Wolfgang Huber |  OK  |  ERROR  |  | 
| dyebiasexamples 1.0.3 | Philip Lijnzaad |  OK  |  OK  |  | 
| ecoliLeucine 1.2.4 | Laurent Gautier |  OK  |  ERROR  |  | 
| encoDnaseI 0.1-1 | VJ Carey |  ERROR  |  skipped  |  | 
| estrogen 1.8.3 | R. Gentleman |  OK  |  OK  |  | 
| faahKO 1.2.1 | Colin A. Smith |  OK  |  OK  |  | 
| facsDorit 1.4.1 | Florian Hahne |  OK  |  OK  |  | 
| fibroEset 1.4.3 | Sylvia Merk |  OK  |  ERROR  |  | 
| gaschYHS 1.0.1 | Vince Carey |  OK  |  ERROR  |  | 
| gatingMLData 1.0.2 | Nishant Gopalakrishnan |  OK  |  OK  |  | 
| gcspikelite 1.0.2 | Mark Robinson |  OK  |  WARNINGS  |  | 
| GenomicFeatures 0.0.6 | Deepayan Sarkar |  OK  |  ERROR  |  | 
| GGdata 1.0.1 | VJ Carey |  OK  |  ERROR  |  | 
| golubEsets 1.4.6 | Vince Carey |  OK  |  ERROR  |  | 
| hapmap100khind 1.3.2 | Benilton Carvalho |  OK  |  OK  |  | 
| hapmap100kxba 1.3.2 | Benilton Carvalho |  OK  |  OK  |  | 
| hapmap500knsp 1.3.2 | Benilton Carvalho |  OK  |  OK  |  | 
| hapmap500ksty 1.3.2 | Benilton Carvalho |  OK  |  OK  |  | 
| hapmapsnp5 1.3.2 | Benilton Carvalho |  OK  |  OK  |  | 
| hapmapsnp6 1.3.2 | Benilton Carvalho |  OK  |  OK  |  | 
| harbChIP 1.0.1 | VJ Carey |  ERROR  |  skipped  |  | 
| HEEBOdata 1.0.0 | Agnes Paquet |  OK  |  OK  |  | 
| hgu2beta7 1.2.2 | Biocore Team c/o BioC user list |  OK  |  OK  |  | 
| HIVcDNAvantWout03 1.2.2 | Chris Fraley |  OK  |  OK  |  | 
| hmyriB36 0.99.2 | Vincent Carey |  OK  |  ERROR  |  | 
| humanStemCell 0.2.3 | R. Gentleman |  OK  |  ERROR  |  | 
| ITALICSData 2.0.1 | Guillem Rigaill |  OK  |  OK  |  | 
| Iyer517 1.4.3 | Vince Carey |  ERROR  |  skipped  |  | 
| kidpack 1.5.4 | Wolfgang Huber |  ERROR  |  skipped  |  | 
| lumiBarnes 1.3.4 | Pan Du |  OK  |  ERROR  |  | 
| lungExpression 0.0.9 | Robert Scharpf |  OK  |  ERROR  |  | 
| maqcExpression4plex 1.2 | Benilton Carvalho |  OK  |  OK  |  | 
| MAQCsubset 1.0.15 | VJ Carey |  ERROR  |  skipped  |  | 
| MAQCsubsetAFX 1.0.1 | Laurent Gatto |  ERROR  |  skipped  |  | 
| MAQCsubsetILM 1.0.1 | Laurent Gatto |  ERROR  |  skipped  |  | 
| MEEBOdata 1.0.0 | Agnes Paquet |  OK  |  OK  |  | 
| msdata 0.1.3 | Steffen Neumann |  OK  |  OK  |  | 
| mvoutData 0.99.2 | VJ Carey |  OK  |  ERROR  |  | 
| Neve2006 0.1.6 | VJ Carey |  OK  |  OK  |  | 
| ppiData 0.1.13 | Tony Chiang |  OK  |  OK  |  | 
| ProData 1.0.3 | Xiaochun Li |  OK  |  ERROR  |  | 
| pumadata 1.0.2 | Richard Pearson |  ERROR  |  skipped  |  | 
| rfcdmin 1.6.8 | N. Le Meur |  OK  |  OK  |  | 
| SNAData 1.8.1 | Denise Scholtens |  OK  |  OK  |  | 
| SpikeIn 1.4.2 | Rafael A. Irizarry |  OK  |  ERROR  |  | 
| SpikeInSubset 1.2.8 | Rafael A. Irizarry |  OK  |  ERROR  |  | 
| stjudem 1.2.0 | Joern Toedling |  OK  |  OK  |  | 
| TargetSearchData 1.0.0 | Alvaro Cuadros-Inostroza |  OK  |  OK  |  | 
| tinesath1cdf 1.0.2 | Tine Casneuf |  OK  |  OK  |  | 
| tinesath1probe 1.0.2 | Tine Casneuf |  OK  |  OK  |  | 
| XhybCasneuf 1.0.4 | Tineke Casneuf |  OK  |  OK  |  | 
| yeastCC 1.2.9 | Sandrine Dudoit |  OK  |  ERROR  |  | 
| yeastExpData 0.9.16 | R. Gentleman |  OK  |  OK  |  | 
| yeastGSData 0.1.4 | R. Gentleman |  OK  |  OK  |  |