GenomicFeatures 0.0.6 Deepayan Sarkar
 | Snapshot Date: 2009-08-10 00:27:00 -0700 (Mon, 10 Aug 2009) |  | URL: https://hedgehog.fhcrc.org/bioc-data/trunk/experiment/pkgs/GenomicFeatures |  | Last Changed Rev: 938 / Revision: 938 |  | Last Changed Date: 2009-08-06 13:31:51 -0700 (Thu, 06 Aug 2009) |  
  | wilson1  | Linux (openSUSE 11.1) / x86_64  |  OK  |  ERROR  |  | 
| liverpool  | Windows Server 2003 R2 (32-bit) / x64  |  OK  |  ERROR  |  ERROR  | 
| pitt  | Mac OS X Tiger (10.4.11) / i386  |  OK  |  ERROR  | [ ERROR ] | 
| pelham  | Mac OS X Leopard (10.5.7) / i386  |  OK  |  ERROR  |  ERROR  | 
                INSTALLATION WITH 'R CMD INSTALL --preclean --library=GenomicFeatures.buildbin-libdir GenomicFeatures_0.0.6.tar.gz'
* Installing *source* package 'GenomicFeatures' ...
** R
** data
** preparing package for lazy loading
Error in namespaceImportMethods(ns, loadNamespace(imp[[1L]], c(lib.loc,  : 
  requested 'methods' objects not found in environment/package 'IRanges': ranges<-
ERROR: lazy loading failed for package 'GenomicFeatures'
* Removing '/Users/biocbuild/bbs-2.4-data-experiment/meat/GenomicFeatures.buildbin-libdir/GenomicFeatures'