| Back to the "Multiple platform build/check report" |
| Package 10/77 | Hostname | OS / Arch | BUILD | CHECK | BUILD BIN | ||||
| charmData 0.99.1 Martin Aryee
| wilson2 | Linux (openSUSE 11.1) / x86_64 | OK | ERROR | |||||
| pitt | Mac OS X Tiger (10.4.11) / i386 | OK | ERROR | ERROR | |||||
| pelham | Mac OS X Leopard (10.5.8) / i386 | OK | ERROR | [ ERROR ] |
| Package: charmData |
| Version: 0.99.1 |
| Command: /Users/biocbuild/BBS/utils/build-universal.sh charmData_0.99.1.tar.gz /Library/Frameworks/R.framework/Versions/2.10/Resources/bin/R charmData.buildbin-libdir |
| StartedAt: 2010-04-02 15:23:20 -0700 (Fri, 02 Apr 2010) |
| EndedAt: 2010-04-02 15:23:25 -0700 (Fri, 02 Apr 2010) |
| EllapsedTime: 5.6 seconds |
| RetCode: 1 |
| Status: ERROR |
| PackageFile: None |
| PackageFileSize: NA |
INSTALLATION WITH 'R CMD INSTALL --preclean --library=charmData.buildbin-libdir charmData_0.99.1.tar.gz'
ERROR: this R is version 2.10.1, package 'charmData' requires R >= 2.11.0