| Back to the "Multiple platform build/check report" |
| Package 10/77 | Hostname | OS / Arch | BUILD | CHECK | BUILD BIN | ||||
| charmData 0.99.1 Martin Aryee
| wilson2 | Linux (openSUSE 11.1) / x86_64 | OK | ERROR | |||||
| pitt | Mac OS X Tiger (10.4.11) / i386 | OK | ERROR | ERROR | |||||
| pelham | Mac OS X Leopard (10.5.8) / i386 | [ OK ] | ERROR | ERROR |
| Package: charmData |
| Version: 0.99.1 |
| Command: /Library/Frameworks/R.framework/Versions/2.10/Resources/bin/R CMD build charmData |
| StartedAt: 2010-04-02 14:09:32 -0700 (Fri, 02 Apr 2010) |
| EndedAt: 2010-04-02 14:10:32 -0700 (Fri, 02 Apr 2010) |
| EllapsedTime: 59.7 seconds |
| RetCode: 0 |
| Status: OK |
| PackageFile: charmData_0.99.1.tar.gz |
| PackageFileSize: 15.1 MiB |
* checking for file 'charmData/DESCRIPTION' ... OK * preparing 'charmData': * checking DESCRIPTION meta-information ... OK * removing junk files * checking for LF line-endings in source and make files * checking for empty or unneeded directories * building 'charmData_0.99.1.tar.gz'