| Back to Build/check report for BioC 3.13 experimental data |
|
This page was generated on 2021-10-16 15:58:41 -0400 (Sat, 16 Oct 2021).
|
To the developers/maintainers of the methylclockData package: Make sure to use the following settings in order to reproduce any error or warning you see on this page. |
| Package 230/406 | Hostname | OS / Arch | INSTALL | BUILD | CHECK | ||||||||
| methylclockData 1.0.9 (landing page) Dolors Pelegri-Siso
| malbec2 | Linux (Ubuntu 20.04.2 LTS) / x86_64 | OK | OK | WARNINGS | ||||||||
| Package: methylclockData |
| Version: 1.0.9 |
| Command: /home/biocbuild/bbs-3.13-bioc/R/bin/R CMD build --keep-empty-dirs --no-resave-data methylclockData |
| StartedAt: 2021-10-16 12:20:20 -0400 (Sat, 16 Oct 2021) |
| EndedAt: 2021-10-16 12:21:40 -0400 (Sat, 16 Oct 2021) |
| EllapsedTime: 79.7 seconds |
| RetCode: 0 |
| Status: OK |
| PackageFile: methylclockData_1.0.9.tar.gz |
| PackageFileSize: 229.5 KiB |
############################################################################## ############################################################################## ### ### Running command: ### ### /home/biocbuild/bbs-3.13-bioc/R/bin/R CMD build --keep-empty-dirs --no-resave-data methylclockData ### ############################################################################## ############################################################################## * checking for file ‘methylclockData/DESCRIPTION’ ... OK * preparing ‘methylclockData’: * checking DESCRIPTION meta-information ... OK * installing the package to build vignettes * creating vignettes ... OK * checking for LF line-endings in source and make files and shell scripts * checking for empty or unneeded directories * building ‘methylclockData_1.0.9.tar.gz’