| Back to Build/check report for BioC 3.16 experimental data | 
 | 
This page was generated on 2023-04-11 14:50:27 -0400 (Tue, 11 Apr 2023).
| Hostname | OS | Arch (*) | R version | Installed pkgs | 
|---|---|---|---|---|
| nebbiolo2 | Linux (Ubuntu 20.04.5 LTS) | x86_64 | 4.2.3 (2023-03-15) -- "Shortstop Beagle" | 4502 | 
| Click on any hostname to see more info about the system (e.g. compilers) (*) as reported by 'uname -p', except on Windows and Mac OS X | ||||
| To the developers/maintainers of the JASPAR2014 package: Make sure to use the following settings in order to reproduce any error or warning you see on this page. | 
| Package 194/416 | Hostname | OS / Arch | INSTALL | BUILD | CHECK | ||||||||
| JASPAR2014 1.34.0  (landing page) Ge Tan 
 | nebbiolo2 | Linux (Ubuntu 20.04.5 LTS) / x86_64 | OK | OK | WARNINGS |  | |||||||
| Package: JASPAR2014 | 
| Version: 1.34.0 | 
| Command: /home/biocbuild/bbs-3.16-bioc/R/bin/R CMD build --keep-empty-dirs --no-resave-data JASPAR2014 | 
| StartedAt: 2023-04-11 10:41:27 -0400 (Tue, 11 Apr 2023) | 
| EndedAt: 2023-04-11 10:41:32 -0400 (Tue, 11 Apr 2023) | 
| EllapsedTime: 5.0 seconds | 
| RetCode: 0 | 
| Status: OK | 
| PackageFile: JASPAR2014_1.34.0.tar.gz | 
| PackageFileSize: 42.89 MiB | 
############################################################################## ############################################################################## ### ### Running command: ### ### /home/biocbuild/bbs-3.16-bioc/R/bin/R CMD build --keep-empty-dirs --no-resave-data JASPAR2014 ### ############################################################################## ############################################################################## * checking for file ‘JASPAR2014/DESCRIPTION’ ... OK * preparing ‘JASPAR2014’: * checking DESCRIPTION meta-information ... OK * checking for LF line-endings in source and make files and shell scripts * checking for empty or unneeded directories * building ‘JASPAR2014_1.34.0.tar.gz’