This page was generated on 2024-10-17 14:51 -0400 (Thu, 17 Oct 2024).
| |
| See this page for all the Bioconductor builds and their schedule. |
| Hostname | OS | Arch (*) | R version | Installed pkgs |
|---|---|---|---|---|
| nebbiolo1 | Linux (Ubuntu 22.04.3 LTS) | x86_64 | 4.4.1 (2024-06-14) -- "Race for Your Life" | 4763 |
| Click on any hostname to see more info about the system (e.g. compilers) (*) as reported by 'uname -p', except on Windows and Mac OS X | ||||
A | |||||||||
| QUICK STATS | OS / Arch | INSTALL | BUILD | CHECK | |||||||||||||||||||||||||||||||
| nebbiolo1 | Linux (Ubuntu 22.04.3 LTS) / x86_64 |
|
|
| |||||||||||||||||||||||||||||||
|
| ||||||||||||||||||||||||||||||||||
| Package | Maintainer | INSTALL | BUILD | CHECK | |||||||||||||||||||||||||||||||
| 1/430 | adductData 1.20.0 (landing page) | Josie Hayes | OK | OK | OK | ||||||||||||||||||||||||||||||
| 2/430 | affycompData 1.42.0 (landing page) | Robert D Shear | OK | OK | OK | ||||||||||||||||||||||||||||||
| 3/430 | affydata 1.52.0 (landing page) | Robert D Shear | OK | OK | WARNINGS | ||||||||||||||||||||||||||||||
| 4/430 | Affyhgu133A2Expr 1.40.0 (landing page) | Zhicheng Ji | OK | OK | OK | ||||||||||||||||||||||||||||||
| 5/430 | Affyhgu133aExpr 1.42.0 (landing page) | Zhicheng Ji | OK | OK | OK | ||||||||||||||||||||||||||||||
| 6/430 | Affyhgu133Plus2Expr 1.38.0 (landing page) | Zhicheng Ji | OK | OK | OK | ||||||||||||||||||||||||||||||
| 7/430 | AffymetrixDataTestFiles 0.42.0 (landing page) | Henrik Bengtsson | OK | OK | OK | ||||||||||||||||||||||||||||||
| 8/430 | Affymoe4302Expr 1.42.0 (landing page) | Zhicheng Ji | OK | OK | OK | ||||||||||||||||||||||||||||||
| 9/430 | airway 1.24.0 (landing page) | Michael Love | OK | OK | WARNINGS | ||||||||||||||||||||||||||||||
| 10/430 | ALL 1.46.0 (landing page) | Robert Gentleman | OK | OK | OK | ||||||||||||||||||||||||||||||
| 11/430 | ALLMLL 1.44.0 (landing page) | B. M. Bolstad | OK | OK | OK | ||||||||||||||||||||||||||||||
| 12/430 | AmpAffyExample 1.44.0 (landing page) | Robert D Shear | OK | OK | WARNINGS | ||||||||||||||||||||||||||||||
| 13/430 | AneuFinderData 1.32.0 (landing page) | Aaron Taudt | OK | OK | WARNINGS | ||||||||||||||||||||||||||||||
| 14/430 | antiProfilesData 1.40.0 (landing page) | Hector Corrada Bravo | OK | OK | OK | ||||||||||||||||||||||||||||||
| 15/430 | aracne.networks 1.30.0 (landing page) | Federico M. Giorgi | OK | OK | WARNINGS | ||||||||||||||||||||||||||||||
| 16/430 | ARRmData 1.40.0 (landing page) | Jean-Philippe Fortin | OK | OK | OK | ||||||||||||||||||||||||||||||
| 17/430 | AshkenazimSonChr21 1.34.0 (landing page) | Who to complain to | OK | OK | OK | ||||||||||||||||||||||||||||||
| 18/430 | ASICSdata 1.24.0 (landing page) | Gaëlle Lefort | OK | OK | OK | ||||||||||||||||||||||||||||||
| 19/430 | AssessORFData 1.22.0 (landing page) | Deepank Korandla | OK | OK | ERROR | ||||||||||||||||||||||||||||||
|
| ||||||||||||||||||||||||||||||||||
| Package | Maintainer | INSTALL | BUILD | CHECK | |||||||||||||||||||||||||||||||
| 20/430 | bcellViper 1.40.0 (landing page) | Mariano Javier Alvarez | OK | OK | OK | ||||||||||||||||||||||||||||||
| 21/430 | beadarrayExampleData 1.42.0 (landing page) | Mark Dunning | OK | OK | OK | ||||||||||||||||||||||||||||||
| 22/430 | BeadArrayUseCases 1.42.0 (landing page) | Mike Smith | OK | OK | OK | ||||||||||||||||||||||||||||||
| 23/430 | BeadSorted.Saliva.EPIC 1.12.0 (landing page) | Jonah Fisher | OK | OK | OK | ||||||||||||||||||||||||||||||
| 24/430 | benchmarkfdrData2019 1.18.0 (landing page) | Stephanie Hicks | OK | OK | OK | ||||||||||||||||||||||||||||||
| 25/430 | beta7 1.42.0 (landing page) | Jean Yang | OK | OK | WARNINGS | ||||||||||||||||||||||||||||||
| 26/430 | BioImageDbs 1.12.0 (landing page) | Satoshi Kume | OK | OK | OK | ||||||||||||||||||||||||||||||
| 27/430 | BioPlex 1.10.0 (landing page) | Ludwig Geistlinger | OK | OK | OK | ||||||||||||||||||||||||||||||
| 28/430 | biotmleData 1.28.0 (landing page) | Nima Hejazi | OK | OK | WARNINGS | ||||||||||||||||||||||||||||||
| 29/430 | biscuiteerData 1.18.0 (landing page) | "Jacob Morrison" | OK | OK | OK | ||||||||||||||||||||||||||||||
| 30/430 | bladderbatch 1.42.0 (landing page) | Jeffrey T. Leek | OK | OK | WARNINGS | ||||||||||||||||||||||||||||||
| 31/430 | blimaTestingData 1.24.0 (landing page) | Vojtech Kulvait | OK | OK | OK | ||||||||||||||||||||||||||||||
| 32/430 | BloodCancerMultiOmics2017 1.24.0 (landing page) | Malgorzata Oles | OK | OK | WARNINGS | ||||||||||||||||||||||||||||||
| 33/430 | bodymapRat 1.20.0 (landing page) | Stephanie Hicks | OK | OK | OK | ||||||||||||||||||||||||||||||
| 34/430 | breakpointRdata 1.22.0 (landing page) | David Porubsky | OK | OK | OK | ||||||||||||||||||||||||||||||
| 35/430 | breastCancerMAINZ 1.42.0 (landing page) | Markus Schroeder | OK | OK | WARNINGS | ||||||||||||||||||||||||||||||
| 36/430 | breastCancerNKI 1.42.0 (landing page) | Markus Schroeder | OK | OK | WARNINGS | ||||||||||||||||||||||||||||||
| 37/430 | breastCancerTRANSBIG 1.42.0 (landing page) | Markus Schroeder | OK | OK | WARNINGS | ||||||||||||||||||||||||||||||
| 38/430 | breastCancerUNT 1.42.0 (landing page) | Markus Schroeder | OK | OK | WARNINGS | ||||||||||||||||||||||||||||||
| 39/430 | breastCancerUPP 1.42.0 (landing page) | Markus Schroeder | OK | OK | WARNINGS | ||||||||||||||||||||||||||||||
| 40/430 | breastCancerVDX 1.42.0 (landing page) | Markus Schroeder | OK | OK | WARNINGS | ||||||||||||||||||||||||||||||
| 41/430 | brgedata 1.26.0 (landing page) | Dolors Pelegri-Siso | OK | OK | WARNINGS | ||||||||||||||||||||||||||||||
| 42/430 | bronchialIL13 1.42.0 (landing page) | Vince Carey | OK | OK | OK | ||||||||||||||||||||||||||||||
| 43/430 | bsseqData 0.42.0 (landing page) | Kasper Daniel Hansen | OK | OK | WARNINGS | ||||||||||||||||||||||||||||||
|
| ||||||||||||||||||||||||||||||||||
| Package | Maintainer | INSTALL | BUILD | CHECK | |||||||||||||||||||||||||||||||
| 44/430 | cancerdata 1.42.0 (landing page) | Daniel Kosztyla | OK | OK | OK | ||||||||||||||||||||||||||||||
| 45/430 | CardinalWorkflows 1.36.0 (landing page) | Kylie A. Bemis | OK | OK | OK | ||||||||||||||||||||||||||||||
| 46/430 | ccdata 1.30.0 (landing page) | Alex Pickering | OK | OK | WARNINGS | ||||||||||||||||||||||||||||||
| 47/430 | CCl4 1.42.0 (landing page) | Audrey Kauffmann | OK | OK | WARNINGS | ||||||||||||||||||||||||||||||
| 48/430 | celarefData 1.22.0 (landing page) | Sarah Williams | OK | OK | OK | ||||||||||||||||||||||||||||||
| 49/430 | celldex 1.14.0 (landing page) | Aaron Lun | OK | OK | OK | ||||||||||||||||||||||||||||||
| 50/430 | CellMapperData 1.30.0 (landing page) | Brad Nelms | OK | OK | OK | ||||||||||||||||||||||||||||||
| 51/430 | cfToolsData 1.2.0 (landing page) | Ran Hu | OK | OK | OK | ||||||||||||||||||||||||||||||
| 52/430 | ChAMPdata 2.36.0 (landing page) | Yuan Tian | OK | OK | WARNINGS | ||||||||||||||||||||||||||||||
| 53/430 | ChimpHumanBrainData 1.42.0 (landing page) | Sean Davis | OK | OK | OK | ||||||||||||||||||||||||||||||
| 54/430 | chipenrich.data 2.28.0 (landing page) | Kai Wang | OK | OK | WARNINGS | ||||||||||||||||||||||||||||||
| 55/430 | ChIPexoQualExample 1.28.0 (landing page) | Rene Welch | OK | OK | OK | ||||||||||||||||||||||||||||||
| 56/430 | chipseqDBData 1.20.0 (landing page) | Aaron Lun | OK | OK | OK | ||||||||||||||||||||||||||||||
| 57/430 | ChIPXpressData 1.42.0 (landing page) | George Wu | OK | OK | WARNINGS | ||||||||||||||||||||||||||||||
| 58/430 | chromstaRData 1.30.0 (landing page) | Aaron Taudt | OK | OK | WARNINGS | ||||||||||||||||||||||||||||||
| 59/430 | CLL 1.44.0 (landing page) | Robert Gentleman | OK | OK | OK | ||||||||||||||||||||||||||||||
| 60/430 | CLLmethylation 1.24.0 (landing page) | Malgorzata Oles | OK | OK | OK | ||||||||||||||||||||||||||||||
| 61/430 | CluMSIDdata 1.20.0 (landing page) | Tobias Depke | OK | OK | OK | ||||||||||||||||||||||||||||||
| 62/430 | clustifyrdatahub 1.14.0 (landing page) | Kent Riemondy | OK | OK | OK | ||||||||||||||||||||||||||||||
| 63/430 | cMap2data 1.40.0 (landing page) | J. Saez-Rodriguez | OK | OK | WARNINGS | ||||||||||||||||||||||||||||||
| 64/430 | cnvGSAdata 1.40.0 (landing page) | Joseph Lugo | OK | OK | WARNINGS | ||||||||||||||||||||||||||||||
| 65/430 | COHCAPanno 1.40.0 (landing page) | Charles Warden | OK | OK | OK | ||||||||||||||||||||||||||||||
| 66/430 | colonCA 1.46.0 (landing page) | W Sylvia Merk | OK | OK | WARNINGS | ||||||||||||||||||||||||||||||
| 67/430 | CONFESSdata 1.32.0 (landing page) | Diana LOW | OK | OK | OK | ||||||||||||||||||||||||||||||
| 68/430 | ConnectivityMap 1.40.0 (landing page) | Paul Shannon | OK | OK | OK | ||||||||||||||||||||||||||||||
| 69/430 | COPDSexualDimorphism.data 1.40.0 (landing page) | J Fah Sathirapongsasuti | OK | OK | WARNINGS | ||||||||||||||||||||||||||||||
| 70/430 | CopyhelpeR 1.36.0 (landing page) | Oscar Krijgsman | OK | OK | OK | ||||||||||||||||||||||||||||||
| 71/430 | CopyNeutralIMA 1.22.0 (landing page) | Xavier Pastor Hostench | OK | OK | OK | ||||||||||||||||||||||||||||||
| 72/430 | Amanda D. Clark | OK | OK | OK | |||||||||||||||||||||||||||||||
| 73/430 | COSMIC.67 1.40.0 (landing page) | Julian Gehring | OK | OK | OK | ||||||||||||||||||||||||||||||
| 74/430 | CRCL18 1.24.0 (landing page) | Claudio Isella | OK | OK | OK | ||||||||||||||||||||||||||||||
| 75/430 | crisprScoreData 1.8.0 (landing page) | Jean-Philippe Fortin | OK | OK | OK | ||||||||||||||||||||||||||||||
| 76/430 | curatedAdipoArray 1.16.0 (landing page) | Mahmoud Ahmed | OK | OK | OK | ||||||||||||||||||||||||||||||
| 77/430 | curatedAdipoChIP 1.20.0 (landing page) | Mahmoud Ahmed | OK | OK | OK | ||||||||||||||||||||||||||||||
| 78/430 | curatedAdipoRNA 1.20.0 (landing page) | Mahmoud Ahmed | OK | OK | WARNINGS | ||||||||||||||||||||||||||||||
| 79/430 | curatedBladderData 1.40.0 (landing page) | Markus Riester | OK | OK | OK | ||||||||||||||||||||||||||||||
| 80/430 | curatedBreastData 2.32.0 (landing page) | Katie Planey | OK | OK | OK | ||||||||||||||||||||||||||||||
| 81/430 | curatedCRCData 2.36.0 (landing page) | Princy Parsana | OK | OK | ERROR | ||||||||||||||||||||||||||||||
| 82/430 | curatedMetagenomicData 3.12.0 (landing page) | Lucas schiffer | OK | OK | OK | ||||||||||||||||||||||||||||||
| 83/430 | curatedOvarianData 1.42.0 (landing page) | Levi Waldron | OK | OK | OK | ||||||||||||||||||||||||||||||
| 84/430 | curatedPCaData 1.0.4 (landing page) | Teemu Daniel Laajala | OK | OK | OK | ||||||||||||||||||||||||||||||
| 85/430 | curatedTBData 2.0.0 (landing page) | Xutao Wang | OK | OK | WARNINGS | ||||||||||||||||||||||||||||||
| 86/430 | curatedTCGAData 1.26.0 (landing page) | Marcel Ramos | OK | OK | WARNINGS | ||||||||||||||||||||||||||||||
| 87/430 | CytoMethIC 1.0.0 (landing page) | Jacob Fanale | OK | OK | OK | ||||||||||||||||||||||||||||||
|
| ||||||||||||||||||||||||||||||||||
| Package | Maintainer | INSTALL | BUILD | CHECK | |||||||||||||||||||||||||||||||
| 88/430 | DAPARdata 1.34.0 (landing page) | Samuel Wieczorek | OK | OK | OK | ||||||||||||||||||||||||||||||
| 89/430 | davidTiling 1.44.0 (landing page) | Wolfgang Huber | OK | OK | WARNINGS | ||||||||||||||||||||||||||||||
| 90/430 | depmap 1.18.0 (landing page) | Laurent Gatto | OK | OK | OK | ||||||||||||||||||||||||||||||
| 91/430 | derfinderData 2.22.0 (landing page) | Leonardo Collado-Torres | OK | OK | OK | ||||||||||||||||||||||||||||||
| 92/430 | DeSousa2013 1.40.0 (landing page) | Xin Wang | OK | OK | OK | ||||||||||||||||||||||||||||||
| 93/430 | DExMAdata 1.12.0 (landing page) | Juan Antonio Villatoro-García | OK | OK | OK | ||||||||||||||||||||||||||||||
| 94/430 | diffloopdata 1.32.0 (landing page) | Caleb Lareau | OK | OK | OK | ||||||||||||||||||||||||||||||
| 95/430 | diggitdata 1.36.0 (landing page) | Mariano Javier Alvarez | OK | OK | OK | ||||||||||||||||||||||||||||||
| 96/430 | DLBCL 1.44.0 (landing page) | Marcus Dittrich | OK | OK | WARNINGS | ||||||||||||||||||||||||||||||
| 97/430 | DmelSGI 1.36.0 (landing page) | Mike Smith | OK | OK | OK | ||||||||||||||||||||||||||||||
| 98/430 | DMRcatedata 2.22.0 (landing page) | Tim Peters | OK | OK | OK | ||||||||||||||||||||||||||||||
| 99/430 | DNAZooData 1.4.0 (landing page) | Jacques Serizay | OK | OK | OK | ||||||||||||||||||||||||||||||
| 100/430 | DonaPLLP2013 1.42.0 (landing page) | Joseph D. Barry | OK | OK | OK | ||||||||||||||||||||||||||||||
| 101/430 | dorothea 1.16.0 (landing page) | Pau Badia-i-Mompel | OK | OK | OK | ||||||||||||||||||||||||||||||
| 102/430 | dressCheck 0.42.0 (landing page) | Vincent Carey | OK | OK | OK | ||||||||||||||||||||||||||||||
| 103/430 | DropletTestFiles 1.14.0 (landing page) | Aaron Lun | OK | OK | OK | ||||||||||||||||||||||||||||||
| 104/430 | DrugVsDiseasedata 1.40.0 (landing page) | J. Saez-Rodriguez | OK | OK | OK | ||||||||||||||||||||||||||||||
| 105/430 | DuoClustering2018 1.22.0 (landing page) | Angelo Duò | OK | OK | OK | ||||||||||||||||||||||||||||||
| 106/430 | DvDdata 1.40.0 (landing page) | J. Saez-Rodriguez | OK | OK | WARNINGS | ||||||||||||||||||||||||||||||
| 107/430 | dyebiasexamples 1.44.0 (landing page) | Philip Lijnzaad | OK | OK | WARNINGS | ||||||||||||||||||||||||||||||
|
| ||||||||||||||||||||||||||||||||||
| Package | Maintainer | INSTALL | BUILD | CHECK | |||||||||||||||||||||||||||||||
| 108/430 | easierData 1.10.0 (landing page) | Oscar Lapuente-Santana | OK | OK | OK | ||||||||||||||||||||||||||||||
| 109/430 | EatonEtAlChIPseq 0.42.0 (landing page) | Patrick Aboyoun | OK | OK | WARNINGS | ||||||||||||||||||||||||||||||
| 110/430 | ecoliLeucine 1.44.0 (landing page) | Laurent Gautier | OK | OK | WARNINGS | ||||||||||||||||||||||||||||||
| 111/430 | EGSEAdata 1.32.0 (landing page) | Monther Alhamdoosh | OK | OK | OK | ||||||||||||||||||||||||||||||
| 112/430 | ELMER.data 2.28.0 (landing page) | Tiago Chedraoui Silva | OK | OK | WARNINGS | ||||||||||||||||||||||||||||||
| 113/430 | emtdata 1.12.0 (landing page) | Malvika D. Kharbanda | OK | OK | OK | ||||||||||||||||||||||||||||||
| 114/430 | EpiMix.data 1.6.0 (landing page) | Yuanning Zheng | OK | OK | WARNINGS | ||||||||||||||||||||||||||||||
| 115/430 | epimutacionsData 1.8.0 (landing page) | Leire Abarrategui | OK | OK | OK | ||||||||||||||||||||||||||||||
| 116/430 | estrogen 1.50.0 (landing page) | Wolfgang Huber | OK | OK | OK | ||||||||||||||||||||||||||||||
| 117/430 | etec16s 1.32.0 (landing page) | Joseph N. Paulson | OK | OK | OK | ||||||||||||||||||||||||||||||
| 118/430 | ewceData 1.12.0 (landing page) | Alan Murphy | OK | OK | OK | ||||||||||||||||||||||||||||||
|
| ||||||||||||||||||||||||||||||||||
| Package | Maintainer | INSTALL | BUILD | CHECK | |||||||||||||||||||||||||||||||
| 119/430 | faahKO 1.44.0 (landing page) | Steffen Neumann | OK | OK | OK | ||||||||||||||||||||||||||||||
| 120/430 | fabiaData 1.42.0 (landing page) | Sepp Hochreiter | OK | OK | OK | ||||||||||||||||||||||||||||||
| 121/430 | FANTOM3and4CAGE 1.40.0 (landing page) | Vanja Haberle | OK | OK | OK | ||||||||||||||||||||||||||||||
| 122/430 | ffpeExampleData 1.42.0 (landing page) | Levi Waldron | OK | OK | OK | ||||||||||||||||||||||||||||||
| 123/430 | fibroEset 1.46.0 (landing page) | Sylvia Merk | OK | OK | WARNINGS | ||||||||||||||||||||||||||||||
| 124/430 | FieldEffectCrc 1.14.0 (landing page) | Christopher Dampier | OK | OK | OK | ||||||||||||||||||||||||||||||
| 125/430 | FIs 1.32.0 (landing page) | Herbert Braselmann | OK | OK | OK | ||||||||||||||||||||||||||||||
| 126/430 | fission 1.24.0 (landing page) | Michael Love | OK | OK | OK | ||||||||||||||||||||||||||||||
| 127/430 | Fletcher2013a 1.40.0 (landing page) | Mauro Castro | OK | OK | OK | ||||||||||||||||||||||||||||||
| 128/430 | Fletcher2013b 1.40.0 (landing page) | Mauro Castro | OK | OK | WARNINGS | ||||||||||||||||||||||||||||||
| 129/430 | flowPloidyData 1.30.0 (landing page) | Tyler Smith | OK | OK | OK | ||||||||||||||||||||||||||||||
| 130/430 | FlowSorted.Blood.450k 1.42.0 (landing page) | Andrew E Jaffe | OK | OK | WARNINGS | ||||||||||||||||||||||||||||||
| 131/430 | FlowSorted.Blood.EPIC 2.8.0 (landing page) | Lucas A. Salas | OK | OK | OK | ||||||||||||||||||||||||||||||
| 132/430 | FlowSorted.CordBlood.450k 1.32.0 (landing page) | Shan V. Andrews | OK | OK | WARNINGS | ||||||||||||||||||||||||||||||
| 133/430 | FlowSorted.CordBloodCombined.450k 1.20.0 (landing page) | Lucas A. Salas | OK | OK | OK | ||||||||||||||||||||||||||||||
| 134/430 | FlowSorted.CordBloodNorway.450k 1.30.0 (landing page) | kristina gervin | OK | OK | WARNINGS | ||||||||||||||||||||||||||||||
| 135/430 | FlowSorted.DLPFC.450k 1.40.0 (landing page) | Andrew E Jaffe | OK | OK | WARNINGS | ||||||||||||||||||||||||||||||
| 136/430 | flowWorkspaceData 3.16.0 (landing page) | Mike Jiang | OK | OK | OK | ||||||||||||||||||||||||||||||
| 137/430 | fourDNData 1.4.0 (landing page) | Jacques Serizay | OK | OK | OK | ||||||||||||||||||||||||||||||
| 138/430 | frmaExampleData 1.40.0 (landing page) | Matthew N. McCall | OK | OK | WARNINGS | ||||||||||||||||||||||||||||||
| 139/430 | furrowSeg 1.32.0 (landing page) | Joseph Barry | OK | OK | WARNINGS | ||||||||||||||||||||||||||||||
|
| ||||||||||||||||||||||||||||||||||
| Package | Maintainer | INSTALL | BUILD | CHECK | |||||||||||||||||||||||||||||||
| 140/430 | gageData 2.42.0 (landing page) | Weijun Luo | OK | OK | OK | ||||||||||||||||||||||||||||||
| 141/430 | gaschYHS 1.42.0 (landing page) | Vince Carey | OK | OK | OK | ||||||||||||||||||||||||||||||
| 142/430 | gcspikelite 1.42.0 (landing page) | Mark Robinson | OK | OK | WARNINGS | ||||||||||||||||||||||||||||||
| 143/430 | gDNAinRNAseqData 1.4.0 (landing page) | Robert Castelo | OK | OK | OK | ||||||||||||||||||||||||||||||
| 144/430 | gDRtestData 1.2.0 (landing page) | Arkadiusz Gladki | OK | OK | OK | ||||||||||||||||||||||||||||||
| 145/430 | geneLenDataBase 1.40.1 (landing page) | Matthew Young | OK | OK | OK | ||||||||||||||||||||||||||||||
| 146/430 | genomationData 1.36.0 (landing page) | Vedran Franke | OK | OK | OK | ||||||||||||||||||||||||||||||
| 147/430 | GenomicDistributionsData 1.12.0 (landing page) | Kristyna Kupkova | OK | OK | OK | ||||||||||||||||||||||||||||||
| 148/430 | GeuvadisTranscriptExpr 1.32.0 (landing page) | Malgorzata Nowicka | OK | OK | OK | ||||||||||||||||||||||||||||||
| 149/430 | GIGSEAdata 1.22.0 (landing page) | Shijia Zhu | OK | OK | WARNINGS | ||||||||||||||||||||||||||||||
| 150/430 | golubEsets 1.46.0 (landing page) | Vince Carey | OK | OK | OK | ||||||||||||||||||||||||||||||
| 151/430 | gpaExample 1.16.0 (landing page) | Dongjun Chung | OK | OK | OK | ||||||||||||||||||||||||||||||
| 152/430 | grndata 1.36.0 (landing page) | Pau Bellot | OK | OK | WARNINGS | ||||||||||||||||||||||||||||||
| 153/430 | GSBenchMark 1.24.0 (landing page) | Bahman Afsari | OK | OK | OK | ||||||||||||||||||||||||||||||
| 154/430 | GSE103322 1.10.0 (landing page) | Mariano Alvarez | OK | OK | OK | ||||||||||||||||||||||||||||||
| 155/430 | GSE13015 1.12.0 (landing page) | Darawan Rinchai | OK | OK | OK | ||||||||||||||||||||||||||||||
| 156/430 | GSE159526 1.10.0 (landing page) | Victor Yuan | OK | OK | OK | ||||||||||||||||||||||||||||||
| 157/430 | GSE62944 1.32.0 (landing page) | Bioconductor Package Maintainer | OK | OK | OK | ||||||||||||||||||||||||||||||
| 158/430 | GSVAdata 1.40.0 (landing page) | Robert Castelo | OK | OK | OK | ||||||||||||||||||||||||||||||
| 159/430 | GWASdata 1.42.0 (landing page) | Stephanie Gogarten | OK | OK | OK | ||||||||||||||||||||||||||||||
|
| ||||||||||||||||||||||||||||||||||
| Package | Maintainer | INSTALL | BUILD | CHECK | |||||||||||||||||||||||||||||||
| 160/430 | h5vcData 2.24.0 (landing page) | Paul Theodor Pyl | OK | OK | OK | ||||||||||||||||||||||||||||||
| 161/430 | hapmap100khind 1.46.0 (landing page) | Benilton Carvalho | OK | OK | OK | ||||||||||||||||||||||||||||||
| 162/430 | hapmap100kxba 1.46.0 (landing page) | Benilton Carvalho | OK | OK | OK | ||||||||||||||||||||||||||||||
| 163/430 | hapmap500knsp 1.46.0 (landing page) | Benilton Carvalho | OK | OK | OK | ||||||||||||||||||||||||||||||
| 164/430 | hapmap500ksty 1.46.0 (landing page) | Benilton Carvalho | OK | OK | OK | ||||||||||||||||||||||||||||||
| 165/430 | hapmapsnp5 1.46.0 (landing page) | Benilton Carvalho | OK | OK | OK | ||||||||||||||||||||||||||||||
| 166/430 | hapmapsnp6 1.46.0 (landing page) | Benilton Carvalho | OK | OK | OK | ||||||||||||||||||||||||||||||
| 167/430 | harbChIP 1.42.0 (landing page) | VJ Carey | OK | OK | OK | ||||||||||||||||||||||||||||||
| 168/430 | HarmanData 1.32.0 (landing page) | Jason Ross | OK | OK | OK | ||||||||||||||||||||||||||||||
| 169/430 | HarmonizedTCGAData 1.26.0 (landing page) | Tianle Ma | OK | OK | OK | ||||||||||||||||||||||||||||||
| 170/430 | HCAData 1.20.0 (landing page) | Federico Marini | OK | OK | OK | ||||||||||||||||||||||||||||||
| 171/430 | HCATonsilData 1.2.0 (landing page) | Ramon Massoni-Badosa | OK | OK | OK | ||||||||||||||||||||||||||||||
| 172/430 | HD2013SGI 1.44.0 (landing page) | Mike Smith | OK | OK | OK | ||||||||||||||||||||||||||||||
| 173/430 | HDCytoData 1.24.0 (landing page) | Lukas M. Weber | OK | OK | OK | ||||||||||||||||||||||||||||||
| 174/430 | healthyControlsPresenceChecker 1.8.0 (landing page) | Davide Chicco | OK | OK | OK | ||||||||||||||||||||||||||||||
| 175/430 | healthyFlowData 1.42.0 (landing page) | Ariful Azad | OK | OK | OK | ||||||||||||||||||||||||||||||
| 176/430 | HEEBOdata 1.42.0 (landing page) | Agnes Paquet | OK | OK | WARNINGS | ||||||||||||||||||||||||||||||
| 177/430 | HelloRangesData 1.30.0 (landing page) | Michael Lawrence | OK | OK | OK | ||||||||||||||||||||||||||||||
| 178/430 | hgu133abarcodevecs 1.42.0 (landing page) | Matthew N. McCall | OK | OK | OK | ||||||||||||||||||||||||||||||
| 179/430 | hgu133plus2barcodevecs 1.42.0 (landing page) | Matthew N. McCall | OK | OK | OK | ||||||||||||||||||||||||||||||
| 180/430 | hgu133plus2CellScore 1.24.0 (landing page) | Nancy Mah | OK | OK | WARNINGS | ||||||||||||||||||||||||||||||
| 181/430 | hgu2beta7 1.44.0 (landing page) | Bioconductor Package Maintainer | OK | OK | WARNINGS | ||||||||||||||||||||||||||||||
| 182/430 | HiBED 1.2.0 (landing page) | Ze Zhang | OK | OK | OK | ||||||||||||||||||||||||||||||
| 183/430 | HiCDataHumanIMR90 1.24.0 (landing page) | Nicolas Servant | OK | OK | WARNINGS | ||||||||||||||||||||||||||||||
| 184/430 | HiCDataLymphoblast 1.40.0 (landing page) | Borbala Mifsud | OK | OK | OK | ||||||||||||||||||||||||||||||
| 185/430 | HiContactsData 1.6.0 (landing page) | Jacques Serizay | OK | OK | OK | ||||||||||||||||||||||||||||||
| 186/430 | HighlyReplicatedRNASeq 1.16.0 (landing page) | Constantin Ahlmann-Eltze | OK | OK | OK | ||||||||||||||||||||||||||||||
| 187/430 | Hiiragi2013 1.40.0 (landing page) | Andrzej Oles | OK | ERROR | skipped | ||||||||||||||||||||||||||||||
| 188/430 | HIVcDNAvantWout03 1.44.0 (landing page) | Chris Fraley | OK | OK | WARNINGS | ||||||||||||||||||||||||||||||
| 189/430 | HMP16SData 1.24.0 (landing page) | Lucas schiffer | OK | OK | OK | ||||||||||||||||||||||||||||||
| 190/430 | HMP2Data 1.18.0 (landing page) | John Stansfield | OK | OK | OK | ||||||||||||||||||||||||||||||
| 191/430 | homosapienDEE2CellScore 1.0.0 (landing page) | Justin Marsh | OK | OK | OK | ||||||||||||||||||||||||||||||
| 192/430 | HSMMSingleCell 1.24.0 (landing page) | Cole Trapnell | OK | OK | WARNINGS | ||||||||||||||||||||||||||||||
| 193/430 | HumanAffyData 1.30.0 (landing page) | Brad Nelms | OK | OK | OK | ||||||||||||||||||||||||||||||
| 194/430 | humanStemCell 0.44.0 (landing page) | R. Gentleman | OK | OK | WARNINGS | ||||||||||||||||||||||||||||||
|
| ||||||||||||||||||||||||||||||||||
| Package | Maintainer | INSTALL | BUILD | CHECK | |||||||||||||||||||||||||||||||
| 195/430 | IHWpaper 1.32.0 (landing page) | Nikos Ignatiadis | OK | OK | OK | ||||||||||||||||||||||||||||||
| 196/430 | Illumina450ProbeVariants.db 1.40.0 (landing page) | Tiffany Morris | OK | OK | OK | ||||||||||||||||||||||||||||||
| 197/430 | IlluminaDataTestFiles 1.42.0 (landing page) | Kasper Daniel Hansen | OK | OK | OK | ||||||||||||||||||||||||||||||
| 198/430 | imcdatasets 1.12.0 (landing page) | Nicolas Damond | OK | OK | OK | ||||||||||||||||||||||||||||||
| 199/430 | ITALICSData 2.42.0 (landing page) | Guillem Rigaill | OK | OK | WARNINGS | ||||||||||||||||||||||||||||||
| 200/430 | Iyer517 1.46.0 (landing page) | Vince Carey | OK | OK | OK | ||||||||||||||||||||||||||||||
|
| ||||||||||||||||||||||||||||||||||
| Package | Maintainer | INSTALL | BUILD | CHECK | |||||||||||||||||||||||||||||||
| 201/430 | JASPAR2014 1.40.0 (landing page) | Ge Tan | OK | OK | WARNINGS | ||||||||||||||||||||||||||||||
| 202/430 | JASPAR2016 1.32.0 (landing page) | Ge Tan | OK | OK | OK | ||||||||||||||||||||||||||||||
| 203/430 | JohnsonKinaseData 1.0.0 (landing page) | Florian Geier | OK | OK | OK | ||||||||||||||||||||||||||||||
|
| ||||||||||||||||||||||||||||||||||
| Package | Maintainer | INSTALL | BUILD | CHECK | |||||||||||||||||||||||||||||||
| 204/430 | KEGGandMetacoreDzPathwaysGEO 1.24.0 (landing page) | Gaurav Bhatti | OK | OK | OK | ||||||||||||||||||||||||||||||
| 205/430 | KEGGdzPathwaysGEO 1.42.0 (landing page) | Gaurav Bhatti | OK | OK | OK | ||||||||||||||||||||||||||||||
| 206/430 | kidpack 1.46.0 (landing page) | Wolfgang Huber | OK | OK | WARNINGS | ||||||||||||||||||||||||||||||
| 207/430 | KOdata 1.30.0 (landing page) | Shana White | OK | OK | WARNINGS | ||||||||||||||||||||||||||||||
|
| ||||||||||||||||||||||||||||||||||
| Package | Maintainer | INSTALL | BUILD | CHECK | |||||||||||||||||||||||||||||||
| 208/430 | leeBamViews 1.40.0 (landing page) | VJ Carey | OK | OK | OK | ||||||||||||||||||||||||||||||
| 209/430 | leukemiasEset 1.40.0 (landing page) | Sara Aibar | OK | OK | OK | ||||||||||||||||||||||||||||||
| 210/430 | LiebermanAidenHiC2009 0.42.0 (landing page) | Felix Klein | OK | OK | WARNINGS | ||||||||||||||||||||||||||||||
| 211/430 | ListerEtAlBSseq 1.36.0 (landing page) | Mattia Furlan | OK | OK | WARNINGS | ||||||||||||||||||||||||||||||
| 212/430 | LRcellTypeMarkers 1.12.0 (landing page) | Wenjing Ma | OK | OK | OK | ||||||||||||||||||||||||||||||
| 213/430 | lumiBarnes 1.44.0 (landing page) | Pan Du | OK | OK | WARNINGS | ||||||||||||||||||||||||||||||
| 214/430 | LungCancerACvsSCCGEO 1.40.0 (landing page) | Adi Laurentiu Tarca | OK | OK | OK | ||||||||||||||||||||||||||||||
| 215/430 | LungCancerLines 0.42.0 (landing page) | Michael Lawrence | OK | OK | OK | ||||||||||||||||||||||||||||||
| 216/430 | lungExpression 0.42.0 (landing page) | Robert Scharpf | OK | OK | OK | ||||||||||||||||||||||||||||||
| 217/430 | lydata 1.30.0 (landing page) | Alex Pickering | OK | OK | OK | ||||||||||||||||||||||||||||||
|
| ||||||||||||||||||||||||||||||||||
| Package | Maintainer | INSTALL | BUILD | CHECK | |||||||||||||||||||||||||||||||
| 218/430 | M3DExampleData 1.30.0 (landing page) | Tallulah Andrews | OK | OK | WARNINGS | ||||||||||||||||||||||||||||||
| 219/430 | macrophage 1.20.0 (landing page) | Michael Love | OK | OK | WARNINGS | ||||||||||||||||||||||||||||||
| 220/430 | MACSdata 1.12.0 (landing page) | Qiang Hu | OK | OK | OK | ||||||||||||||||||||||||||||||
| 221/430 | mammaPrintData 1.40.0 (landing page) | Luigi Marchionni | OK | OK | OK | ||||||||||||||||||||||||||||||
| 222/430 | maqcExpression4plex 1.48.0 (landing page) | Benilton Carvalho | OK | OK | OK | ||||||||||||||||||||||||||||||
| 223/430 | MAQCsubset 1.42.0 (landing page) | VJ Carey | OK | OK | WARNINGS | ||||||||||||||||||||||||||||||
| 224/430 | marinerData 1.4.0 (landing page) | Eric Davis | OK | OK | OK | ||||||||||||||||||||||||||||||
| 225/430 | mCSEAdata 1.24.0 (landing page) | Jordi Martorell Marugán | OK | OK | OK | ||||||||||||||||||||||||||||||
| 226/430 | mcsurvdata 1.22.0 (landing page) | Adria Caballe Mestres | OK | OK | OK | ||||||||||||||||||||||||||||||
| 227/430 | MEDIPSData 1.40.0 (landing page) | Lukas Chavez | OK | OK | WARNINGS | ||||||||||||||||||||||||||||||
| 228/430 | MEEBOdata 1.42.0 (landing page) | Agnes Paquet | OK | OK | WARNINGS | ||||||||||||||||||||||||||||||
| 229/430 | MerfishData 1.6.0 (landing page) | Ludwig Geistlinger | OK | OK | OK | ||||||||||||||||||||||||||||||
| 230/430 | MetaGxBreast 1.24.0 (landing page) | Benjamin Haibe-Kains | OK | OK | OK | ||||||||||||||||||||||||||||||
| 231/430 | MetaGxOvarian 1.24.0 (landing page) | Benjamin Haibe-Kains | OK | OK | WARNINGS | ||||||||||||||||||||||||||||||
| 232/430 | MetaGxPancreas 1.24.0 (landing page) | Benjamin Haibe-Kains | OK | OK | OK | ||||||||||||||||||||||||||||||
| 233/430 | metaMSdata 1.40.0 (landing page) | Yann Guitton | OK | OK | OK | ||||||||||||||||||||||||||||||
| 234/430 | MetaScope 1.4.0 (landing page) | Aubrey Odom | OK | OK | ERROR | ||||||||||||||||||||||||||||||
| 235/430 | MethylAidData 1.36.0 (landing page) | M. van Iterson | OK | OK | OK | ||||||||||||||||||||||||||||||
| 236/430 | methylclockData 1.12.0 (landing page) | Dolors Pelegri-Siso | OK | OK | OK | ||||||||||||||||||||||||||||||
| 237/430 | MethylSeqData 1.14.0 (landing page) | Peter Hickey | OK | OK | OK | ||||||||||||||||||||||||||||||
| 238/430 | MicrobiomeBenchmarkData 1.6.0 (landing page) | Samuel Gamboa | OK | OK | OK | ||||||||||||||||||||||||||||||
| 239/430 | microbiomeDataSets 1.12.1 (landing page) | Leo Lahti | OK | OK | OK | ||||||||||||||||||||||||||||||
| 240/430 | microRNAome 1.26.0 (landing page) | Matthew N. McCall | OK | OK | WARNINGS | ||||||||||||||||||||||||||||||
| 241/430 | minfiData 0.50.0 (landing page) | Kasper Daniel Hansen | OK | OK | WARNINGS | ||||||||||||||||||||||||||||||
| 242/430 | minfiDataEPIC 1.30.0 (landing page) | Kasper Daniel Hansen | OK | OK | WARNINGS | ||||||||||||||||||||||||||||||
| 243/430 | minionSummaryData 1.34.0 (landing page) | Mike Smith | OK | OK | WARNINGS | ||||||||||||||||||||||||||||||
| 244/430 | miRcompData 1.34.0 (landing page) | Matthew N. McCall | OK | OK | OK | ||||||||||||||||||||||||||||||
| 245/430 | miRNATarget 1.42.0 (landing page) | Y-h. Taguchi | OK | OK | OK | ||||||||||||||||||||||||||||||
| 246/430 | Jonathon Hill | OK | OK | OK | |||||||||||||||||||||||||||||||
| 247/430 | MMDiffBamSubset 1.40.0 (landing page) | Gabriele Schweikert | OK | OK | OK | ||||||||||||||||||||||||||||||
| 248/430 | MOFAdata 1.20.0 (landing page) | Britta Velten | OK | OK | OK | ||||||||||||||||||||||||||||||
| 249/430 | mosaicsExample 1.42.0 (landing page) | Dongjun Chung | OK | OK | WARNINGS | ||||||||||||||||||||||||||||||
| 250/430 | mouse4302barcodevecs 1.42.0 (landing page) | Matthew N. McCall | OK | OK | OK | ||||||||||||||||||||||||||||||
| 251/430 | MouseAgingData 1.0.0 (landing page) | Tram Nguyen | OK | OK | OK | ||||||||||||||||||||||||||||||
| 252/430 | MouseGastrulationData 1.18.0 (landing page) | Jonathan Griffiths | OK | OK | OK | ||||||||||||||||||||||||||||||
| 253/430 | MouseThymusAgeing 1.12.0 (landing page) | Mike Morgan | OK | OK | OK | ||||||||||||||||||||||||||||||
| 254/430 | msd16s 1.24.0 (landing page) | Joseph N. Paulson | OK | OK | OK | ||||||||||||||||||||||||||||||
| 255/430 | msdata 0.44.0 (landing page) | Steffen Neumann | OK | OK | OK | ||||||||||||||||||||||||||||||
| 256/430 | msigdb 1.12.0 (landing page) | Dharmesh D. Bhuva | OK | OK | WARNINGS | ||||||||||||||||||||||||||||||
| 257/430 | MSMB 1.22.0 (landing page) | Wolfgang Huber | OK | OK | OK | ||||||||||||||||||||||||||||||
| 258/430 | msPurityData 1.32.0 (landing page) | Thomas N. Lawson | OK | OK | OK | ||||||||||||||||||||||||||||||
| 259/430 | msqc1 1.32.0 (landing page) | Christian Panse | OK | OK | OK | ||||||||||||||||||||||||||||||
| 260/430 | mtbls2 1.34.0 (landing page) | Steffen Neumann | OK | OK | WARNINGS | ||||||||||||||||||||||||||||||
| 261/430 | MUGAExampleData 1.24.0 (landing page) | Daniel Gatti | OK | OK | OK | ||||||||||||||||||||||||||||||
| 262/430 | muleaData 1.0.0 (landing page) | Eszter Ari | OK | OK | WARNINGS | ||||||||||||||||||||||||||||||
| 263/430 | multiWGCNAdata 1.2.0 (landing page) | Dario Tommasini | OK | OK | OK | ||||||||||||||||||||||||||||||
| 264/430 | muscData 1.18.0 (landing page) | Helena L. Crowell | OK | OK | WARNINGS | ||||||||||||||||||||||||||||||
| 265/430 | mvoutData 1.40.0 (landing page) | VJ Carey | OK | OK | OK | ||||||||||||||||||||||||||||||
|
| ||||||||||||||||||||||||||||||||||
| Package | Maintainer | INSTALL | BUILD | CHECK | |||||||||||||||||||||||||||||||
| 266/430 | NanoporeRNASeq 1.14.0 (landing page) | Ying Chen | OK | OK | OK | ||||||||||||||||||||||||||||||
| 267/430 | nanotubes 1.20.0 (landing page) | Malte Thodberg | OK | OK | OK | ||||||||||||||||||||||||||||||
| 268/430 | NCIgraphData 1.40.0 (landing page) | Laurent Jacob | OK | OK | WARNINGS | ||||||||||||||||||||||||||||||
| 269/430 | NestLink 1.20.0 (landing page) | Lennart Opitz | OK | OK | OK | ||||||||||||||||||||||||||||||
| 270/430 | NetActivityData 1.6.0 (landing page) | Carlos Ruiz-Arenas | OK | OK | OK | ||||||||||||||||||||||||||||||
| 271/430 | Neve2006 0.42.0 (landing page) | VJ Carey | OK | OK | OK | ||||||||||||||||||||||||||||||
| 272/430 | NGScopyData 1.24.0 (landing page) | Xiaobei Zhao | OK | OK | OK | ||||||||||||||||||||||||||||||
| 273/430 | nullrangesData 1.10.0 (landing page) | Michael Love | OK | OK | OK | ||||||||||||||||||||||||||||||
| 274/430 | NxtIRFdata 1.10.0 (landing page) | Alex Chit Hei Wong | OK | OK | OK | ||||||||||||||||||||||||||||||
|
| ||||||||||||||||||||||||||||||||||
| Package | Maintainer | INSTALL | BUILD | CHECK | |||||||||||||||||||||||||||||||
| 275/430 | ObMiTi 1.12.0 (landing page) | Omar Elashkar | OK | OK | OK | ||||||||||||||||||||||||||||||
| 276/430 | oct4 1.20.0 (landing page) | Michael Love | OK | OK | OK | ||||||||||||||||||||||||||||||
| 277/430 | octad.db 1.6.0 (landing page) | E. Chekalin | OK | OK | OK | ||||||||||||||||||||||||||||||
| 278/430 | OMICsPCAdata 1.22.0 (landing page) | Subhadeep Das | OK | OK | WARNINGS | ||||||||||||||||||||||||||||||
| 279/430 | OnassisJavaLibs 1.26.0 (landing page) | Eugenia Galeota | OK | OK | OK | ||||||||||||||||||||||||||||||
| 280/430 | optimalFlowData 1.16.0 (landing page) | Hristo Inouzhe | OK | OK | WARNINGS | ||||||||||||||||||||||||||||||
| 281/430 | orthosData 1.2.0 (landing page) | Panagiotis Papasaikas | OK | OK | OK | ||||||||||||||||||||||||||||||
|
| ||||||||||||||||||||||||||||||||||
| Package | Maintainer | INSTALL | BUILD | CHECK | |||||||||||||||||||||||||||||||
| 282/430 | parathyroidSE 1.42.0 (landing page) | Michael Love | OK | OK | OK | ||||||||||||||||||||||||||||||
| 283/430 | pasilla 1.32.0 (landing page) | Alejandro Reyes | OK | OK | OK | ||||||||||||||||||||||||||||||
| 284/430 | pasillaBamSubset 0.42.0 (landing page) | Hervé Pagès | OK | OK | OK | ||||||||||||||||||||||||||||||
| 285/430 | PasillaTranscriptExpr 1.32.0 (landing page) | Malgorzata Nowicka | OK | OK | OK | ||||||||||||||||||||||||||||||
| 286/430 | PathNetData 1.40.0 (landing page) | Ludwig Geistlinger | OK | OK | OK | ||||||||||||||||||||||||||||||
| 287/430 | PCHiCdata 1.32.0 (landing page) | Mikhail Spivakov | OK | OK | WARNINGS | ||||||||||||||||||||||||||||||
| 288/430 | Sokratis Kariotis | OK | OK | ERROR | |||||||||||||||||||||||||||||||
| 289/430 | pd.atdschip.tiling 0.42.0 (landing page) | Kristof De Beuf | OK | OK | WARNINGS | ||||||||||||||||||||||||||||||
| 290/430 | pepDat 1.24.0 (landing page) | Renan Sauteraud | OK | OK | OK | ||||||||||||||||||||||||||||||
| 291/430 | PepsNMRData 1.22.0 (landing page) | Manon Martin | OK | OK | WARNINGS | ||||||||||||||||||||||||||||||
| 292/430 | PhyloProfileData 1.18.0 (landing page) | Vinh Tran | OK | OK | OK | ||||||||||||||||||||||||||||||
| 293/430 | plotgardenerData 1.10.0 (landing page) | Nicole Kramer | OK | OK | WARNINGS | ||||||||||||||||||||||||||||||
| 294/430 | prebsdata 1.40.0 (landing page) | Karolis Uziela | OK | OK | OK | ||||||||||||||||||||||||||||||
| 295/430 | preciseTADhub 1.12.0 (landing page) | Mikhail Dozmorov | OK | OK | OK | ||||||||||||||||||||||||||||||
| 296/430 | PREDAsampledata 0.44.0 (landing page) | Francesco Ferrari | OK | OK | OK | ||||||||||||||||||||||||||||||
| 297/430 | ProData 1.42.0 (landing page) | Xiaochun Li | OK | OK | OK | ||||||||||||||||||||||||||||||
| 298/430 | pRolocdata 1.42.0 (landing page) | Laurent Gatto | OK | OK | OK | ||||||||||||||||||||||||||||||
| 299/430 | prostateCancerCamcap 1.32.0 (landing page) | Mark Dunning | OK | OK | WARNINGS | ||||||||||||||||||||||||||||||
| 300/430 | prostateCancerGrasso 1.32.0 (landing page) | Mark Dunning | OK | OK | WARNINGS | ||||||||||||||||||||||||||||||
| 301/430 | prostateCancerStockholm 1.32.0 (landing page) | Mark Dunning | OK | OK | WARNINGS | ||||||||||||||||||||||||||||||
| 302/430 | prostateCancerTaylor 1.32.0 (landing page) | Mark Dunning | OK | OK | WARNINGS | ||||||||||||||||||||||||||||||
| 303/430 | prostateCancerVarambally 1.32.0 (landing page) | Mark Dunning | OK | OK | WARNINGS | ||||||||||||||||||||||||||||||
| 304/430 | ptairData 1.12.0 (landing page) | camille Roquencourt | OK | OK | OK | ||||||||||||||||||||||||||||||
| 305/430 | PtH2O2lipids 1.30.0 (landing page) | James Collins | OK | OK | WARNINGS | ||||||||||||||||||||||||||||||
| 306/430 | pumadata 2.40.0 (landing page) | Xuejun liu | OK | OK | OK | ||||||||||||||||||||||||||||||
| 307/430 | PWMEnrich.Dmelanogaster.background 4.38.0 (landing page) | Diego Diez | OK | OK | OK | ||||||||||||||||||||||||||||||
| 308/430 | PWMEnrich.Hsapiens.background 4.38.0 (landing page) | Diego Diez | OK | OK | OK | ||||||||||||||||||||||||||||||
| 309/430 | PWMEnrich.Mmusculus.background 4.38.0 (landing page) | Diego Diez | OK | OK | OK | ||||||||||||||||||||||||||||||
|
| ||||||||||||||||||||||||||||||||||
| Package | Maintainer | INSTALL | BUILD | CHECK | |||||||||||||||||||||||||||||||
| 310/430 | QDNAseq.hg19 1.34.0 (landing page) | Daoud Sie | OK | OK | OK | ||||||||||||||||||||||||||||||
| 311/430 | QDNAseq.mm10 1.34.0 (landing page) | Daoud Sie | OK | OK | OK | ||||||||||||||||||||||||||||||
| 312/430 | qPLEXdata 1.22.0 (landing page) | Kamal Kishore Developer | OK | OK | WARNINGS | ||||||||||||||||||||||||||||||
| 313/430 | QUBICdata 1.32.0 (landing page) | Yu Zhang | OK | OK | OK | ||||||||||||||||||||||||||||||
|
| ||||||||||||||||||||||||||||||||||
| Package | Maintainer | INSTALL | BUILD | CHECK | |||||||||||||||||||||||||||||||
| 314/430 | raerdata 1.2.0 (landing page) | Kent Riemondy | OK | OK | OK | ||||||||||||||||||||||||||||||
| 315/430 | rcellminerData 2.26.0 (landing page) | Augustin Luna | OK | OK | WARNINGS | ||||||||||||||||||||||||||||||
| 316/430 | RcisTarget.hg19.motifDBs.cisbpOnly.500bp 1.24.0 (landing page) | Sara Aibar | OK | OK | WARNINGS | ||||||||||||||||||||||||||||||
| 317/430 | ReactomeGSA.data 1.18.0 (landing page) | Johannes Griss | OK | OK | WARNINGS | ||||||||||||||||||||||||||||||
| 318/430 | RegParallel 1.22.0 (landing page) | Kevin Blighe | OK | OK | OK | ||||||||||||||||||||||||||||||
| 319/430 | Bioconductor Package Maintainer | OK | OK | OK | |||||||||||||||||||||||||||||||
| 320/430 | RforProteomics 1.42.0 (landing page) | Laurent Gatto | OK | OK | WARNINGS | ||||||||||||||||||||||||||||||
| 321/430 | RGMQLlib 1.24.0 (landing page) | Simone Pallotta | OK | OK | OK | ||||||||||||||||||||||||||||||
| 322/430 | rheumaticConditionWOLLBOLD 1.42.0 (landing page) | Alejandro Quiroz-Zarate | OK | OK | OK | ||||||||||||||||||||||||||||||
| 323/430 | RITANdata 1.28.0 (landing page) | Michael Zimmermann | OK | OK | OK | ||||||||||||||||||||||||||||||
| 324/430 | Henry Miller | OK | OK | ERROR | |||||||||||||||||||||||||||||||
| 325/430 | RMassBankData 1.42.0 (landing page) | Michael Stravs, Emma Schymanski | OK | OK | OK | ||||||||||||||||||||||||||||||
| 326/430 | RNAinteractMAPK 1.42.0 (landing page) | Mike Smith | OK | OK | OK | ||||||||||||||||||||||||||||||
| 327/430 | RNAmodR.Data 1.18.0 (landing page) | Felix G.M. Ernst | OK | OK | OK | ||||||||||||||||||||||||||||||
| 328/430 | RNAseqData.HNRNPC.bam.chr14 0.42.0 (landing page) | Hervé Pagès | OK | OK | OK | ||||||||||||||||||||||||||||||
| 329/430 | RnaSeqSampleSizeData 1.36.0 (landing page) | Shilin Zhao | OK | OK | OK | ||||||||||||||||||||||||||||||
| 330/430 | RnBeads.hg19 1.36.0 (landing page) | RnBeadsAnnotationCreator | OK | OK | WARNINGS | ||||||||||||||||||||||||||||||
| 331/430 | RnBeads.hg38 1.36.0 (landing page) | RnBeads Team | OK | OK | WARNINGS | ||||||||||||||||||||||||||||||
| 332/430 | RnBeads.mm10 2.12.0 (landing page) | RnBeads Team | OK | OK | OK | ||||||||||||||||||||||||||||||
| 333/430 | RnBeads.mm9 1.36.0 (landing page) | RnBeadsAnnotationCreator | OK | OK | WARNINGS | ||||||||||||||||||||||||||||||
| 334/430 | RnBeads.rn5 1.36.0 (landing page) | RnBeadsAnnotationCreator | OK | OK | OK | ||||||||||||||||||||||||||||||
| 335/430 | RRBSdata 1.24.0 (landing page) | Katja Hebestreit | OK | OK | OK | ||||||||||||||||||||||||||||||
| 336/430 | rRDPData 1.24.0 (landing page) | Michael Hahsler | OK | OK | OK | ||||||||||||||||||||||||||||||
| 337/430 | RTCGA.clinical 20151101.34.0 (landing page) | Marcin Kosinski | OK | OK | WARNINGS | ||||||||||||||||||||||||||||||
| 338/430 | RTCGA.CNV 1.32.0 (landing page) | Marcin Kosinski | OK | OK | WARNINGS | ||||||||||||||||||||||||||||||
| 339/430 | RTCGA.methylation 1.32.0 (landing page) | Marcin Kosinski | OK | OK | WARNINGS | ||||||||||||||||||||||||||||||
| 340/430 | RTCGA.miRNASeq 1.32.0 (landing page) | Marcin Kosinski | OK | OK | WARNINGS | ||||||||||||||||||||||||||||||
| 341/430 | RTCGA.mRNA 1.32.0 (landing page) | Marcin Kosinski | OK | OK | WARNINGS | ||||||||||||||||||||||||||||||
| 342/430 | RTCGA.mutations 20151101.34.0 (landing page) | Marcin Kosinski | OK | OK | WARNINGS | ||||||||||||||||||||||||||||||
| 343/430 | RTCGA.PANCAN12 1.32.0 (landing page) | Marcin Kosinski | OK | OK | OK | ||||||||||||||||||||||||||||||
| 344/430 | RTCGA.rnaseq 20151101.34.0 (landing page) | Marcin Kosinski | OK | OK | WARNINGS | ||||||||||||||||||||||||||||||
| 345/430 | RTCGA.RPPA 1.32.0 (landing page) | Marcin Kosinski | OK | OK | WARNINGS | ||||||||||||||||||||||||||||||
| 346/430 | RUVnormalizeData 1.24.0 (landing page) | Laurent Jacob | OK | OK | OK | ||||||||||||||||||||||||||||||
|
| ||||||||||||||||||||||||||||||||||
| Package | Maintainer | INSTALL | BUILD | CHECK | |||||||||||||||||||||||||||||||
| 347/430 | sampleClassifierData 1.28.0 (landing page) | Khadija El Amrani | OK | OK | OK | ||||||||||||||||||||||||||||||
| 348/430 | SBGNview.data 1.18.0 (landing page) | Weijun Luo | OK | OK | OK | ||||||||||||||||||||||||||||||
| 349/430 | scaeData 1.0.0 (landing page) | Ahmad Al Ajami | OK | ERROR | skipped | ||||||||||||||||||||||||||||||
| 350/430 | scanMiRData 1.10.0 (landing page) | Pierre-Luc Germain | OK | OK | OK | ||||||||||||||||||||||||||||||
| 351/430 | scATAC.Explorer 1.10.2 (landing page) | Arrian Gibson-Khademi | OK | OK | TIMEOUT | ||||||||||||||||||||||||||||||
| 352/430 | SCLCBam 1.36.0 (landing page) | Oscar Krijgsman | OK | OK | OK | ||||||||||||||||||||||||||||||
| 353/430 | scMultiome 1.4.2 (landing page) | Xiaosai Yao | OK | OK | OK | ||||||||||||||||||||||||||||||
| 354/430 | scpdata 1.12.0 (landing page) | Christophe Vanderaa | OK | OK | OK | ||||||||||||||||||||||||||||||
| 355/430 | scRNAseq 2.18.0 (landing page) | Aaron Lun | OK | OK | OK | ||||||||||||||||||||||||||||||
| 356/430 | scTHI.data 1.16.0 (landing page) | Michele Ceccarelli | OK | OK | OK | ||||||||||||||||||||||||||||||
| 357/430 | seq2pathway.data 1.36.0 (landing page) | Arjun Kinstlick | OK | OK | WARNINGS | ||||||||||||||||||||||||||||||
| 358/430 | seqc 1.38.0 (landing page) | Yang Liao | OK | OK | WARNINGS | ||||||||||||||||||||||||||||||
| 359/430 | serumStimulation 1.40.0 (landing page) | Morten Hansen, | OK | OK | OK | ||||||||||||||||||||||||||||||
| 360/430 | sesameData 1.22.0 (landing page) | Wanding Zhou | OK | OK | OK | ||||||||||||||||||||||||||||||
| 361/430 | seventyGeneData 1.40.0 (landing page) | Luigi Marchionni | OK | OK | OK | ||||||||||||||||||||||||||||||
| 362/430 | SFEData 1.6.0 (landing page) | Lambda Moses | OK | OK | OK | ||||||||||||||||||||||||||||||
| 363/430 | shinyMethylData 1.24.0 (landing page) | Jean-Philippe Fortin | OK | OK | WARNINGS | ||||||||||||||||||||||||||||||
| 364/430 | signatureSearchData 1.18.0 (landing page) | Brendan Gongol | OK | OK | OK | ||||||||||||||||||||||||||||||
| 365/430 | SimBenchData 1.12.0 (landing page) | Yue Cao | OK | OK | OK | ||||||||||||||||||||||||||||||
| 366/430 | simpIntLists 1.40.0 (landing page) | Kircicegi Korkmaz | OK | OK | WARNINGS | ||||||||||||||||||||||||||||||
| 367/430 | Single.mTEC.Transcriptomes 1.32.0 (landing page) | Alejandro Reyes | OK | OK | OK | ||||||||||||||||||||||||||||||
| 368/430 | SingleCellMultiModal 1.16.0 (landing page) | Marcel Ramos | OK | OK | OK | ||||||||||||||||||||||||||||||
| 369/430 | SingleMoleculeFootprintingData 1.12.0 (landing page) | Guido Barzaghi | OK | OK | OK | ||||||||||||||||||||||||||||||
| 370/430 | smokingMouse 1.2.0 (landing page) | Daianna Gonzalez-Padilla | OK | OK | OK | ||||||||||||||||||||||||||||||
| 371/430 | SNAData 1.50.0 (landing page) | Denise Scholtens | OK | OK | OK | ||||||||||||||||||||||||||||||
| 372/430 | SNAGEEdata 1.40.0 (landing page) | David Venet | OK | OK | OK | ||||||||||||||||||||||||||||||
| 373/430 | SNPhoodData 1.34.0 (landing page) | Christian Arnold | OK | OK | OK | ||||||||||||||||||||||||||||||
| 374/430 | SomatiCAData 1.42.0 (landing page) | Mengjie Chen | OK | OK | WARNINGS | ||||||||||||||||||||||||||||||
| 375/430 | SomaticCancerAlterations 1.40.0 (landing page) | Julian Gehring | OK | OK | OK | ||||||||||||||||||||||||||||||
| 376/430 | SpatialDatasets 1.2.0 (landing page) | Ellis Patrick | OK | OK | OK | ||||||||||||||||||||||||||||||
| 377/430 | spatialDmelxsim 1.10.0 (landing page) | Michael Love | OK | OK | OK | ||||||||||||||||||||||||||||||
| 378/430 | spatialLIBD 1.16.2 (landing page) | Leonardo Collado-Torres | OK | OK | OK | ||||||||||||||||||||||||||||||
| 379/430 | SpikeIn 1.46.0 (landing page) | Robert D Shear | OK | OK | OK | ||||||||||||||||||||||||||||||
| 380/430 | SpikeInSubset 1.44.0 (landing page) | Robert D Shear | OK | OK | WARNINGS | ||||||||||||||||||||||||||||||
| 381/430 | spqnData 1.16.0 (landing page) | Yi Wang | OK | OK | OK | ||||||||||||||||||||||||||||||
| 382/430 | stemHypoxia 1.40.0 (landing page) | Cristobal Fresno | OK | OK | OK | ||||||||||||||||||||||||||||||
| 383/430 | STexampleData 1.12.3 (landing page) | Lukas M. Weber | OK | OK | OK | ||||||||||||||||||||||||||||||
| 384/430 | SubcellularSpatialData 1.0.0 (landing page) | Dharmesh D. Bhuva | OK | OK | OK | ||||||||||||||||||||||||||||||
| 385/430 | SVM2CRMdata 1.36.0 (landing page) | Guidantonio Malagoli Tagliazucchi | OK | OK | WARNINGS | ||||||||||||||||||||||||||||||
| 386/430 | synapterdata 1.42.0 (landing page) | Laurent Gatto | OK | OK | OK | ||||||||||||||||||||||||||||||
| 387/430 | systemPipeRdata 2.8.0 (landing page) | Thomas Girke | OK | OK | OK | ||||||||||||||||||||||||||||||
|
| ||||||||||||||||||||||||||||||||||
| Package | Maintainer | INSTALL | BUILD | CHECK | |||||||||||||||||||||||||||||||
| 388/430 | TabulaMurisData 1.22.0 (landing page) | Charlotte Soneson | OK | OK | OK | ||||||||||||||||||||||||||||||
| 389/430 | TabulaMurisSenisData 1.10.0 (landing page) | Charlotte Soneson | OK | OK | OK | ||||||||||||||||||||||||||||||
| 390/430 | TargetScoreData 1.40.0 (landing page) | Yue Li | OK | OK | OK | ||||||||||||||||||||||||||||||
| 391/430 | TargetSearchData 1.42.0 (landing page) | Alvaro Cuadros-Inostroza | OK | OK | OK | ||||||||||||||||||||||||||||||
| 392/430 | tartare 1.18.0 (landing page) | Christian Panse | OK | OK | OK | ||||||||||||||||||||||||||||||
| 393/430 | TBX20BamSubset 1.40.0 (landing page) | D. Bindreither | OK | OK | OK | ||||||||||||||||||||||||||||||
| 394/430 | TCGAbiolinksGUI.data 1.24.0 (landing page) | Tiago Chedraoui Silva | OK | OK | WARNINGS | ||||||||||||||||||||||||||||||
| 395/430 | TCGAcrcmiRNA 1.24.0 (landing page) | Claudio Isella | OK | OK | OK | ||||||||||||||||||||||||||||||
| 396/430 | TCGAcrcmRNA 1.24.0 (landing page) | Claudio Isella | OK | OK | OK | ||||||||||||||||||||||||||||||
| 397/430 | TCGAMethylation450k 1.40.0 (landing page) | Sean Davis | OK | OK | OK | ||||||||||||||||||||||||||||||
| 398/430 | TCGAWorkflowData 1.28.0 (landing page) | Tiago Chedraoui Silva | OK | OK | OK | ||||||||||||||||||||||||||||||
| 399/430 | TENxBrainData 1.24.0 (landing page) | Bioconductor Package Maintainer | OK | OK | ERROR | ||||||||||||||||||||||||||||||
| 400/430 | TENxBUSData 1.18.0 (landing page) | Lambda Moses | OK | OK | OK | ||||||||||||||||||||||||||||||
| 401/430 | TENxPBMCData 1.22.0 (landing page) | Stephanie Hicks | OK | OK | OK | ||||||||||||||||||||||||||||||
| 402/430 | TENxVisiumData 1.12.0 (landing page) | Helena L. Crowell | OK | OK | OK | ||||||||||||||||||||||||||||||
| 403/430 | TENxXeniumData 1.0.0 (landing page) | Matineh Rahmatbakhsh | OK | OK | OK | ||||||||||||||||||||||||||||||
| 404/430 | timecoursedata 1.14.0 (landing page) | Nelle Varoquaux | OK | OK | OK | ||||||||||||||||||||||||||||||
| 405/430 | TimerQuant 1.34.0 (landing page) | Joseph Barry | OK | OK | OK | ||||||||||||||||||||||||||||||
| 406/430 | tinesath1cdf 1.42.0 (landing page) | Tine Casneuf | OK | OK | WARNINGS | ||||||||||||||||||||||||||||||
| 407/430 | tinesath1probe 1.42.0 (landing page) | Tine Casneuf | OK | OK | WARNINGS | ||||||||||||||||||||||||||||||
| 408/430 | tissueTreg 1.24.0 (landing page) | Charles Imbusch | OK | OK | OK | ||||||||||||||||||||||||||||||
| 409/430 | TMExplorer 1.14.0 (landing page) | Erik Christensen | OK | OK | OK | ||||||||||||||||||||||||||||||
| 410/430 | tofsimsData 1.32.0 (landing page) | Lorenz Gerber | OK | OK | WARNINGS | ||||||||||||||||||||||||||||||
| 411/430 | topdownrdata 1.26.0 (landing page) | Sebastian Gibb | OK | OK | OK | ||||||||||||||||||||||||||||||
| 412/430 | TransOmicsData 1.0.1 (landing page) | Di Xiao | OK | OK | OK | ||||||||||||||||||||||||||||||
| 413/430 | tuberculosis 1.10.0 (landing page) | Lucas Schiffer | OK | OK | OK | ||||||||||||||||||||||||||||||
| 414/430 | TumourMethData 1.2.0 (landing page) | Richard Heery | OK | OK | WARNINGS | ||||||||||||||||||||||||||||||
| 415/430 | tweeDEseqCountData 1.42.0 (landing page) | Dolors Pelegri-Siso | OK | OK | WARNINGS | ||||||||||||||||||||||||||||||
| 416/430 | tximportData 1.32.0 (landing page) | Michael Love | OK | OK | OK | ||||||||||||||||||||||||||||||
|
| ||||||||||||||||||||||||||||||||||
| Package | Maintainer | INSTALL | BUILD | CHECK | |||||||||||||||||||||||||||||||
| 417/430 | VariantToolsData 1.28.0 (landing page) | Michael Lawrence | OK | OK | OK | ||||||||||||||||||||||||||||||
| 418/430 | VectraPolarisData 1.8.0 (landing page) | Wrobel Julia | OK | OK | OK | ||||||||||||||||||||||||||||||
| 419/430 | vulcandata 1.26.0 (landing page) | Federico M. Giorgi | OK | OK | OK | ||||||||||||||||||||||||||||||
|
| ||||||||||||||||||||||||||||||||||
| Package | Maintainer | INSTALL | BUILD | CHECK | |||||||||||||||||||||||||||||||
| 420/430 | WeberDivechaLCdata 1.6.0 (landing page) | Lukas M. Weber | OK | OK | OK | ||||||||||||||||||||||||||||||
| 421/430 | WES.1KG.WUGSC 1.36.0 (landing page) | Yuchao Jiang | OK | OK | OK | ||||||||||||||||||||||||||||||
| 422/430 | WGSmapp 1.16.0 (landing page) | Rujin Wang | OK | OK | WARNINGS | ||||||||||||||||||||||||||||||
|
| ||||||||||||||||||||||||||||||||||
| Package | Maintainer | INSTALL | BUILD | CHECK | |||||||||||||||||||||||||||||||
| 423/430 | xcoredata 1.8.0 (landing page) | Maciej Migdał | OK | OK | OK | ||||||||||||||||||||||||||||||
| 424/430 | XhybCasneuf 1.42.0 (landing page) | Tineke Casneuf | OK | OK | WARNINGS | ||||||||||||||||||||||||||||||
|
| ||||||||||||||||||||||||||||||||||
| Package | Maintainer | INSTALL | BUILD | CHECK | |||||||||||||||||||||||||||||||
| 425/430 | yeastCC 1.44.0 (landing page) | Sandrine Dudoit | OK | OK | WARNINGS | ||||||||||||||||||||||||||||||
| 426/430 | yeastExpData 0.50.0 (landing page) | R. Gentleman | OK | OK | WARNINGS | ||||||||||||||||||||||||||||||
| 427/430 | yeastGSData 0.42.0 (landing page) | R. Gentleman | OK | OK | WARNINGS | ||||||||||||||||||||||||||||||
| 428/430 | yeastNagalakshmi 1.40.0 (landing page) | Bioconductor Package Maintainer | OK | OK | OK | ||||||||||||||||||||||||||||||
| 429/430 | yeastRNASeq 0.42.0 (landing page) | J. Bullard | OK | OK | WARNINGS | ||||||||||||||||||||||||||||||
|
| ||||||||||||||||||||||||||||||||||
| Package | Maintainer | INSTALL | BUILD | CHECK | |||||||||||||||||||||||||||||||
| 430/430 | zebrafishRNASeq 1.24.1 (landing page) | Davide Risso | OK | OK | OK | ||||||||||||||||||||||||||||||