Back to Multiple platform build/check report for BioC 3.23:   simplified   long
ABCDEFGHIJKL[M]NOPQRSTUVWXYZ

This page was generated on 2025-11-19 10:12 -0500 (Wed, 19 Nov 2025).

HostnameOSArch (*)R versionInstalled pkgs
nebbiolo1Linux (Ubuntu 24.04.3 LTS)x86_64R Under development (unstable) (2025-10-20 r88955) -- "Unsuffered Consequences" 4827
lconwaymacOS 12.7.6 Montereyx86_64R Under development (unstable) (2025-10-21 r88958) -- "Unsuffered Consequences" 4600
kjohnson3macOS 13.7.7 Venturaarm64R Under development (unstable) (2025-11-04 r88984) -- "Unsuffered Consequences" 4564
Click on any hostname to see more info about the system (e.g. compilers)      (*) as reported by 'uname -p', except on Windows and Mac OS X

Package 1359/2325HostnameOS / ArchINSTALLBUILDCHECKBUILD BIN
MsBackendRawFileReader 1.17.0  (landing page)
Christian Panse
Snapshot Date: 2025-11-18 13:40 -0500 (Tue, 18 Nov 2025)
git_url: https://git.bioconductor.org/packages/MsBackendRawFileReader
git_branch: devel
git_last_commit: c509d56
git_last_commit_date: 2025-10-29 11:12:57 -0500 (Wed, 29 Oct 2025)
nebbiolo1Linux (Ubuntu 24.04.3 LTS) / x86_64  OK    OK    OK  UNNEEDED, same version is already published
lconwaymacOS 12.7.6 Monterey / x86_64  OK    OK    OK    OK  NO, package depends on 'MsCoreUtils' which is only available as a source package that needs compilation
kjohnson3macOS 13.7.7 Ventura / arm64  OK    OK    OK    OK  NO, package depends on 'MsCoreUtils' which is only available as a source package that needs compilation


CHECK results for MsBackendRawFileReader on nebbiolo1

To the developers/maintainers of the MsBackendRawFileReader package:
- Allow up to 24 hours (and sometimes 48 hours) for your latest push to git@git.bioconductor.org:packages/MsBackendRawFileReader.git to reflect on this report. See Troubleshooting Build Report for more information.
- Use the following Renviron settings to reproduce errors and warnings.
- If 'R CMD check' started to fail recently on the Linux builder(s) over a missing dependency, add the missing dependency to 'Suggests:' in your DESCRIPTION file. See Renviron.bioc for more information.

raw results


Summary

Package: MsBackendRawFileReader
Version: 1.17.0
Command: /home/biocbuild/bbs-3.23-bioc/R/bin/R CMD check --install=check:MsBackendRawFileReader.install-out.txt --library=/home/biocbuild/bbs-3.23-bioc/R/site-library --timings MsBackendRawFileReader_1.17.0.tar.gz
StartedAt: 2025-11-19 02:33:57 -0500 (Wed, 19 Nov 2025)
EndedAt: 2025-11-19 02:38:42 -0500 (Wed, 19 Nov 2025)
EllapsedTime: 285.4 seconds
RetCode: 0
Status:   OK  
CheckDir: MsBackendRawFileReader.Rcheck
Warnings: 0

Command output

##############################################################################
##############################################################################
###
### Running command:
###
###   /home/biocbuild/bbs-3.23-bioc/R/bin/R CMD check --install=check:MsBackendRawFileReader.install-out.txt --library=/home/biocbuild/bbs-3.23-bioc/R/site-library --timings MsBackendRawFileReader_1.17.0.tar.gz
###
##############################################################################
##############################################################################


* using log directory ‘/home/biocbuild/bbs-3.23-bioc/meat/MsBackendRawFileReader.Rcheck’
* using R Under development (unstable) (2025-10-20 r88955)
* using platform: x86_64-pc-linux-gnu
* R was compiled by
    gcc (Ubuntu 13.3.0-6ubuntu2~24.04) 13.3.0
    GNU Fortran (Ubuntu 13.3.0-6ubuntu2~24.04) 13.3.0
* running under: Ubuntu 24.04.3 LTS
* using session charset: UTF-8
* checking for file ‘MsBackendRawFileReader/DESCRIPTION’ ... OK
* checking extension type ... Package
* this is package ‘MsBackendRawFileReader’ version ‘1.17.0’
* package encoding: UTF-8
* checking package namespace information ... OK
* checking package dependencies ... OK
* checking if this is a source package ... OK
* checking if there is a namespace ... OK
* checking for hidden files and directories ... OK
* checking for portable file names ... OK
* checking for sufficient/correct file permissions ... OK
* checking whether package ‘MsBackendRawFileReader’ can be installed ... OK
* checking installed package size ... OK
* checking package directory ... OK
* checking ‘build’ directory ... OK
* checking DESCRIPTION meta-information ... OK
* checking top-level files ... OK
* checking for left-over files ... OK
* checking index information ... OK
* checking package subdirectories ... OK
* checking code files for non-ASCII characters ... OK
* checking R files for syntax errors ... OK
* checking whether the package can be loaded ... OK
* checking whether the package can be loaded with stated dependencies ... OK
* checking whether the package can be unloaded cleanly ... OK
* checking whether the namespace can be loaded with stated dependencies ... OK
* checking whether the namespace can be unloaded cleanly ... OK
* checking loading without being on the library search path ... OK
* checking whether startup messages can be suppressed ... OK
* checking dependencies in R code ... OK
* checking S3 generic/method consistency ... OK
* checking replacement functions ... OK
* checking foreign function calls ... OK
* checking R code for possible problems ... OK
* checking Rd files ... OK
* checking Rd metadata ... OK
* checking Rd cross-references ... OK
* checking for missing documentation entries ... OK
* checking for code/documentation mismatches ... OK
* checking Rd \usage sections ... OK
* checking Rd contents ... OK
* checking for unstated dependencies in examples ... OK
* checking files in ‘vignettes’ ... OK
* checking examples ... OK
Examples with CPU (user + system) or elapsed time > 5s
                         user system elapsed
ioBenchmark            30.438  6.028  11.738
MsBackendRawFileReader  6.577  2.113   9.424
* checking for unstated dependencies in ‘tests’ ... OK
* checking tests ...
  Running ‘testthat.R’
 OK
* checking for unstated dependencies in vignettes ... OK
* checking package vignettes ... OK
* checking re-building of vignette outputs ... OK
* checking PDF version of manual ... OK
* DONE

Status: OK


Installation output

MsBackendRawFileReader.Rcheck/00install.out

##############################################################################
##############################################################################
###
### Running command:
###
###   /home/biocbuild/bbs-3.23-bioc/R/bin/R CMD INSTALL MsBackendRawFileReader
###
##############################################################################
##############################################################################


* installing to library ‘/home/biocbuild/bbs-3.23-bioc/R/site-library’
* installing *source* package ‘MsBackendRawFileReader’ ...
** this is package ‘MsBackendRawFileReader’ version ‘1.17.0’
** using staged installation
** R
** inst
** byte-compile and prepare package for lazy loading
** help
*** installing help indices
** building package indices
** installing vignettes
** testing if installed package can be loaded from temporary location
** testing if installed package can be loaded from final location
** testing if installed package keeps a record of temporary installation path
* DONE (MsBackendRawFileReader)

Tests output

MsBackendRawFileReader.Rcheck/tests/testthat.Rout


R Under development (unstable) (2025-10-20 r88955) -- "Unsuffered Consequences"
Copyright (C) 2025 The R Foundation for Statistical Computing
Platform: x86_64-pc-linux-gnu

R is free software and comes with ABSOLUTELY NO WARRANTY.
You are welcome to redistribute it under certain conditions.
Type 'license()' or 'licence()' for distribution details.

R is a collaborative project with many contributors.
Type 'contributors()' for more information and
'citation()' on how to cite R or R packages in publications.

Type 'demo()' for some demos, 'help()' for on-line help, or
'help.start()' for an HTML browser interface to help.
Type 'q()' to quit R.

> library("testthat")
> library("MsBackendRawFileReader")
Loading required package: Spectra
Loading required package: S4Vectors
Loading required package: stats4
Loading required package: BiocGenerics
Loading required package: generics

Attaching package: 'generics'

The following objects are masked from 'package:base':

    as.difftime, as.factor, as.ordered, intersect, is.element, setdiff,
    setequal, union


Attaching package: 'BiocGenerics'

The following objects are masked from 'package:stats':

    IQR, mad, sd, var, xtabs

The following objects are masked from 'package:base':

    Filter, Find, Map, Position, Reduce, anyDuplicated, aperm, append,
    as.data.frame, basename, cbind, colnames, dirname, do.call,
    duplicated, eval, evalq, get, grep, grepl, is.unsorted, lapply,
    mapply, match, mget, order, paste, pmax, pmax.int, pmin, pmin.int,
    rank, rbind, rownames, sapply, saveRDS, table, tapply, unique,
    unsplit, which.max, which.min


Attaching package: 'S4Vectors'

The following object is masked from 'package:utils':

    findMatches

The following objects are masked from 'package:base':

    I, expand.grid, unname

Loading required package: BiocParallel
> library("Spectra")
> 
> 
> sample_raw_file <- file.path(system.file(package = "rawrr"),
+                                 'extdata', 'sample.raw')
> 
> sample_mzXML_file <- file.path(path.package(package = 'MsBackendRawFileReader'),
+                                 'extdata', 'sample.mzXML')
> 
> 
> sample_raw <-  backendInitialize(MsBackendRawFileReader::MsBackendRawFileReader(), files = sample_raw_file)
> 
> 
> #sample_mzr <-  backendInitialize(MsBackendMzR(), files = sample_mzXML_file)
> 
> 
> mgf_file <- file.path(system.file(package = "MsBackendRawFileReader"),
+                              'extdata', '3159619b11ed_4590_9594.mgf')
> 
> 
> rv <- lapply(1:2, function(x){
+   file.copy(from = sample_raw_file, to = tempfile(fileext='.raw'))})
> 
> 
> register(SnowParam(workers = 1, type = "SOCK") , default = TRUE); 
> sample_raw_2 <- backendInitialize(MsBackendRawFileReader(),
+     files = file.path(tempdir(),
+          list.files(path = tempdir(), pattern = 'raw$')))
> 
> 
> test_check("MsBackendRawFileReader")
[ FAIL 0 | WARN 1 | SKIP 2 | PASS 21 ]

══ Skipped tests (2) ═══════════════════════════════════════════════════════════
• isFALSE(file.exists(sample_mzXML_file)) is TRUE (1):
  'test_MsBackendMzR_MsBackendRawFileReader.R:1:1'
• isFALSE(require(MsBackendRawMgf)) is TRUE (1): 'test_top_n_mgf.R:1:1'

[ FAIL 0 | WARN 1 | SKIP 2 | PASS 21 ]
> 
> 
> be <- Spectra::backendInitialize(MsBackendRawFileReader::MsBackendRawFileReader(),
+                                  files = c(sample_raw_file))
> 
> ## Run the MsBackend spectra variable test suite
> 
> test_suite <- system.file("test_backends", "test_MsBackend",
+                           package = "Spectra")
> 
> #res <- test_file(paste0(test_suite, "/test_spectra_variables.R"),
> #                 reporter = check_reporter(), stop_on_failure = TRUE)
> 
> 
> ## Run the whole suite.
> res <- test_dir(test_suite, stop_on_failure = TRUE)
✔ | F W  S  OK | Context

⠏ |          0 | peaks_variables                                                
⠙ |          2 | peaks_variables                                                
⠸ |          4 | peaks_variables                                                
✔ |          4 | peaks_variables [3.9s]

⠏ |          0 | spectra_subsetting                                             
⠋ |          1 | spectra_subsetting                                             
⠴ |         16 | spectra_subsetting                                             
⠋ |         31 | spectra_subsetting                                             
⠴ |         46 | spectra_subsetting                                             
⠋ |         61 | spectra_subsetting                                             
⠴ |         76 | spectra_subsetting                                             
⠋ |         91 | spectra_subsetting                                             
⠴ |        106 | spectra_subsetting                                             
⠏ |        120 | spectra_subsetting                                             
⠹ |        133 | spectra_subsetting                                             
⠦ |        147 | spectra_subsetting                                             
⠧ |        158 | spectra_subsetting                                             
⠙ |        172 | spectra_subsetting                                             
⠦ |        187 | spectra_subsetting                                             
⠙ |        202 | spectra_subsetting                                             
⠦ |        217 | spectra_subsetting                                             
⠙ |        232 | spectra_subsetting                                             
⠦ |        247 | spectra_subsetting                                             
⠙ |        262 | spectra_subsetting                                             
⠦ |        277 | spectra_subsetting                                             
⠙ |        292 | spectra_subsetting                                             
⠴ |        306 | spectra_subsetting                                             
⠏ |        320 | spectra_subsetting                                             
⠸ |        334 | spectra_subsetting                                             
⠇ |        349 | spectra_subsetting                                             
⠸ |        364 | spectra_subsetting                                             
⠇ |        379 | spectra_subsetting                                             
⠸ |        394 | spectra_subsetting                                             
⠇ |        409 | spectra_subsetting                                             
⠸ |        424 | spectra_subsetting                                             
⠇ |        439 | spectra_subsetting                                             
⠹ |        453 | spectra_subsetting                                             
⠴ |        466 | spectra_subsetting                                             
⠋ |        481 | spectra_subsetting                                             
⠴ |        496 | spectra_subsetting                                             
⠋ |        511 | spectra_subsetting                                             
⠴ |        526 | spectra_subsetting                                             
⠋ |        541 | spectra_subsetting                                             
⠴ |        556 | spectra_subsetting                                             
⠋ |        571 | spectra_subsetting                                             
⠴ |        586 | spectra_subsetting                                             
⠋ |        601 | spectra_subsetting                                             
⠴ |        616 | spectra_subsetting                                             
⠇ |        629 | spectra_subsetting                                             
⠹ |        643 | spectra_subsetting                                             
⠧ |        658 | spectra_subsetting                                             
⠹ |        673 | spectra_subsetting                                             
⠧ |        688 | spectra_subsetting                                             
⠹ |        703 | spectra_subsetting                                             
⠧ |        718 | spectra_subsetting                                             
⠹ |        733 | spectra_subsetting                                             
⠧ |        748 | spectra_subsetting                                             
⠹ |        763 | spectra_subsetting                                             
⠴ |        776 | spectra_subsetting                                             
⠏ |        790 | spectra_subsetting                                             
⠼ |        805 | spectra_subsetting                                             
⠏ |        820 | spectra_subsetting                                             
⠼ |        835 | spectra_subsetting                                             
⠏ |        850 | spectra_subsetting                                             
⠼ |        865 | spectra_subsetting                                             
⠏ |        880 | spectra_subsetting                                             
⠼ |        895 | spectra_subsetting                                             
⠦ |        907 | spectra_subsetting                                             
⠇ |        919 | spectra_subsetting                                             
⠸ |        934 | spectra_subsetting                                             
⠇ |        949 | spectra_subsetting                                             
⠙ |        962 | spectra_subsetting                                             
⠴ |        976 | spectra_subsetting                                             
⠇ |        989 | spectra_subsetting                                             
⠹ |        1003 | spectra_subsetting                                            
⠧ |        1018 | spectra_subsetting                                            
⠋ |        1031 | spectra_subsetting                                            
⠴ |        1046 | spectra_subsetting                                            
⠏ |        1060 | spectra_subsetting                                            
⠸ |        1074 | spectra_subsetting                                            
⠧ |        1088 | spectra_subsetting                                            
⠙ |        1102 | spectra_subsetting                                            
⠦ |        1117 | spectra_subsetting                                            
⠙ |        1132 | spectra_subsetting                                            
⠴ |        1146 | spectra_subsetting                                            
⠏ |        1160 | spectra_subsetting                                            
⠸ |        1174 | spectra_subsetting                                            
⠇ |        1189 | spectra_subsetting                                            
⠸ |        1204 | spectra_subsetting                                            
⠴ |        1216 | spectra_subsetting                                            
⠋ |        1231 | spectra_subsetting                                            
⠴ |        1246 | spectra_subsetting                                            
⠋ |        1261 | spectra_subsetting                                            
⠴ |        1276 | spectra_subsetting                                            
⠧ |        1288 | spectra_subsetting                                            
⠙ |        1302 | spectra_subsetting                                            
⠼ |        1315 | spectra_subsetting                                            
⠦ |        1327 | spectra_subsetting                                            
⠙ |        1342 | spectra_subsetting                                            
⠴ |        1356 | spectra_subsetting                                            
⠇ |        1369 | spectra_subsetting                                            
⠸ |        1384 | spectra_subsetting                                            
⠦ |        1397 | spectra_subsetting                                            
⠧ |        1408 | spectra_subsetting                                            
⠏ |        1420 | spectra_subsetting                                            
⠏ |        1430 | spectra_subsetting                                            
⠹ |        1443 | spectra_subsetting                                            
⠴ |        1456 | spectra_subsetting                                            
⠧ |        1468 | spectra_subsetting                                            
⠹ |        1483 | spectra_subsetting                                            
⠧ |        1498 | spectra_subsetting                                            
⠋ |        1511 | spectra_subsetting                                            
⠼ |        1525 | spectra_subsetting                                            
⠦ |        1537 | spectra_subsetting                                            
⠋ |        1551 | spectra_subsetting                                            
⠸ |        1564 | spectra_subsetting                                            
⠦ |        1577 | spectra_subsetting                                            
⠋ |        1591 | spectra_subsetting                                            
⠴ |        1606 | spectra_subsetting                                            
⠧ |        1618 | spectra_subsetting                                            
⠹ |        1633 | spectra_subsetting                                            
⠴ |        1646 | spectra_subsetting                                            
⠏ |        1660 | spectra_subsetting                                            
⠼ |        1675 | spectra_subsetting                                            
⠦ |        1687 | spectra_subsetting                                            
⠙ |        1702 | spectra_subsetting                                            
⠦ |        1717 | spectra_subsetting                                            
⠦ |        1727 | spectra_subsetting                                            
⠇ |        1729 | spectra_subsetting                                            
⠋ |        1731 | spectra_subsetting                                            
⠹ |        1733 | spectra_subsetting                                            
⠼ |        1735 | spectra_subsetting                                            
⠦ |        1737 | spectra_subsetting                                            
⠇ |        1739 | spectra_subsetting                                            
⠋ |        1741 | spectra_subsetting                                            
⠹ |        1743 | spectra_subsetting                                            
⠼ |        1745 | spectra_subsetting                                            
⠦ |        1747 | spectra_subsetting                                            
⠇ |        1749 | spectra_subsetting                                            
⠋ |        1751 | spectra_subsetting                                            
⠹ |        1753 | spectra_subsetting                                            
⠴ |        1756 | spectra_subsetting                                            
⠧ |        1758 | spectra_subsetting                                            
⠏ |        1760 | spectra_subsetting                                            
⠙ |        1762 | spectra_subsetting                                            
⠸ |        1764 | spectra_subsetting                                            
⠴ |        1766 | spectra_subsetting                                            
⠧ |        1768 | spectra_subsetting                                            
⠏ |        1770 | spectra_subsetting                                            
⠙ |        1772 | spectra_subsetting                                            
⠸ |        1774 | spectra_subsetting                                            
⠦ |        1777 | spectra_subsetting                                            
⠇ |        1779 | spectra_subsetting                                            
⠋ |        1781 | spectra_subsetting                                            
⠹ |        1783 | spectra_subsetting                                            
⠴ |        1786 | spectra_subsetting                                            
⠧ |        1788 | spectra_subsetting                                            
⠋ |        1791 | spectra_subsetting                                            
⠸ |        1794 | spectra_subsetting                                            
⠴ |        1796 | spectra_subsetting                                            
⠇ |        1799 | spectra_subsetting                                            
⠋ |        1801 | spectra_subsetting                                            
⠸ |        1804 | spectra_subsetting                                            
⠴ |        1806 | spectra_subsetting                                            
⠇ |        1809 | spectra_subsetting                                            
⠋ |        1811 | spectra_subsetting                                            
⠹ |        1813 | spectra_subsetting                                            
⠼ |        1815 | spectra_subsetting                                            
⠧ |        1818 | spectra_subsetting                                            
⠏ |        1820 | spectra_subsetting                                            
⠙ |        1822 | spectra_subsetting                                            
⠸ |        1824 | spectra_subsetting                                            
⠦ |        1827 | spectra_subsetting                                            
⠏ |        1830 | spectra_subsetting                                            
⠙ |        1832 | spectra_subsetting                                            
⠼ |        1835 | spectra_subsetting                                            
⠦ |        1837 | spectra_subsetting                                            
⠇ |        1839 | spectra_subsetting                                            
⠋ |        1841 | spectra_subsetting                                            
⠸ |        1844 | spectra_subsetting                                            
⠴ |        1846 | spectra_subsetting                                            
⠧ |        1848 | spectra_subsetting                                            
⠏ |        1850 | spectra_subsetting                                            
⠹ |        1853 | spectra_subsetting                                            
⠼ |        1855 | spectra_subsetting                                            
⠧ |        1858 | spectra_subsetting                                            
⠋ |        1861 | spectra_subsetting                                            
⠹ |        1863 | spectra_subsetting                                            
⠴ |        1866 | spectra_subsetting                                            
⠧ |        1868 | spectra_subsetting                                            
⠏ |        1870 | spectra_subsetting                                            
⠙ |        1872 | spectra_subsetting                                            
⠼ |        1875 | spectra_subsetting                                            
⠦ |        1877 | spectra_subsetting                                            
⠏ |        1880 | spectra_subsetting                                            
⠹ |        1883 | spectra_subsetting                                            
⠼ |        1885 | spectra_subsetting                                            
⠧ |        1888 | spectra_subsetting                                            
⠇ |        1889 | spectra_subsetting                                            
⠙ |        1892 | spectra_subsetting                                            
⠼ |        1895 | spectra_subsetting                                            
⠧ |        1898 | spectra_subsetting                                            
⠋ |        1901 | spectra_subsetting                                            
⠸ |        1904 | spectra_subsetting                                            
⠦ |        1907 | spectra_subsetting                                            
⠏ |        1910 | spectra_subsetting                                            
⠹ |        1913 | spectra_subsetting                                            
⠴ |        1916 | spectra_subsetting                                            
⠇ |        1919 | spectra_subsetting                                            
⠙ |        1922 | spectra_subsetting                                            
⠼ |        1925 | spectra_subsetting                                            
⠧ |        1928 | spectra_subsetting                                            
⠋ |        1931 | spectra_subsetting                                            
⠸ |        1934 | spectra_subsetting                                            
⠦ |        1937 | spectra_subsetting                                            
⠏ |        1940 | spectra_subsetting                                            
⠹ |        1943 | spectra_subsetting                                            
⠼ |        1945 | spectra_subsetting                                            
⠧ |        1948 | spectra_subsetting                                            
⠋ |        1951 | spectra_subsetting                                            
⠸ |        1954 | spectra_subsetting                                            
⠦ |        1957 | spectra_subsetting                                            
⠏ |        1960 | spectra_subsetting                                            
⠹ |        1963 | spectra_subsetting                                            
⠴ |        1966 | spectra_subsetting                                            
⠇ |        1969 | spectra_subsetting                                            
⠋ |        1971 | spectra_subsetting                                            
⠸ |        1974 | spectra_subsetting                                            
⠦ |        1977 | spectra_subsetting                                            
⠏ |        1980 | spectra_subsetting                                            
⠹ |        1983 | spectra_subsetting                                            
⠴ |        1986 | spectra_subsetting                                            
⠇ |        1989 | spectra_subsetting                                            
⠙ |        1992 | spectra_subsetting                                            
⠼ |        1995 | spectra_subsetting                                            
⠧ |        1998 | spectra_subsetting                                            
⠋ |        2001 | spectra_subsetting                                            
⠹ |        2003 | spectra_subsetting                                            
⠴ |        2006 | spectra_subsetting                                            
⠧ |        2008 | spectra_subsetting                                            
⠋ |        2011 | spectra_subsetting                                            
⠹ |        2013 | spectra_subsetting                                            
⠴ |        2016 | spectra_subsetting                                            
⠇ |        2019 | spectra_subsetting                                            
⠋ |        2021 | spectra_subsetting                                            
⠸ |        2024 | spectra_subsetting                                            
⠴ |        2026 | spectra_subsetting                                            
⠇ |        2029 | spectra_subsetting                                            
⠋ |        2031 | spectra_subsetting                                            
⠸ |        2034 | spectra_subsetting                                            
⠦ |        2037 | spectra_subsetting                                            
⠏ |        2040 | spectra_subsetting                                            
⠹ |        2043 | spectra_subsetting                                            
⠴ |        2046 | spectra_subsetting                                            
⠇ |        2049 | spectra_subsetting                                            
⠙ |        2052 | spectra_subsetting                                            
⠼ |        2055 | spectra_subsetting                                            
⠦ |        2057 | spectra_subsetting                                            
⠏ |        2060 | spectra_subsetting                                            
⠹ |        2063 | spectra_subsetting                                            
⠴ |        2066 | spectra_subsetting                                            
⠇ |        2069 | spectra_subsetting                                            
⠙ |        2072 | spectra_subsetting                                            
⠼ |        2075 | spectra_subsetting                                            
⠧ |        2078 | spectra_subsetting                                            
⠏ |        2080 | spectra_subsetting                                            
⠹ |        2083 | spectra_subsetting                                            
⠼ |        2085 | spectra_subsetting                                            
⠧ |        2088 | spectra_subsetting                                            
⠏ |        2090 | spectra_subsetting                                            
⠹ |        2093 | spectra_subsetting                                            
⠴ |        2096 | spectra_subsetting                                            
⠇ |        2099 | spectra_subsetting                                            
⠙ |        2102 | spectra_subsetting                                            
⠼ |        2105 | spectra_subsetting                                            
⠧ |        2108 | spectra_subsetting                                            
⠋ |        2111 | spectra_subsetting                                            
⠸ |        2114 | spectra_subsetting                                            
⠦ |        2117 | spectra_subsetting                                            
⠏ |        2120 | spectra_subsetting                                            
⠹ |        2123 | spectra_subsetting                                            
⠼ |        2125 | spectra_subsetting                                            
⠧ |        2128 | spectra_subsetting                                            
⠋ |        2131 | spectra_subsetting                                            
⠸ |        2134 | spectra_subsetting                                            
⠦ |        2137 | spectra_subsetting                                            
⠇ |        2139 | spectra_subsetting                                            
⠙ |        2142 | spectra_subsetting                                            
⠼ |        2145 | spectra_subsetting                                            
⠧ |        2148 | spectra_subsetting                                            
⠋ |        2151 | spectra_subsetting                                            
⠸ |        2154 | spectra_subsetting                                            
⠦ |        2157 | spectra_subsetting                                            
⠏ |        2160 | spectra_subsetting                                            
⠹ |        2163 | spectra_subsetting                                            
⠴ |        2166 | spectra_subsetting                                            
⠇ |        2169 | spectra_subsetting                                            
⠙ |        2172 | spectra_subsetting                                            
⠼ |        2175 | spectra_subsetting                                            
⠧ |        2178 | spectra_subsetting                                            
⠋ |        2181 | spectra_subsetting                                            
⠸ |        2184 | spectra_subsetting                                            
⠦ |        2187 | spectra_subsetting                                            
⠏ |        2190 | spectra_subsetting                                            
⠹ |        2193 | spectra_subsetting                                            
⠴ |        2196 | spectra_subsetting                                            
⠇ |        2199 | spectra_subsetting                                            
⠙ |        2202 | spectra_subsetting                                            
⠼ |        2205 | spectra_subsetting                                            
⠦ |        2207 | spectra_subsetting                                            
⠏ |        2210 | spectra_subsetting                                            
⠙ |        2212 | spectra_subsetting                                            
⠼ |        2215 | spectra_subsetting                                            
⠧ |        2218 | spectra_subsetting                                            
⠋ |        2221 | spectra_subsetting                                            
⠸ |        2224 | spectra_subsetting                                            
⠴ |        2226 | spectra_subsetting                                            
⠧ |        2228 | spectra_subsetting                                            
⠏ |        2230 | spectra_subsetting                                            
⠹ |        2233 | spectra_subsetting                                            
⠼ |        2235 | spectra_subsetting                                            
⠧ |        2238 | spectra_subsetting                                            
⠏ |        2240 | spectra_subsetting                                            
⠹ |        2243 | spectra_subsetting                                            
⠴ |        2246 | spectra_subsetting                                            
⠧ |        2248 | spectra_subsetting                                            
⠋ |        2251 | spectra_subsetting                                            
⠸ |        2254 | spectra_subsetting                                            
⠦ |        2257 | spectra_subsetting                                            
⠏ |        2260 | spectra_subsetting                                            
⠙ |        2262 | spectra_subsetting                                            
⠼ |        2265 | spectra_subsetting                                            
⠧ |        2268 | spectra_subsetting                                            
⠏ |        2270 | spectra_subsetting                                            
⠹ |        2273 | spectra_subsetting                                            
⠼ |        2275 | spectra_subsetting                                            
⠧ |        2278 | spectra_subsetting                                            
⠏ |        2280 | spectra_subsetting                                            
⠹ |        2283 | spectra_subsetting                                            
⠴ |        2286 | spectra_subsetting                                            
⠇ |        2289 | spectra_subsetting                                            
⠙ |        2292 | spectra_subsetting                                            
⠼ |        2295 | spectra_subsetting                                            
⠧ |        2298 | spectra_subsetting                                            
⠙ |        2302 | spectra_subsetting                                            
⠼ |        2305 | spectra_subsetting                                            
⠹ |        2313 | spectra_subsetting                                            
⠙ |        2322 | spectra_subsetting                                            
⠏ |        2330 | spectra_subsetting                                            
⠸ |        2334 | spectra_subsetting                                            
✔ |        2342 | spectra_subsetting [43.1s]

⠏ |          0 | spectra_variables                                              
⠙ |         12 | spectra_variables                                              
⠸ |         14 | spectra_variables                                              
⠴ |         16 | spectra_variables                                              
⠦ |         27 | spectra_variables                                              
⠇ |         29 | spectra_variables                                              
⠋ |         31 | spectra_variables                                              
⠹ |         43 | spectra_variables                                              
⠹ |      1  62 | spectra_variables                                              
✔ |      1  62 | spectra_variables [14.2s]

══ Results ═════════════════════════════════════════════════════════════════════
Duration: 61.3 s

── Skipped tests (1) ───────────────────────────────────────────────────────────
• empty test (1): 'test_spectra_variables.R:262:1'

[ FAIL 0 | WARN 0 | SKIP 1 | PASS 2408 ]
> 
> proc.time()
   user  system elapsed 
 83.097   8.048  93.485 

Example timings

MsBackendRawFileReader.Rcheck/MsBackendRawFileReader-Ex.timings

nameusersystemelapsed
MsBackendRawFileReader-class3.0950.8094.278
MsBackendRawFileReader6.5772.1139.424
hidden_aliases2.0390.7242.924
ioBenchmark30.438 6.02811.738