Back to Multiple platform build/check report for BioC 3.23:   simplified   long
ABCDEFGHIJKLMNOPQ[R]STUVWXYZ

This page was generated on 2025-11-19 10:13 -0500 (Wed, 19 Nov 2025).

HostnameOSArch (*)R versionInstalled pkgs
nebbiolo1Linux (Ubuntu 24.04.3 LTS)x86_64R Under development (unstable) (2025-10-20 r88955) -- "Unsuffered Consequences" 4827
lconwaymacOS 12.7.6 Montereyx86_64R Under development (unstable) (2025-10-21 r88958) -- "Unsuffered Consequences" 4600
kjohnson3macOS 13.7.7 Venturaarm64R Under development (unstable) (2025-11-04 r88984) -- "Unsuffered Consequences" 4564
Click on any hostname to see more info about the system (e.g. compilers)      (*) as reported by 'uname -p', except on Windows and Mac OS X

Package 1719/2325HostnameOS / ArchINSTALLBUILDCHECKBUILD BIN
ReactomeGSA 1.25.0  (landing page)
Johannes Griss
Snapshot Date: 2025-11-18 13:40 -0500 (Tue, 18 Nov 2025)
git_url: https://git.bioconductor.org/packages/ReactomeGSA
git_branch: devel
git_last_commit: 473b5b6
git_last_commit_date: 2025-10-29 10:54:21 -0500 (Wed, 29 Oct 2025)
nebbiolo1Linux (Ubuntu 24.04.3 LTS) / x86_64  OK    OK    OK  UNNEEDED, same version is already published
lconwaymacOS 12.7.6 Monterey / x86_64  OK    OK    OK    OK  YES
kjohnson3macOS 13.7.7 Ventura / arm64  OK    OK    OK    OK  NO, package depends on 'BiocSingular' which is only available as a source package that needs compilation


CHECK results for ReactomeGSA on lconway

To the developers/maintainers of the ReactomeGSA package:
- Allow up to 24 hours (and sometimes 48 hours) for your latest push to git@git.bioconductor.org:packages/ReactomeGSA.git to reflect on this report. See Troubleshooting Build Report for more information.
- Use the following Renviron settings to reproduce errors and warnings.
- If 'R CMD check' started to fail recently on the Linux builder(s) over a missing dependency, add the missing dependency to 'Suggests:' in your DESCRIPTION file. See Renviron.bioc for more information.

raw results


Summary

Package: ReactomeGSA
Version: 1.25.0
Command: /Library/Frameworks/R.framework/Resources/bin/R CMD check --install=check:ReactomeGSA.install-out.txt --library=/Library/Frameworks/R.framework/Resources/library --no-vignettes --timings ReactomeGSA_1.25.0.tar.gz
StartedAt: 2025-11-18 23:27:55 -0500 (Tue, 18 Nov 2025)
EndedAt: 2025-11-18 23:42:51 -0500 (Tue, 18 Nov 2025)
EllapsedTime: 895.9 seconds
RetCode: 0
Status:   OK  
CheckDir: ReactomeGSA.Rcheck
Warnings: 0

Command output

##############################################################################
##############################################################################
###
### Running command:
###
###   /Library/Frameworks/R.framework/Resources/bin/R CMD check --install=check:ReactomeGSA.install-out.txt --library=/Library/Frameworks/R.framework/Resources/library --no-vignettes --timings ReactomeGSA_1.25.0.tar.gz
###
##############################################################################
##############################################################################


* using log directory ‘/Users/biocbuild/bbs-3.23-bioc/meat/ReactomeGSA.Rcheck’
* using R Under development (unstable) (2025-10-21 r88958)
* using platform: x86_64-apple-darwin20
* R was compiled by
    Apple clang version 14.0.0 (clang-1400.0.29.202)
    GNU Fortran (GCC) 14.2.0
* running under: macOS Ventura 13.7.8
* using session charset: UTF-8
* using option ‘--no-vignettes’
* checking for file ‘ReactomeGSA/DESCRIPTION’ ... OK
* checking extension type ... Package
* this is package ‘ReactomeGSA’ version ‘1.25.0’
* package encoding: UTF-8
* checking package namespace information ... OK
* checking package dependencies ... OK
* checking if this is a source package ... OK
* checking if there is a namespace ... OK
* checking for hidden files and directories ... OK
* checking for portable file names ... OK
* checking for sufficient/correct file permissions ... OK
* checking whether package ‘ReactomeGSA’ can be installed ... OK
* checking installed package size ... OK
* checking package directory ... OK
* checking ‘build’ directory ... OK
* checking DESCRIPTION meta-information ... OK
* checking top-level files ... OK
* checking for left-over files ... OK
* checking index information ... OK
* checking package subdirectories ... OK
* checking code files for non-ASCII characters ... OK
* checking R files for syntax errors ... OK
* checking whether the package can be loaded ... OK
* checking whether the package can be loaded with stated dependencies ... OK
* checking whether the package can be unloaded cleanly ... OK
* checking whether the namespace can be loaded with stated dependencies ... OK
* checking whether the namespace can be unloaded cleanly ... OK
* checking whether startup messages can be suppressed ... OK
* checking dependencies in R code ... OK
* checking S3 generic/method consistency ... OK
* checking replacement functions ... OK
* checking foreign function calls ... OK
* checking R code for possible problems ... NOTE
plot_correlations,ReactomeAnalysisResult: no visible binding for global
  variable ‘combined_sig’
plot_correlations,ReactomeAnalysisResult: no visible binding for global
  variable ‘alpha’
plot_gsva_pathway,ReactomeAnalysisResult: no visible binding for global
  variable ‘cluster_id’
plot_gsva_pathway,ReactomeAnalysisResult: no visible binding for global
  variable ‘expr’
plot_gsva_pca,ReactomeAnalysisResult: no visible binding for global
  variable ‘gsva_result’
plot_gsva_pca,ReactomeAnalysisResult: no visible binding for global
  variable ‘PC1’
plot_gsva_pca,ReactomeAnalysisResult: no visible binding for global
  variable ‘PC2’
plot_heatmap,ReactomeAnalysisResult: no visible global function
  definition for ‘desc’
plot_heatmap,ReactomeAnalysisResult: no visible binding for global
  variable ‘n_sig’
plot_heatmap,ReactomeAnalysisResult: no visible binding for global
  variable ‘dataset’
plot_heatmap,ReactomeAnalysisResult: no visible binding for global
  variable ‘Name’
plot_volcano,ReactomeAnalysisResult: no visible binding for global
  variable ‘av_foldchange’
plot_volcano,ReactomeAnalysisResult: no visible binding for global
  variable ‘FDR’
Undefined global functions or variables:
  FDR Name PC1 PC2 alpha av_foldchange cluster_id combined_sig dataset
  desc expr gsva_result n_sig
* checking Rd files ... OK
* checking Rd metadata ... OK
* checking Rd cross-references ... OK
* checking for missing documentation entries ... OK
* checking for code/documentation mismatches ... OK
* checking Rd \usage sections ... OK
* checking Rd contents ... OK
* checking for unstated dependencies in examples ... OK
* checking files in ‘vignettes’ ... OK
* checking examples ... OK
Examples with CPU (user + system) or elapsed time > 5s
                                                  user system elapsed
plot_gsva_pathway-ReactomeAnalysisResult-method 34.813  1.944  73.131
analyse_sc_clusters-Seurat-method               35.140  1.587  75.240
plot_gsva_pathway                               34.684  1.787  71.400
analyse_sc_clusters-SingleCellExperiment-method 34.920  1.522 108.429
plot_gsva_heatmap                               34.795  1.503  70.809
plot_gsva_heatmap-ReactomeAnalysisResult-method 34.348  1.605  70.282
plot_gsva_pca                                   33.591  1.604  69.985
plot_gsva_pca-ReactomeAnalysisResult-method     33.335  1.384  69.471
analyse_sc_clusters                             33.360  1.355  69.941
generate_pseudo_bulk_data                       16.537  1.966  18.710
ReactomeAnalysisRequest                          6.060  0.414   6.540
perform_reactome_analysis                        2.955  0.273  53.481
load_public_dataset                              1.575  0.159  29.903
* checking for unstated dependencies in ‘tests’ ... OK
* checking tests ...
  Running ‘testthat.R’
 OK
* checking for unstated dependencies in vignettes ... OK
* checking package vignettes ... OK
* checking running R code from vignettes ... SKIPPED
* checking re-building of vignette outputs ... SKIPPED
* checking PDF version of manual ... OK
* DONE

Status: 1 NOTE
See
  ‘/Users/biocbuild/bbs-3.23-bioc/meat/ReactomeGSA.Rcheck/00check.log’
for details.


Installation output

ReactomeGSA.Rcheck/00install.out

##############################################################################
##############################################################################
###
### Running command:
###
###   /Library/Frameworks/R.framework/Resources/bin/R CMD INSTALL ReactomeGSA
###
##############################################################################
##############################################################################


* installing to library ‘/Library/Frameworks/R.framework/Versions/4.6-x86_64/Resources/library’
* installing *source* package ‘ReactomeGSA’ ...
** this is package ‘ReactomeGSA’ version ‘1.25.0’
** using staged installation
** R
** inst
** byte-compile and prepare package for lazy loading
in method for ‘analyse_sc_clusters’ with signature ‘object="Seurat"’: no definition for class “Seurat”
in method for ‘analyse_sc_clusters’ with signature ‘object="SingleCellExperiment"’: no definition for class “SingleCellExperiment”
in method for ‘add_dataset’ with signature ‘request="ReactomeAnalysisRequest",expression_values="EList"’: no definition for class “EList”
in method for ‘add_dataset’ with signature ‘request="ReactomeAnalysisRequest",expression_values="DGEList"’: no definition for class “DGEList”
in method for ‘generate_pseudo_bulk_data’ with signature ‘object="Seurat"’: no definition for class “Seurat”
in method for ‘generate_pseudo_bulk_data’ with signature ‘object="SingleCellExperiment"’: no definition for class “SingleCellExperiment”
** help
*** installing help indices
** building package indices
** installing vignettes
** testing if installed package can be loaded from temporary location
** testing if installed package can be loaded from final location
** testing if installed package keeps a record of temporary installation path
* DONE (ReactomeGSA)

Tests output

ReactomeGSA.Rcheck/tests/testthat.Rout


R Under development (unstable) (2025-10-21 r88958) -- "Unsuffered Consequences"
Copyright (C) 2025 The R Foundation for Statistical Computing
Platform: x86_64-apple-darwin20

R is free software and comes with ABSOLUTELY NO WARRANTY.
You are welcome to redistribute it under certain conditions.
Type 'license()' or 'licence()' for distribution details.

R is a collaborative project with many contributors.
Type 'contributors()' for more information and
'citation()' on how to cite R or R packages in publications.

Type 'demo()' for some demos, 'help()' for on-line help, or
'help.start()' for an HTML browser interface to help.
Type 'q()' to quit R.

> library(testthat)
> library(ReactomeGSA)
> 
> test_check("ReactomeGSA")
[ FAIL 0 | WARN 0 | SKIP 0 | PASS 17 ]
> 
> proc.time()
   user  system elapsed 
  2.165   0.248   2.452 

Example timings

ReactomeGSA.Rcheck/ReactomeGSA-Ex.timings

nameusersystemelapsed
ReactomeAnalysisRequest6.0600.4146.540
ReactomeAnalysisResult-class0.2210.0150.238
add_dataset-ReactomeAnalysisRequest-DGEList-method1.1190.0611.193
add_dataset-ReactomeAnalysisRequest-EList-method0.7350.0530.797
add_dataset-ReactomeAnalysisRequest-ExpressionSet-method0.7070.0430.759
add_dataset-ReactomeAnalysisRequest-data.frame-method0.7380.0440.792
add_dataset-ReactomeAnalysisRequest-matrix-method0.7210.0460.777
add_dataset0.7350.0390.787
analyse_sc_clusters-Seurat-method35.140 1.58775.240
analyse_sc_clusters-SingleCellExperiment-method 34.920 1.522108.429
analyse_sc_clusters33.360 1.35569.941
find_public_datasets0.0970.0112.261
generate_metadata0.0010.0000.001
generate_pseudo_bulk_data16.537 1.96618.710
get_public_species0.0270.0040.597
get_reactome_data_types0.0520.0080.670
get_reactome_methods0.0910.0141.179
get_result-ReactomeAnalysisResult-method0.2280.0150.247
get_result0.2280.0150.246
load_public_dataset 1.575 0.15929.903
names-ReactomeAnalysisResult-method0.2270.0150.244
open_reactome-ReactomeAnalysisResult-method0.2360.0160.255
open_reactome0.2440.0160.263
pathways-ReactomeAnalysisResult-method0.3040.0250.333
pathways0.2700.0190.292
perform_reactome_analysis 2.955 0.27353.481
plot_correlations-ReactomeAnalysisResult-method0.3280.0130.343
plot_correlations0.2910.0140.307
plot_gsva_heatmap-ReactomeAnalysisResult-method34.348 1.60570.282
plot_gsva_heatmap34.795 1.50370.809
plot_gsva_pathway-ReactomeAnalysisResult-method34.813 1.94473.131
plot_gsva_pathway34.684 1.78771.400
plot_gsva_pca-ReactomeAnalysisResult-method33.335 1.38469.471
plot_gsva_pca33.591 1.60469.985
plot_heatmap-ReactomeAnalysisResult-method0.6550.0190.681
plot_heatmap0.7830.0160.808
plot_volcano-ReactomeAnalysisResult-method0.2670.0130.283
plot_volcano0.2780.0150.300
print-ReactomeAnalysisRequest-method0.0020.0010.002
print-ReactomeAnalysisResult-method0.2350.0130.251
reactome_links-ReactomeAnalysisResult-method0.2320.0130.250
reactome_links0.2330.0120.248
result_types-ReactomeAnalysisResult-method0.2260.0110.239
result_types0.2540.0120.271
set_method-ReactomeAnalysisRequest-method0.0020.0030.005
set_method0.0020.0020.004
set_parameters-ReactomeAnalysisRequest-method0.0020.0000.002
set_parameters0.0020.0000.002
show-ReactomeAnalysisRequest-method0.0010.0000.003
show-ReactomeAnalysisResult-method0.2260.0120.377