Back to Multiple platform build/check report for BioC 3.23:   simplified   long
ABCDEFGHIJKLMNOPQR[S]TUVWXYZ

This page was generated on 2025-11-19 10:14 -0500 (Wed, 19 Nov 2025).

HostnameOSArch (*)R versionInstalled pkgs
nebbiolo1Linux (Ubuntu 24.04.3 LTS)x86_64R Under development (unstable) (2025-10-20 r88955) -- "Unsuffered Consequences" 4827
lconwaymacOS 12.7.6 Montereyx86_64R Under development (unstable) (2025-10-21 r88958) -- "Unsuffered Consequences" 4600
kjohnson3macOS 13.7.7 Venturaarm64R Under development (unstable) (2025-11-04 r88984) -- "Unsuffered Consequences" 4564
Click on any hostname to see more info about the system (e.g. compilers)      (*) as reported by 'uname -p', except on Windows and Mac OS X

Package 2062/2325HostnameOS / ArchINSTALLBUILDCHECKBUILD BIN
SpectriPy 1.1.0  (landing page)
Johannes Rainer
Snapshot Date: 2025-11-18 13:40 -0500 (Tue, 18 Nov 2025)
git_url: https://git.bioconductor.org/packages/SpectriPy
git_branch: devel
git_last_commit: 09e5773
git_last_commit_date: 2025-10-29 11:36:52 -0500 (Wed, 29 Oct 2025)
nebbiolo1Linux (Ubuntu 24.04.3 LTS) / x86_64  OK    OK    OK  UNNEEDED, same version is already published
lconwaymacOS 12.7.6 Monterey / x86_64  OK    OK    OK    OK  NO, package depends on 'MsCoreUtils' which is only available as a source package that needs compilation
kjohnson3macOS 13.7.7 Ventura / arm64  ERROR    ERROR  skippedskipped


CHECK results for SpectriPy on lconway

To the developers/maintainers of the SpectriPy package:
- Allow up to 24 hours (and sometimes 48 hours) for your latest push to git@git.bioconductor.org:packages/SpectriPy.git to reflect on this report. See Troubleshooting Build Report for more information.
- Use the following Renviron settings to reproduce errors and warnings.
- If 'R CMD check' started to fail recently on the Linux builder(s) over a missing dependency, add the missing dependency to 'Suggests:' in your DESCRIPTION file. See Renviron.bioc for more information.

raw results


Summary

Package: SpectriPy
Version: 1.1.0
Command: /Library/Frameworks/R.framework/Resources/bin/R CMD check --install=check:SpectriPy.install-out.txt --library=/Library/Frameworks/R.framework/Resources/library --no-vignettes --timings SpectriPy_1.1.0.tar.gz
StartedAt: 2025-11-19 00:19:33 -0500 (Wed, 19 Nov 2025)
EndedAt: 2025-11-19 00:27:48 -0500 (Wed, 19 Nov 2025)
EllapsedTime: 495.3 seconds
RetCode: 0
Status:   OK  
CheckDir: SpectriPy.Rcheck
Warnings: 0

Command output

##############################################################################
##############################################################################
###
### Running command:
###
###   /Library/Frameworks/R.framework/Resources/bin/R CMD check --install=check:SpectriPy.install-out.txt --library=/Library/Frameworks/R.framework/Resources/library --no-vignettes --timings SpectriPy_1.1.0.tar.gz
###
##############################################################################
##############################################################################


* using log directory ‘/Users/biocbuild/bbs-3.23-bioc/meat/SpectriPy.Rcheck’
* using R Under development (unstable) (2025-10-21 r88958)
* using platform: x86_64-apple-darwin20
* R was compiled by
    Apple clang version 14.0.0 (clang-1400.0.29.202)
    GNU Fortran (GCC) 14.2.0
* running under: macOS Ventura 13.7.8
* using session charset: UTF-8
* using option ‘--no-vignettes’
* checking for file ‘SpectriPy/DESCRIPTION’ ... OK
* this is package ‘SpectriPy’ version ‘1.1.0’
* package encoding: UTF-8
* checking package namespace information ... OK
* checking package dependencies ... OK
* checking if this is a source package ... OK
* checking if there is a namespace ... OK
* checking for hidden files and directories ... OK
* checking for portable file names ... OK
* checking for sufficient/correct file permissions ... OK
* checking whether package ‘SpectriPy’ can be installed ... OK
* checking installed package size ... OK
* checking package directory ... OK
* checking ‘build’ directory ... OK
* checking DESCRIPTION meta-information ... OK
* checking top-level files ... OK
* checking for left-over files ... OK
* checking index information ... OK
* checking package subdirectories ... OK
* checking code files for non-ASCII characters ... OK
* checking R files for syntax errors ... OK
* checking whether the package can be loaded ... OK
* checking whether the package can be loaded with stated dependencies ... OK
* checking whether the package can be unloaded cleanly ... OK
* checking whether the namespace can be loaded with stated dependencies ... OK
* checking whether the namespace can be unloaded cleanly ... OK
* checking whether startup messages can be suppressed ... OK
* checking dependencies in R code ... NOTE
Unexported object imported by a ':::' call: ‘Spectra:::.check_peaks_data_value’
  See the note in ?`:::` about the use of this operator.
* checking S3 generic/method consistency ... OK
* checking replacement functions ... OK
* checking foreign function calls ... OK
* checking R code for possible problems ... OK
* checking Rd files ... OK
* checking Rd metadata ... OK
* checking Rd cross-references ... OK
* checking for missing documentation entries ... OK
* checking for code/documentation mismatches ... OK
* checking Rd \usage sections ... OK
* checking Rd contents ... OK
* checking for unstated dependencies in examples ... OK
* checking files in ‘vignettes’ ... OK
* checking examples ... OK
Examples with CPU (user + system) or elapsed time > 5s
             user system elapsed
MsBackendPy 6.238  0.825   6.921
* checking for unstated dependencies in ‘tests’ ... OK
* checking tests ...
  Running ‘testthat.R’
 OK
* checking for unstated dependencies in vignettes ... OK
* checking package vignettes ... OK
* checking running R code from vignettes ... SKIPPED
* checking re-building of vignette outputs ... SKIPPED
* checking PDF version of manual ... OK
* DONE

Status: 1 NOTE
See
  ‘/Users/biocbuild/bbs-3.23-bioc/meat/SpectriPy.Rcheck/00check.log’
for details.


Installation output

SpectriPy.Rcheck/00install.out

##############################################################################
##############################################################################
###
### Running command:
###
###   /Library/Frameworks/R.framework/Resources/bin/R CMD INSTALL SpectriPy
###
##############################################################################
##############################################################################


* installing to library ‘/Library/Frameworks/R.framework/Versions/4.6-x86_64/Resources/library’
* installing *source* package ‘SpectriPy’ ...
** this is package ‘SpectriPy’ version ‘1.1.0’
** using staged installation
** R
** inst
** byte-compile and prepare package for lazy loading
** help
*** installing help indices
*** copying figures
** building package indices
** installing vignettes
** testing if installed package can be loaded from temporary location
** testing if installed package can be loaded from final location
** testing if installed package keeps a record of temporary installation path
* DONE (SpectriPy)

Tests output

SpectriPy.Rcheck/tests/testthat.Rout


R Under development (unstable) (2025-10-21 r88958) -- "Unsuffered Consequences"
Copyright (C) 2025 The R Foundation for Statistical Computing
Platform: x86_64-apple-darwin20

R is free software and comes with ABSOLUTELY NO WARRANTY.
You are welcome to redistribute it under certain conditions.
Type 'license()' or 'licence()' for distribution details.

R is a collaborative project with many contributors.
Type 'contributors()' for more information and
'citation()' on how to cite R or R packages in publications.

Type 'demo()' for some demos, 'help()' for on-line help, or
'help.start()' for an HTML browser interface to help.
Type 'q()' to quit R.

> library(testthat)
> library(Spectra)
Loading required package: S4Vectors
Loading required package: stats4
Loading required package: BiocGenerics
Loading required package: generics

Attaching package: 'generics'

The following objects are masked from 'package:base':

    as.difftime, as.factor, as.ordered, intersect, is.element, setdiff,
    setequal, union


Attaching package: 'BiocGenerics'

The following objects are masked from 'package:stats':

    IQR, mad, sd, var, xtabs

The following objects are masked from 'package:base':

    Filter, Find, Map, Position, Reduce, anyDuplicated, aperm, append,
    as.data.frame, basename, cbind, colnames, dirname, do.call,
    duplicated, eval, evalq, get, grep, grepl, is.unsorted, lapply,
    mapply, match, mget, order, paste, pmax, pmax.int, pmin, pmin.int,
    rank, rbind, rownames, sapply, saveRDS, table, tapply, unique,
    unsplit, which.max, which.min


Attaching package: 'S4Vectors'

The following object is masked from 'package:utils':

    findMatches

The following objects are masked from 'package:base':

    I, expand.grid, unname

Loading required package: BiocParallel
> library(SpectriPy)
Loading required package: reticulate
> library(MsBackendMgf)
> 
> fl <- system.file("extdata", "mgf", "test.mgf", package = "SpectriPy")
> s <- Spectra(fl, source = MsBackendMgf())
Start data import from 1 files ... done
> s <- setBackend(s, MsBackendPy(), pythonVariableName = "py_be")
> 
> be <- s@backend
> 
> test_check("SpectriPy")
2025-11-19 00:27:23,288:WARNING:matchms:add_precursor_mz:No precursor_mz found in metadata.
2025-11-19 00:27:23,289:WARNING:matchms:add_precursor_mz:No precursor_mz found in metadata.
2025-11-19 00:27:23,291:WARNING:matchms:add_precursor_mz:No precursor_mz found in metadata.
2025-11-19 00:27:23,292:WARNING:matchms:add_precursor_mz:No precursor_mz found in metadata.
2025-11-19 00:27:23,293:WARNING:matchms:add_precursor_mz:No precursor_mz found in metadata.
2025-11-19 00:27:23,294:WARNING:matchms:add_precursor_mz:No precursor_mz found in metadata.
2025-11-19 00:27:23,294:WARNING:matchms:add_precursor_mz:No precursor_mz found in metadata.
2025-11-19 00:27:23,295:WARNING:matchms:add_precursor_mz:No precursor_mz found in metadata.
2025-11-19 00:27:23,296:WARNING:matchms:add_precursor_mz:No precursor_mz found in metadata.
2025-11-19 00:27:23,297:WARNING:matchms:add_precursor_mz:No precursor_mz found in metadata.
2025-11-19 00:27:23,298:WARNING:matchms:add_precursor_mz:No precursor_mz found in metadata.
2025-11-19 00:27:23,299:WARNING:matchms:add_precursor_mz:No precursor_mz found in metadata.
2025-11-19 00:27:23,300:WARNING:matchms:add_precursor_mz:No precursor_mz found in metadata.
2025-11-19 00:27:23,301:WARNING:matchms:add_precursor_mz:No precursor_mz found in metadata.
2025-11-19 00:27:23,302:WARNING:matchms:add_precursor_mz:No precursor_mz found in metadata.
2025-11-19 00:27:23,303:WARNING:matchms:add_precursor_mz:No precursor_mz found in metadata.
2025-11-19 00:27:23,304:WARNING:matchms:add_precursor_mz:No precursor_mz found in metadata.
2025-11-19 00:27:23,306:WARNING:matchms:add_precursor_mz:No precursor_mz found in metadata.
2025-11-19 00:27:23,307:WARNING:matchms:add_precursor_mz:No precursor_mz found in metadata.
2025-11-19 00:27:23,308:WARNING:matchms:add_precursor_mz:No precursor_mz found in metadata.
2025-11-19 00:27:23,309:WARNING:matchms:add_precursor_mz:No precursor_mz found in metadata.
2025-11-19 00:27:23,310:WARNING:matchms:add_precursor_mz:No precursor_mz found in metadata.
2025-11-19 00:27:23,311:WARNING:matchms:add_precursor_mz:No precursor_mz found in metadata.
2025-11-19 00:27:23,312:WARNING:matchms:add_precursor_mz:No precursor_mz found in metadata.
2025-11-19 00:27:23,313:WARNING:matchms:add_precursor_mz:No precursor_mz found in metadata.
2025-11-19 00:27:23,314:WARNING:matchms:add_precursor_mz:No precursor_mz found in metadata.
2025-11-19 00:27:23,315:WARNING:matchms:add_precursor_mz:No precursor_mz found in metadata.
2025-11-19 00:27:23,316:WARNING:matchms:add_precursor_mz:No precursor_mz found in metadata.
2025-11-19 00:27:23,316:WARNING:matchms:add_precursor_mz:No precursor_mz found in metadata.
2025-11-19 00:27:23,318:WARNING:matchms:add_precursor_mz:No precursor_mz found in metadata.
2025-11-19 00:27:23,319:WARNING:matchms:add_precursor_mz:No precursor_mz found in metadata.
2025-11-19 00:27:23,320:WARNING:matchms:add_precursor_mz:No precursor_mz found in metadata.
2025-11-19 00:27:23,321:WARNING:matchms:add_precursor_mz:No precursor_mz found in metadata.
2025-11-19 00:27:23,322:WARNING:matchms:add_precursor_mz:No precursor_mz found in metadata.
2025-11-19 00:27:23,323:WARNING:matchms:add_precursor_mz:No precursor_mz found in metadata.
2025-11-19 00:27:23,324:WARNING:matchms:add_precursor_mz:No precursor_mz found in metadata.
2025-11-19 00:27:23,325:WARNING:matchms:add_precursor_mz:No precursor_mz found in metadata.
2025-11-19 00:27:23,326:WARNING:matchms:add_precursor_mz:No precursor_mz found in metadata.
2025-11-19 00:27:23,327:WARNING:matchms:add_precursor_mz:No precursor_mz found in metadata.
2025-11-19 00:27:23,327:WARNING:matchms:add_precursor_mz:No precursor_mz found in metadata.
2025-11-19 00:27:23,328:WARNING:matchms:add_precursor_mz:No precursor_mz found in metadata.
2025-11-19 00:27:23,329:WARNING:matchms:add_precursor_mz:No precursor_mz found in metadata.
2025-11-19 00:27:23,329:WARNING:matchms:add_precursor_mz:No precursor_mz found in metadata.
2025-11-19 00:27:23,330:WARNING:matchms:add_precursor_mz:No precursor_mz found in metadata.
2025-11-19 00:27:23,335:WARNING:matchms:add_precursor_mz:No precursor_mz found in metadata.
2025-11-19 00:27:23,336:WARNING:matchms:add_precursor_mz:No precursor_mz found in metadata.
2025-11-19 00:27:23,337:WARNING:matchms:add_precursor_mz:No precursor_mz found in metadata.
2025-11-19 00:27:23,338:WARNING:matchms:add_precursor_mz:No precursor_mz found in metadata.
2025-11-19 00:27:23,339:WARNING:matchms:add_precursor_mz:No precursor_mz found in metadata.
2025-11-19 00:27:23,340:WARNING:matchms:add_precursor_mz:No precursor_mz found in metadata.
2025-11-19 00:27:23,341:WARNING:matchms:add_precursor_mz:No precursor_mz found in metadata.
2025-11-19 00:27:23,342:WARNING:matchms:add_precursor_mz:No precursor_mz found in metadata.
2025-11-19 00:27:23,342:WARNING:matchms:add_precursor_mz:No precursor_mz found in metadata.
2025-11-19 00:27:23,343:WARNING:matchms:add_precursor_mz:No precursor_mz found in metadata.
2025-11-19 00:27:23,344:WARNING:matchms:add_precursor_mz:No precursor_mz found in metadata.
2025-11-19 00:27:23,344:WARNING:matchms:add_precursor_mz:No precursor_mz found in metadata.
2025-11-19 00:27:23,345:WARNING:matchms:add_precursor_mz:No precursor_mz found in metadata.
2025-11-19 00:27:23,347:WARNING:matchms:add_precursor_mz:No precursor_mz found in metadata.
2025-11-19 00:27:23,348:WARNING:matchms:add_precursor_mz:No precursor_mz found in metadata.
2025-11-19 00:27:23,349:WARNING:matchms:add_precursor_mz:No precursor_mz found in metadata.
2025-11-19 00:27:23,349:WARNING:matchms:add_precursor_mz:No precursor_mz found in metadata.
2025-11-19 00:27:23,350:WARNING:matchms:add_precursor_mz:No precursor_mz found in metadata.
2025-11-19 00:27:23,351:WARNING:matchms:add_precursor_mz:No precursor_mz found in metadata.
2025-11-19 00:27:23,352:WARNING:matchms:add_precursor_mz:No precursor_mz found in metadata.
2025-11-19 00:27:23,353:WARNING:matchms:add_precursor_mz:No precursor_mz found in metadata.
2025-11-19 00:27:23,354:WARNING:matchms:add_precursor_mz:No precursor_mz found in metadata.
2025-11-19 00:27:23,355:WARNING:matchms:add_precursor_mz:No precursor_mz found in metadata.
2025-11-19 00:27:23,356:WARNING:matchms:add_precursor_mz:No precursor_mz found in metadata.
2025-11-19 00:27:23,357:WARNING:matchms:add_precursor_mz:No precursor_mz found in metadata.
2025-11-19 00:27:23,358:WARNING:matchms:add_precursor_mz:No precursor_mz found in metadata.
2025-11-19 00:27:23,359:WARNING:matchms:add_precursor_mz:No precursor_mz found in metadata.
2025-11-19 00:27:23,359:WARNING:matchms:add_precursor_mz:No precursor_mz found in metadata.
2025-11-19 00:27:23,360:WARNING:matchms:add_precursor_mz:No precursor_mz found in metadata.
2025-11-19 00:27:23,361:WARNING:matchms:add_precursor_mz:No precursor_mz found in metadata.
2025-11-19 00:27:23,361:WARNING:matchms:add_precursor_mz:No precursor_mz found in metadata.
2025-11-19 00:27:23,362:WARNING:matchms:add_precursor_mz:No precursor_mz found in metadata.
2025-11-19 00:27:23,363:WARNING:matchms:add_precursor_mz:No precursor_mz found in metadata.
2025-11-19 00:27:23,364:WARNING:matchms:add_precursor_mz:No precursor_mz found in metadata.
2025-11-19 00:27:23,365:WARNING:matchms:add_precursor_mz:No precursor_mz found in metadata.
2025-11-19 00:27:23,366:WARNING:matchms:add_precursor_mz:No precursor_mz found in metadata.
2025-11-19 00:27:23,367:WARNING:matchms:add_precursor_mz:No precursor_mz found in metadata.
2025-11-19 00:27:23,368:WARNING:matchms:add_precursor_mz:No precursor_mz found in metadata.
2025-11-19 00:27:23,368:WARNING:matchms:add_precursor_mz:No precursor_mz found in metadata.
2025-11-19 00:27:23,369:WARNING:matchms:add_precursor_mz:No precursor_mz found in metadata.
2025-11-19 00:27:23,370:WARNING:matchms:add_precursor_mz:No precursor_mz found in metadata.
2025-11-19 00:27:23,370:WARNING:matchms:add_precursor_mz:No precursor_mz found in metadata.
2025-11-19 00:27:23,371:WARNING:matchms:add_precursor_mz:No precursor_mz found in metadata.
2025-11-19 00:27:23,372:WARNING:matchms:add_precursor_mz:No precursor_mz found in metadata.
2025-11-19 00:27:23,372:WARNING:matchms:add_precursor_mz:No precursor_mz found in metadata.
2025-11-19 00:27:23,373:WARNING:matchms:add_precursor_mz:No precursor_mz found in metadata.
2025-11-19 00:27:23,374:WARNING:matchms:add_precursor_mz:No precursor_mz found in metadata.
2025-11-19 00:27:23,375:WARNING:matchms:add_precursor_mz:No precursor_mz found in metadata.
2025-11-19 00:27:23,375:WARNING:matchms:add_precursor_mz:No precursor_mz found in metadata.
2025-11-19 00:27:23,376:WARNING:matchms:add_precursor_mz:No precursor_mz found in metadata.
2025-11-19 00:27:23,377:WARNING:matchms:add_precursor_mz:No precursor_mz found in metadata.
2025-11-19 00:27:23,377:WARNING:matchms:add_precursor_mz:No precursor_mz found in metadata.
2025-11-19 00:27:23,378:WARNING:matchms:add_precursor_mz:No precursor_mz found in metadata.
2025-11-19 00:27:23,379:WARNING:matchms:add_precursor_mz:No precursor_mz found in metadata.
2025-11-19 00:27:23,380:WARNING:matchms:add_precursor_mz:No precursor_mz found in metadata.
2025-11-19 00:27:23,380:WARNING:matchms:add_precursor_mz:No precursor_mz found in metadata.

Calculating similarities:   0%|          | 0/4 [00:00<?, ?it/s]
Calculating similarities:  25%|██▌       | 1/4 [00:02<00:08,  2.97s/it]
Calculating similarities: 100%|██████████| 4/4 [00:02<00:00,  1.35it/s]

Calculating similarities:   0%|          | 0/4 [00:00<?, ?it/s]
Calculating similarities: 100%|██████████| 4/4 [00:00<00:00, 3005.59it/s]

Calculating similarities:   0%|          | 0/4 [00:00<?, ?it/s]
Calculating similarities: 100%|██████████| 4/4 [00:00<00:00, 2988.99it/s]

Calculating similarities:   0%|          | 0/4 [00:00<?, ?it/s]
Calculating similarities: 100%|██████████| 4/4 [00:00<00:00, 3341.41it/s]

Calculating similarities:   0%|          | 0/2 [00:00<?, ?it/s]
Calculating similarities: 100%|██████████| 2/2 [00:00<00:00, 4422.04it/s]

Calculating similarities:   0%|          | 0/2 [00:00<?, ?it/s]
Calculating similarities: 100%|██████████| 2/2 [00:00<00:00, 2758.50it/s]

Calculating similarities:   0%|          | 0/2 [00:00<?, ?it/s]
Calculating similarities: 100%|██████████| 2/2 [00:00<00:00, 4951.95it/s]

Calculating similarities:   0%|          | 0/2 [00:00<?, ?it/s]
Calculating similarities: 100%|██████████| 2/2 [00:00<00:00, 2397.43it/s]

Calculating similarities:   0%|          | 0/2 [00:00<?, ?it/s]
Calculating similarities: 100%|██████████| 2/2 [00:00<00:00, 2435.72it/s]

Calculating similarities:   0%|          | 0/2 [00:00<?, ?it/s]
Calculating similarities: 100%|██████████| 2/2 [00:00<00:00, 1943.61it/s]

Calculating similarities:   0%|          | 0/4 [00:00<?, ?it/s]
Calculating similarities:  50%|█████     | 2/4 [00:00<00:00, 1976.11it/s]

Calculating similarities:   0%|          | 0/2 [00:00<?, ?it/s]
Calculating similarities:  50%|█████     | 1/2 [00:00<00:00,  1.36it/s]
Calculating similarities: 100%|██████████| 2/2 [00:00<00:00,  2.72it/s]

Calculating similarities:   0%|          | 0/2 [00:00<?, ?it/s]
Calculating similarities:  50%|█████     | 1/2 [00:00<00:00,  1.01it/s]
Calculating similarities: 100%|██████████| 2/2 [00:00<00:00,  2.02it/s]
2025-11-19 00:27:37,170:WARNING:matchms:add_precursor_mz:No precursor_mz found in metadata.
2025-11-19 00:27:37,245:WARNING:matchms:add_precursor_mz:No precursor_mz found in metadata.
2025-11-19 00:27:37,247:WARNING:matchms:add_precursor_mz:No precursor_mz found in metadata.
2025-11-19 00:27:37,248:WARNING:matchms:add_precursor_mz:No precursor_mz found in metadata.
2025-11-19 00:27:37,343:WARNING:matchms:add_precursor_mz:No precursor_mz found in metadata.
2025-11-19 00:27:37,344:WARNING:matchms:add_precursor_mz:No precursor_mz found in metadata.
2025-11-19 00:27:37,345:WARNING:matchms:add_precursor_mz:No precursor_mz found in metadata.
2025-11-19 00:27:37,651:WARNING:matchms:add_precursor_mz:No precursor_mz found in metadata.
2025-11-19 00:27:37,653:WARNING:matchms:add_precursor_mz:No precursor_mz found in metadata.
2025-11-19 00:27:37,654:WARNING:matchms:add_precursor_mz:No precursor_mz found in metadata.
2025-11-19 00:27:37,698:WARNING:matchms:add_precursor_mz:No precursor_mz found in metadata.
2025-11-19 00:27:37,698:WARNING:matchms:add_precursor_mz:No precursor_mz found in metadata.
2025-11-19 00:27:37,699:WARNING:matchms:add_precursor_mz:No precursor_mz found in metadata.
2025-11-19 00:27:38,054:WARNING:matchms:add_precursor_mz:No precursor_mz found in metadata.
2025-11-19 00:27:38,055:WARNING:matchms:add_precursor_mz:No precursor_mz found in metadata.
2025-11-19 00:27:38,056:WARNING:matchms:add_precursor_mz:No precursor_mz found in metadata.
2025-11-19 00:27:38,090:WARNING:matchms:add_precursor_mz:No precursor_mz found in metadata.
2025-11-19 00:27:38,091:WARNING:matchms:add_precursor_mz:No precursor_mz found in metadata.
2025-11-19 00:27:38,092:WARNING:matchms:add_precursor_mz:No precursor_mz found in metadata.

Processing spectra:   0%|          | 0/4 [00:00<?, ?it/s]
Processing spectra: 100%|██████████| 4/4 [00:00<00:00, 3302.60it/s]

Processing spectra:   0%|          | 0/4 [00:00<?, ?it/s]
Processing spectra: 100%|██████████| 4/4 [00:00<00:00, 3763.40it/s]

Processing spectra:   0%|          | 0/4 [00:00<?, ?it/s]
Processing spectra: 100%|██████████| 4/4 [00:00<00:00, 2252.28it/s]

Processing spectra:   0%|          | 0/4 [00:00<?, ?it/s]
Processing spectra: 100%|██████████| 4/4 [00:00<00:00, 2212.19it/s]

Processing spectra:   0%|          | 0/4 [00:00<?, ?it/s]
Processing spectra: 100%|██████████| 4/4 [00:00<00:00, 3610.33it/s]
[ FAIL 0 | WARN 4 | SKIP 1 | PASS 592 ]

══ Skipped tests (1) ═══════════════════════════════════════════════════════════
• empty test (1): 'test_zzz.R:16:1'

[ FAIL 0 | WARN 4 | SKIP 1 | PASS 592 ]
> 
> ## TODO: add tests from the Spectra unit test suite!
> 
> ## ## Run the MsBackend spectra variable test suite
> ## test_suite <- system.file("test_backends", "test_MsBackend",
> ##                           package = "Spectra")
> 
> ## ## Run single test file.
> ## res <- test_dir(test_suite, stop_on_failure = TRUE)
> 
> proc.time()
   user  system elapsed 
 37.553   4.208  41.424 
/Users/biocbuild/Library/Caches/org.R-project.R/R/reticulate/uv/python/cpython-3.12.12-macos-x86_64-none/lib/python3.12/multiprocessing/resource_tracker.py:279: UserWarning: resource_tracker: There appear to be 1 leaked semaphore objects to clean up at shutdown
  warnings.warn('resource_tracker: There appear to be %d '

Example timings

SpectriPy.Rcheck/SpectriPy-Ex.timings

nameusersystemelapsed
MsBackendPy6.2380.8256.921
compareSpectriPy3.0650.3483.470
conversion0.4940.2320.661
filterSpectriPy0.2900.0370.330