Back to Multiple platform build/check report for BioC 3.23:   simplified   long
ABCDEF[G]HIJKLMNOPQRSTUVWXYZ

This page was generated on 2025-11-19 10:13 -0500 (Wed, 19 Nov 2025).

HostnameOSArch (*)R versionInstalled pkgs
nebbiolo1Linux (Ubuntu 24.04.3 LTS)x86_64R Under development (unstable) (2025-10-20 r88955) -- "Unsuffered Consequences" 4827
lconwaymacOS 12.7.6 Montereyx86_64R Under development (unstable) (2025-10-21 r88958) -- "Unsuffered Consequences" 4600
kjohnson3macOS 13.7.7 Venturaarm64R Under development (unstable) (2025-11-04 r88984) -- "Unsuffered Consequences" 4564
Click on any hostname to see more info about the system (e.g. compilers)      (*) as reported by 'uname -p', except on Windows and Mac OS X

Package 796/2325HostnameOS / ArchINSTALLBUILDCHECKBUILD BIN
gDRutils 1.9.2  (landing page)
Arkadiusz Gladki
Snapshot Date: 2025-11-18 13:40 -0500 (Tue, 18 Nov 2025)
git_url: https://git.bioconductor.org/packages/gDRutils
git_branch: devel
git_last_commit: 5ae0322
git_last_commit_date: 2025-11-17 04:03:12 -0500 (Mon, 17 Nov 2025)
nebbiolo1Linux (Ubuntu 24.04.3 LTS) / x86_64  OK    OK    OK  UNNEEDED, same version is already published
lconwaymacOS 12.7.6 Monterey / x86_64  OK    OK    OK    OK  YES
kjohnson3macOS 13.7.7 Ventura / arm64  OK    OK    OK    OK  UNNEEDED, same version is already published


CHECK results for gDRutils on lconway

To the developers/maintainers of the gDRutils package:
- Allow up to 24 hours (and sometimes 48 hours) for your latest push to git@git.bioconductor.org:packages/gDRutils.git to reflect on this report. See Troubleshooting Build Report for more information.
- Use the following Renviron settings to reproduce errors and warnings.
- If 'R CMD check' started to fail recently on the Linux builder(s) over a missing dependency, add the missing dependency to 'Suggests:' in your DESCRIPTION file. See Renviron.bioc for more information.

raw results


Summary

Package: gDRutils
Version: 1.9.2
Command: /Library/Frameworks/R.framework/Resources/bin/R CMD check --install=check:gDRutils.install-out.txt --library=/Library/Frameworks/R.framework/Resources/library --no-vignettes --timings gDRutils_1.9.2.tar.gz
StartedAt: 2025-11-18 21:11:07 -0500 (Tue, 18 Nov 2025)
EndedAt: 2025-11-18 21:16:34 -0500 (Tue, 18 Nov 2025)
EllapsedTime: 326.5 seconds
RetCode: 0
Status:   OK  
CheckDir: gDRutils.Rcheck
Warnings: 0

Command output

##############################################################################
##############################################################################
###
### Running command:
###
###   /Library/Frameworks/R.framework/Resources/bin/R CMD check --install=check:gDRutils.install-out.txt --library=/Library/Frameworks/R.framework/Resources/library --no-vignettes --timings gDRutils_1.9.2.tar.gz
###
##############################################################################
##############################################################################


* using log directory ‘/Users/biocbuild/bbs-3.23-bioc/meat/gDRutils.Rcheck’
* using R Under development (unstable) (2025-10-21 r88958)
* using platform: x86_64-apple-darwin20
* R was compiled by
    Apple clang version 14.0.0 (clang-1400.0.29.202)
    GNU Fortran (GCC) 14.2.0
* running under: macOS Ventura 13.7.8
* using session charset: UTF-8
* using option ‘--no-vignettes’
* checking for file ‘gDRutils/DESCRIPTION’ ... OK
* checking extension type ... Package
* this is package ‘gDRutils’ version ‘1.9.2’
* package encoding: UTF-8
* checking package namespace information ... OK
* checking package dependencies ... OK
* checking if this is a source package ... OK
* checking if there is a namespace ... OK
* checking for hidden files and directories ... OK
* checking for portable file names ... OK
* checking for sufficient/correct file permissions ... OK
* checking whether package ‘gDRutils’ can be installed ... OK
* checking installed package size ... OK
* checking package directory ... OK
* checking ‘build’ directory ... OK
* checking DESCRIPTION meta-information ... OK
* checking top-level files ... OK
* checking for left-over files ... OK
* checking index information ... OK
* checking package subdirectories ... OK
* checking code files for non-ASCII characters ... OK
* checking R files for syntax errors ... OK
* checking whether the package can be loaded ... OK
* checking whether the package can be loaded with stated dependencies ... OK
* checking whether the package can be unloaded cleanly ... OK
* checking whether the namespace can be loaded with stated dependencies ... OK
* checking whether the namespace can be unloaded cleanly ... OK
* checking dependencies in R code ... OK
* checking S3 generic/method consistency ... OK
* checking replacement functions ... OK
* checking foreign function calls ... OK
* checking R code for possible problems ... OK
* checking Rd files ... OK
* checking Rd metadata ... OK
* checking Rd cross-references ... NOTE
Found the following Rd file(s) with Rd \link{} targets missing package
anchors:
  SE_metadata.Rd: SummarizedExperiment-class
  convert_mae_assay_to_dt.Rd: SummarizedExperiment-class,
    MultiAssayExperiment-class
  convert_se_assay_to_dt.Rd: SummarizedExperiment-class
  is_exp_empty.Rd: SummarizedExperiment-class
  split_SE_components.Rd: SummarizedExperiment-class
  validate_se_assay_name.Rd: SummarizedExperiment-class
Please provide package anchors for all Rd \link{} targets not in the
package itself and the base packages.
* checking for missing documentation entries ... OK
* checking for code/documentation mismatches ... OK
* checking Rd \usage sections ... OK
* checking Rd contents ... OK
* checking for unstated dependencies in examples ... OK
* checking files in ‘vignettes’ ... OK
* checking examples ... OK
Examples with CPU (user + system) or elapsed time > 5s
      user system elapsed
loop 3.294  0.082   5.239
* checking for unstated dependencies in ‘tests’ ... OK
* checking tests ...
  Running ‘testthat.R’
 OK
* checking for unstated dependencies in vignettes ... OK
* checking package vignettes ... OK
* checking running R code from vignettes ... SKIPPED
* checking re-building of vignette outputs ... SKIPPED
* checking PDF version of manual ... OK
* DONE

Status: 1 NOTE
See
  ‘/Users/biocbuild/bbs-3.23-bioc/meat/gDRutils.Rcheck/00check.log’
for details.


Installation output

gDRutils.Rcheck/00install.out

##############################################################################
##############################################################################
###
### Running command:
###
###   /Library/Frameworks/R.framework/Resources/bin/R CMD INSTALL gDRutils
###
##############################################################################
##############################################################################


* installing to library ‘/Library/Frameworks/R.framework/Versions/4.6-x86_64/Resources/library’
* installing *source* package ‘gDRutils’ ...
** this is package ‘gDRutils’ version ‘1.9.2’
** using staged installation
** R
** inst
** byte-compile and prepare package for lazy loading
** help
*** installing help indices
** building package indices
** installing vignettes
** testing if installed package can be loaded from temporary location
** testing if installed package can be loaded from final location
** testing if installed package keeps a record of temporary installation path
* DONE (gDRutils)

Tests output

gDRutils.Rcheck/tests/testthat.Rout


R Under development (unstable) (2025-10-21 r88958) -- "Unsuffered Consequences"
Copyright (C) 2025 The R Foundation for Statistical Computing
Platform: x86_64-apple-darwin20

R is free software and comes with ABSOLUTELY NO WARRANTY.
You are welcome to redistribute it under certain conditions.
Type 'license()' or 'licence()' for distribution details.

R is a collaborative project with many contributors.
Type 'contributors()' for more information and
'citation()' on how to cite R or R packages in publications.

Type 'demo()' for some demos, 'help()' for on-line help, or
'help.start()' for an HTML browser interface to help.
Type 'q()' to quit R.

> library("gDRutils")
> library("testthat")
> 
> test_check("gDRutils")
[ FAIL 0 | WARN 0 | SKIP 0 | PASS 845 ]
> 
> proc.time()
   user  system elapsed 
113.151   4.985 119.870 

Example timings

gDRutils.Rcheck/gDRutils-Ex.timings

nameusersystemelapsed
MAEpply1.0090.0341.053
SE_metadata0.0300.0060.037
addClass0.0020.0000.002
aggregate_assay0.5910.0470.646
apply_bumpy_function1.7430.0531.810
assert_choices0.0000.0010.001
average_biological_replicates_dt0.9950.0271.026
calc_sd0.0000.0010.001
capVals0.2130.0130.228
cap_assay_infinities0.2530.0120.268
cap_xc50000
convert_colData_to_json0.0570.0060.064
convert_combo_data_to_dt0.3300.0150.348
convert_combo_field_to_assay0.0010.0010.003
convert_mae_assay_to_dt0.0570.0040.060
convert_mae_to_json0.0160.0010.018
convert_metadata_to_json0.0110.0000.011
convert_rowData_to_json0.0040.0000.004
convert_se_assay_to_custom_dt0.6750.0660.748
convert_se_assay_to_dt0.0660.0030.069
convert_se_to_json0.0150.0010.016
define_matrix_grid_positions0.0580.0020.062
demote_fields0.4240.0080.437
df_to_bm_assay0.1480.0020.153
dot-set_invalid_fit_params000
dot-standardize_conc000
extend_normalization_type_name000
fit_curves0.1610.0300.195
flatten0.0090.0000.010
gen_synthetic_data0.0060.0010.007
geometric_mean0.0010.0000.000
get_MAE_identifiers0.0060.0010.008
get_additional_variables0.0150.0010.016
get_assay_dt_duplicated_rows0.2090.0080.219
get_assay_names0.0000.0010.001
get_assay_req_uniq_cols0.1400.0040.145
get_combo_assay_names0.0000.0000.001
get_combo_base_assay_names0.0010.0000.001
get_combo_excess_field_names0.0020.0000.002
get_combo_score_assay_names0.0010.0010.001
get_combo_score_field_names0.0010.0000.001
get_default_identifiers0.0000.0000.001
get_duplicated_rows0.0040.0000.004
get_env_assay_names0.0000.0010.000
get_env_var0.0010.0000.001
get_expect_one_identifiers0.0010.0010.001
get_experiment_groups0.0010.0010.000
get_gDR_session_info1.6721.0622.783
get_identifiers_dt0.0080.0050.013
get_idfs_synonyms000
get_isobologram_columns0.0820.0020.085
get_non_empty_assays0.0570.0020.059
get_required_identifiers000
get_settings_from_json0.0000.0010.001
get_supported_experiments0.0000.0000.001
get_synthetic_data0.0110.0010.012
get_testdata0.1000.0220.126
get_testdata_codilution0.0830.0050.091
get_testdata_combo0.1880.0210.211
has_assay_dt_duplicated_rows0.1470.0070.156
has_dt_duplicated_rows0.0010.0000.002
has_single_codrug_data0.1760.0040.180
has_valid_codrug_data0.1760.0050.184
headers0.0300.0100.042
identifiers0.0000.0000.001
identify_unique_se_metadata_fields0.0070.0010.009
is_any_exp_empty0.0550.0020.057
is_combo_data0.1900.0140.208
is_exp_empty0.0540.0020.056
is_mae_empty0.0540.0010.055
logisticFit0.0340.0010.035
loop3.2940.0825.239
map_conc_to_standardized_conc0.8891.0360.088
mcolData0.0180.0210.039
merge_MAE4.2510.1534.469
merge_SE1.7170.0371.779
merge_assay0.3330.0070.341
merge_metadata0.0080.0020.016
modifyData0.3660.0100.382
mrowData0.0140.0020.016
predict_conc_from_efficacy000
predict_efficacy_from_conc0.0010.0000.000
predict_smooth_from_combo0.1810.0080.192
prettify_flat_metrics0.0390.0010.040
process_batch0.7590.1040.869
promote_fields0.2180.0030.223
refine_coldata0.0130.0010.014
refine_rowdata0.0470.0030.051
remove_codrug_data0.0750.0020.080
remove_drug_batch0.0020.0010.005
rename_DFrame0.0110.0020.015
rename_bumpy0.0340.0020.036
round_concentration0.0000.0000.001
set_constant_fit_params0.0000.0000.001
set_unique_cl_names0.0620.0010.064
set_unique_cl_names_dt0.0240.0010.024
set_unique_drug_names0.0590.0010.060
set_unique_drug_names_dt0.0420.0000.042
set_unique_identifiers0.3190.0120.334
set_unique_names_dt0.0220.0000.024
shorten_normalization_type_name000
split_SE_components0.1070.0030.112
split_big_table_for_xlsx0.0050.0010.006
standardize_mae0.1340.0040.144
standardize_se0.0340.0010.035
throw_msg_if_duplicates0.1240.0040.128
update_env_idfs_from_mae0.0010.0000.001
update_idfs_synonyms000
validate_MAE0.0840.0020.088
validate_SE0.0270.0010.028
validate_identifiers0.0080.0010.009
validate_json000
validate_mae_with_schema0.4060.0620.496
validate_se_assay_name0.0060.0010.008