| Back to Multiple platform build/check report for BioC 3.23: simplified long |
|
This page was generated on 2025-11-21 11:39 -0500 (Fri, 21 Nov 2025).
| Hostname | OS | Arch (*) | R version | Installed pkgs |
|---|---|---|---|---|
| nebbiolo1 | Linux (Ubuntu 24.04.3 LTS) | x86_64 | R Under development (unstable) (2025-10-20 r88955) -- "Unsuffered Consequences" | 4829 |
| lconway | macOS 12.7.6 Monterey | x86_64 | R Under development (unstable) (2025-10-21 r88958) -- "Unsuffered Consequences" | 4602 |
| kjohnson3 | macOS 13.7.7 Ventura | arm64 | R Under development (unstable) (2025-11-04 r88984) -- "Unsuffered Consequences" | 4566 |
| Click on any hostname to see more info about the system (e.g. compilers) (*) as reported by 'uname -p', except on Windows and Mac OS X | ||||
| Package 1495/2327 | Hostname | OS / Arch | INSTALL | BUILD | CHECK | BUILD BIN | ||||||||
| ontoProc 2.5.0 (landing page) Vincent Carey
| nebbiolo1 | Linux (Ubuntu 24.04.3 LTS) / x86_64 | OK | OK | OK | |||||||||
| lconway | macOS 12.7.6 Monterey / x86_64 | OK | OK | OK | OK | |||||||||
| kjohnson3 | macOS 13.7.7 Ventura / arm64 | OK | OK | OK | OK | |||||||||
|
To the developers/maintainers of the ontoProc package: - Allow up to 24 hours (and sometimes 48 hours) for your latest push to git@git.bioconductor.org:packages/ontoProc.git to reflect on this report. See Troubleshooting Build Report for more information. - Use the following Renviron settings to reproduce errors and warnings. - If 'R CMD check' started to fail recently on the Linux builder(s) over a missing dependency, add the missing dependency to 'Suggests:' in your DESCRIPTION file. See Renviron.bioc for more information. |
| Package: ontoProc |
| Version: 2.5.0 |
| Command: /Library/Frameworks/R.framework/Resources/bin/R CMD check --install=check:ontoProc.install-out.txt --library=/Library/Frameworks/R.framework/Resources/library --no-vignettes --timings ontoProc_2.5.0.tar.gz |
| StartedAt: 2025-11-20 21:28:39 -0500 (Thu, 20 Nov 2025) |
| EndedAt: 2025-11-20 21:41:01 -0500 (Thu, 20 Nov 2025) |
| EllapsedTime: 741.8 seconds |
| RetCode: 0 |
| Status: OK |
| CheckDir: ontoProc.Rcheck |
| Warnings: 0 |
##############################################################################
##############################################################################
###
### Running command:
###
### /Library/Frameworks/R.framework/Resources/bin/R CMD check --install=check:ontoProc.install-out.txt --library=/Library/Frameworks/R.framework/Resources/library --no-vignettes --timings ontoProc_2.5.0.tar.gz
###
##############################################################################
##############################################################################
* using log directory ‘/Users/biocbuild/bbs-3.23-bioc/meat/ontoProc.Rcheck’
* using R Under development (unstable) (2025-11-04 r88984)
* using platform: aarch64-apple-darwin20
* R was compiled by
Apple clang version 16.0.0 (clang-1600.0.26.6)
GNU Fortran (GCC) 14.2.0
* running under: macOS Ventura 13.7.8
* using session charset: UTF-8
* using option ‘--no-vignettes’
* checking for file ‘ontoProc/DESCRIPTION’ ... OK
* this is package ‘ontoProc’ version ‘2.5.0’
* package encoding: UTF-8
* checking package namespace information ... OK
* checking package dependencies ... OK
* checking if this is a source package ... OK
* checking if there is a namespace ... OK
* checking for hidden files and directories ... OK
* checking for portable file names ... OK
* checking for sufficient/correct file permissions ... OK
* checking whether package ‘ontoProc’ can be installed ... OK
* checking installed package size ... INFO
installed size is 11.5Mb
sub-directories of 1Mb or more:
app 1.9Mb
data 1.8Mb
ontoRda 2.8Mb
owl 3.8Mb
* checking package directory ... OK
* checking ‘build’ directory ... OK
* checking DESCRIPTION meta-information ... OK
* checking top-level files ... OK
* checking for left-over files ... OK
* checking index information ... OK
* checking package subdirectories ... OK
* checking code files for non-ASCII characters ... OK
* checking R files for syntax errors ... OK
* checking whether the package can be loaded ... OK
* checking whether the package can be loaded with stated dependencies ... OK
* checking whether the package can be unloaded cleanly ... OK
* checking whether the namespace can be loaded with stated dependencies ... OK
* checking whether the namespace can be unloaded cleanly ... OK
* checking dependencies in R code ... NOTE
':::' call which should be '::': ‘ontologyPlot:::remove_uninformative_terms’
See the note in ?`:::` about the use of this operator.
* checking S3 generic/method consistency ... OK
* checking replacement functions ... OK
* checking foreign function calls ... OK
* checking R code for possible problems ... NOTE
CLfeat : prupdate: no visible binding for global variable ‘PROSYM’
CLfeat : prupdate: no visible binding for global variable ‘PRID’
CLfeat : prupdate: no visible binding for global variable ‘SYMBOL’
ctmarks : server: no visible binding for global variable ‘text’
ctmarks : server: no visible binding for global variable ‘packDesc2022’
ctmarks : server: no visible binding for global variable ‘packDesc2021’
ctmarks: no visible binding for global variable ‘cumu’
dropStop: no visible binding for global variable ‘stopWords’
getOnto: no visible binding for global variable ‘rdatadateadded’
getOnto: no visible binding for global variable ‘title’
getOnto: no visible binding for global variable ‘description’
ldfToTerm: no visible binding for global variable ‘PROSYM’
sym2CellOnto: no visible binding for global variable ‘PROSYM’
sym2CellOnto: no visible binding for global variable ‘SYMBOL’
Undefined global functions or variables:
PRID PROSYM SYMBOL cumu description packDesc2021 packDesc2022
rdatadateadded stopWords text title
Consider adding
importFrom("graphics", "text", "title")
to your NAMESPACE file.
* checking Rd files ... OK
* checking Rd metadata ... OK
* checking Rd cross-references ... NOTE
Found the following Rd file(s) with Rd \link{} targets missing package
anchors:
findCommonAncestors.Rd: graph, DataFrame-class, List-class
Please provide package anchors for all Rd \link{} targets not in the
package itself and the base packages.
* checking for missing documentation entries ... OK
* checking for code/documentation mismatches ... OK
* checking Rd \usage sections ... NOTE
S3 methods shown with full name in Rd file 'plot.owlents.Rd':
‘plot.owlents’
The \usage entries for S3 methods should use the \method markup and not
their full name.
See chapter ‘Writing R documentation files’ in the ‘Writing R
Extensions’ manual.
* checking Rd contents ... OK
* checking for unstated dependencies in examples ... OK
* checking contents of ‘data’ directory ... OK
* checking data for non-ASCII characters ... OK
* checking data for ASCII and uncompressed saves ... OK
* checking files in ‘vignettes’ ... OK
* checking examples ... OK
Examples with CPU (user + system) or elapsed time > 5s
user system elapsed
sym2CellOnto 83.139 0.887 86.356
siblings_TAG 45.416 0.646 47.138
cleanCLOnames 32.939 0.317 33.881
nomenCheckup 32.824 0.250 33.666
CLfeats 27.714 0.660 29.629
fastGrep 26.664 0.487 40.127
getLeavesFromTerm 22.830 0.323 23.709
liberalMap 18.840 0.239 26.162
TermSet-class 17.846 0.247 18.825
common_classes 17.190 0.618 18.437
make_graphNEL_from_ontology_plot 16.375 0.251 17.166
findCommonAncestors 16.051 0.295 16.853
mapOneNaive 16.018 0.256 16.649
selectFromMap 15.945 0.238 16.481
getOnto 15.898 0.278 16.674
onto_plot2 15.753 0.244 16.363
secLevGen 15.755 0.178 16.454
ontoDiff 4.874 0.265 5.649
graph2paths 3.739 0.050 5.955
plot.owlents 2.494 0.237 33.107
bioregistry_ols_resources 0.235 0.009 5.524
search_labels 0.162 0.010 7.048
* checking for unstated dependencies in ‘tests’ ... OK
* checking tests ...
Running ‘test.R’
OK
* checking for unstated dependencies in vignettes ... OK
* checking package vignettes ... OK
* checking running R code from vignettes ... SKIPPED
* checking re-building of vignette outputs ... SKIPPED
* checking PDF version of manual ... OK
* DONE
Status: 4 NOTEs
See
‘/Users/biocbuild/bbs-3.23-bioc/meat/ontoProc.Rcheck/00check.log’
for details.
ontoProc.Rcheck/00install.out
############################################################################## ############################################################################## ### ### Running command: ### ### /Library/Frameworks/R.framework/Resources/bin/R CMD INSTALL ontoProc ### ############################################################################## ############################################################################## * installing to library ‘/Library/Frameworks/R.framework/Versions/4.6-arm64/Resources/library’ * installing *source* package ‘ontoProc’ ... ** this is package ‘ontoProc’ version ‘2.5.0’ ** using staged installation ** R ** data ** inst ** byte-compile and prepare package for lazy loading ** help *** installing help indices ** building package indices ** installing vignettes ** testing if installed package can be loaded from temporary location ** testing if installed package can be loaded from final location ** testing if installed package keeps a record of temporary installation path * DONE (ontoProc)
ontoProc.Rcheck/tests/test.Rout
R Under development (unstable) (2025-11-04 r88984) -- "Unsuffered Consequences"
Copyright (C) 2025 The R Foundation for Statistical Computing
Platform: aarch64-apple-darwin20
R is free software and comes with ABSOLUTELY NO WARRANTY.
You are welcome to redistribute it under certain conditions.
Type 'license()' or 'licence()' for distribution details.
R is a collaborative project with many contributors.
Type 'contributors()' for more information and
'citation()' on how to cite R or R packages in publications.
Type 'demo()' for some demos, 'help()' for on-line help, or
'help.start()' for an HTML browser interface to help.
Type 'q()' to quit R.
>
> library(ontoProc)
Loading required package: ontologyIndex
> library(testthat)
>
> test_check("ontoProc")
[ FAIL 0 | WARN 0 | SKIP 0 | PASS 12 ]
>
>
> proc.time()
user system elapsed
104.216 1.820 110.172
ontoProc.Rcheck/ontoProc-Ex.timings
| name | user | system | elapsed | |
| CLfeats | 27.714 | 0.660 | 29.629 | |
| PROSYM | 0.130 | 0.002 | 0.133 | |
| TermSet-class | 17.846 | 0.247 | 18.825 | |
| allGOterms | 0.048 | 0.001 | 0.051 | |
| ancestors | 0.394 | 0.106 | 0.526 | |
| ancestors_names | 0.013 | 0.003 | 0.008 | |
| bioregistry_ols_resources | 0.235 | 0.009 | 5.524 | |
| cellTypeToGO | 0.842 | 0.071 | 0.924 | |
| children_names | 0.003 | 0.000 | 0.003 | |
| cleanCLOnames | 32.939 | 0.317 | 33.881 | |
| common_classes | 17.190 | 0.618 | 18.437 | |
| ctmarks | 0 | 0 | 0 | |
| cyclicSigset | 0.002 | 0.000 | 0.002 | |
| demoApp | 0.000 | 0.001 | 0.000 | |
| dropStop | 0.001 | 0.001 | 0.004 | |
| fastGrep | 26.664 | 0.487 | 40.127 | |
| findCommonAncestors | 16.051 | 0.295 | 16.853 | |
| formalize | 0.001 | 0.000 | 0.000 | |
| getLeavesFromTerm | 22.830 | 0.323 | 23.709 | |
| getOnto | 15.898 | 0.278 | 16.674 | |
| graph2paths | 3.739 | 0.050 | 5.955 | |
| humrna | 0.003 | 0.001 | 0.004 | |
| jowl2classgraph | 0.117 | 0.001 | 0.120 | |
| jowl2classgraph_nio | 0.264 | 0.003 | 0.275 | |
| labels.owlents | 0 | 0 | 0 | |
| ldfToTerms | 1.251 | 0.021 | 1.294 | |
| liberalMap | 18.840 | 0.239 | 26.162 | |
| makeSelectInput | 0.000 | 0.001 | 0.000 | |
| make_graphNEL_from_ontology_plot | 16.375 | 0.251 | 17.166 | |
| mapOneNaive | 16.018 | 0.256 | 16.649 | |
| minicorpus | 0.000 | 0.001 | 0.002 | |
| nomenCheckup | 32.824 | 0.250 | 33.666 | |
| ontoDiff | 4.874 | 0.265 | 5.649 | |
| onto_plot2 | 15.753 | 0.244 | 16.363 | |
| onto_roots | 0 | 0 | 0 | |
| owl2cache | 0.009 | 0.001 | 0.009 | |
| packDesc2019 | 0.002 | 0.001 | 0.004 | |
| packDesc2021 | 0.001 | 0.000 | 0.001 | |
| packDesc2022 | 0.001 | 0.001 | 0.001 | |
| packDesc2023 | 0.001 | 0.001 | 0.001 | |
| parents | 0.002 | 0.000 | 0.003 | |
| plot.owlents | 2.494 | 0.237 | 33.107 | |
| quickOnto | 0.116 | 0.008 | 0.125 | |
| recognizedPredicates | 0 | 0 | 0 | |
| search_labels | 0.162 | 0.010 | 7.048 | |
| secLevGen | 15.755 | 0.178 | 16.454 | |
| selectFromMap | 15.945 | 0.238 | 16.481 | |
| setup_entities | 0.002 | 0.001 | 0.003 | |
| setup_entities2 | 0.138 | 0.003 | 0.141 | |
| seur3kTab | 0.001 | 0.000 | 0.002 | |
| siblings_TAG | 45.416 | 0.646 | 47.138 | |
| stopWords | 0.000 | 0.001 | 0.002 | |
| subclasses | 0.003 | 0.000 | 0.003 | |
| sym2CellOnto | 83.139 | 0.887 | 86.356 | |
| valid_ontonames | 0 | 0 | 0 | |