| Back to Multiple platform build/check report for BioC 3.23: simplified long |
|
This page was generated on 2025-11-24 11:38 -0500 (Mon, 24 Nov 2025).
| Hostname | OS | Arch (*) | R version | Installed pkgs |
|---|---|---|---|---|
| nebbiolo1 | Linux (Ubuntu 24.04.3 LTS) | x86_64 | R Under development (unstable) (2025-10-20 r88955) -- "Unsuffered Consequences" | 4829 |
| lconway | macOS 12.7.6 Monterey | x86_64 | R Under development (unstable) (2025-10-21 r88958) -- "Unsuffered Consequences" | 4605 |
| kjohnson3 | macOS 13.7.7 Ventura | arm64 | R Under development (unstable) (2025-11-04 r88984) -- "Unsuffered Consequences" | 4568 |
| Click on any hostname to see more info about the system (e.g. compilers) (*) as reported by 'uname -p', except on Windows and Mac OS X | ||||
| Package 1495/2327 | Hostname | OS / Arch | INSTALL | BUILD | CHECK | BUILD BIN | ||||||||
| ontoProc 2.5.0 (landing page) Vincent Carey
| nebbiolo1 | Linux (Ubuntu 24.04.3 LTS) / x86_64 | OK | OK | OK | |||||||||
| lconway | macOS 12.7.6 Monterey / x86_64 | OK | OK | OK | OK | |||||||||
| kjohnson3 | macOS 13.7.7 Ventura / arm64 | OK | OK | OK | OK | |||||||||
|
To the developers/maintainers of the ontoProc package: - Allow up to 24 hours (and sometimes 48 hours) for your latest push to git@git.bioconductor.org:packages/ontoProc.git to reflect on this report. See Troubleshooting Build Report for more information. - Use the following Renviron settings to reproduce errors and warnings. - If 'R CMD check' started to fail recently on the Linux builder(s) over a missing dependency, add the missing dependency to 'Suggests:' in your DESCRIPTION file. See Renviron.bioc for more information. |
| Package: ontoProc |
| Version: 2.5.0 |
| Command: /home/biocbuild/bbs-3.23-bioc/R/bin/R CMD check --install=check:ontoProc.install-out.txt --library=/home/biocbuild/bbs-3.23-bioc/R/site-library --timings ontoProc_2.5.0.tar.gz |
| StartedAt: 2025-11-24 02:12:03 -0500 (Mon, 24 Nov 2025) |
| EndedAt: 2025-11-24 02:50:35 -0500 (Mon, 24 Nov 2025) |
| EllapsedTime: 2311.7 seconds |
| RetCode: 0 |
| Status: OK |
| CheckDir: ontoProc.Rcheck |
| Warnings: 0 |
##############################################################################
##############################################################################
###
### Running command:
###
### /home/biocbuild/bbs-3.23-bioc/R/bin/R CMD check --install=check:ontoProc.install-out.txt --library=/home/biocbuild/bbs-3.23-bioc/R/site-library --timings ontoProc_2.5.0.tar.gz
###
##############################################################################
##############################################################################
* using log directory ‘/home/biocbuild/bbs-3.23-bioc/meat/ontoProc.Rcheck’
* using R Under development (unstable) (2025-10-20 r88955)
* using platform: x86_64-pc-linux-gnu
* R was compiled by
gcc (Ubuntu 13.3.0-6ubuntu2~24.04) 13.3.0
GNU Fortran (Ubuntu 13.3.0-6ubuntu2~24.04) 13.3.0
* running under: Ubuntu 24.04.3 LTS
* using session charset: UTF-8
* checking for file ‘ontoProc/DESCRIPTION’ ... OK
* this is package ‘ontoProc’ version ‘2.5.0’
* package encoding: UTF-8
* checking package namespace information ... OK
* checking package dependencies ... OK
* checking if this is a source package ... OK
* checking if there is a namespace ... OK
* checking for hidden files and directories ... OK
* checking for portable file names ... OK
* checking for sufficient/correct file permissions ... OK
* checking whether package ‘ontoProc’ can be installed ... OK
* checking installed package size ... INFO
installed size is 10.5Mb
sub-directories of 1Mb or more:
app 1.6Mb
data 1.8Mb
ontoRda 2.7Mb
owl 3.4Mb
* checking package directory ... OK
* checking ‘build’ directory ... OK
* checking DESCRIPTION meta-information ... OK
* checking top-level files ... OK
* checking for left-over files ... OK
* checking index information ... OK
* checking package subdirectories ... OK
* checking code files for non-ASCII characters ... OK
* checking R files for syntax errors ... OK
* checking whether the package can be loaded ... OK
* checking whether the package can be loaded with stated dependencies ... OK
* checking whether the package can be unloaded cleanly ... OK
* checking whether the namespace can be loaded with stated dependencies ... OK
* checking whether the namespace can be unloaded cleanly ... OK
* checking loading without being on the library search path ... OK
* checking dependencies in R code ... NOTE
':::' call which should be '::': ‘ontologyPlot:::remove_uninformative_terms’
See the note in ?`:::` about the use of this operator.
* checking S3 generic/method consistency ... OK
* checking replacement functions ... OK
* checking foreign function calls ... OK
* checking R code for possible problems ... NOTE
CLfeat : prupdate: no visible binding for global variable ‘PROSYM’
CLfeat : prupdate: no visible binding for global variable ‘PRID’
CLfeat : prupdate: no visible binding for global variable ‘SYMBOL’
ctmarks : server: no visible binding for global variable ‘text’
ctmarks : server: no visible binding for global variable ‘packDesc2022’
ctmarks : server: no visible binding for global variable ‘packDesc2021’
ctmarks: no visible binding for global variable ‘cumu’
dropStop: no visible binding for global variable ‘stopWords’
getOnto: no visible binding for global variable ‘rdatadateadded’
getOnto: no visible binding for global variable ‘title’
getOnto: no visible binding for global variable ‘description’
ldfToTerm: no visible binding for global variable ‘PROSYM’
sym2CellOnto: no visible binding for global variable ‘PROSYM’
sym2CellOnto: no visible binding for global variable ‘SYMBOL’
Undefined global functions or variables:
PRID PROSYM SYMBOL cumu description packDesc2021 packDesc2022
rdatadateadded stopWords text title
Consider adding
importFrom("graphics", "text", "title")
to your NAMESPACE file.
* checking Rd files ... OK
* checking Rd metadata ... OK
* checking Rd cross-references ... NOTE
Found the following Rd file(s) with Rd \link{} targets missing package
anchors:
findCommonAncestors.Rd: graph, DataFrame-class, List-class
Please provide package anchors for all Rd \link{} targets not in the
package itself and the base packages.
* checking for missing documentation entries ... OK
* checking for code/documentation mismatches ... OK
* checking Rd \usage sections ... NOTE
S3 methods shown with full name in Rd file 'plot.owlents.Rd':
‘plot.owlents’
The \usage entries for S3 methods should use the \method markup and not
their full name.
See chapter ‘Writing R documentation files’ in the ‘Writing R
Extensions’ manual.
* checking Rd contents ... OK
* checking for unstated dependencies in examples ... OK
* checking contents of ‘data’ directory ... OK
* checking data for non-ASCII characters ... OK
* checking data for ASCII and uncompressed saves ... OK
* checking files in ‘vignettes’ ... OK
* checking examples ... OK
Examples with CPU (user + system) or elapsed time > 5s
user system elapsed
sym2CellOnto 205.543 3.584 209.629
cleanCLOnames 122.610 3.549 139.142
siblings_TAG 115.259 2.324 118.337
fastGrep 99.143 4.595 134.395
nomenCheckup 88.909 1.185 90.327
common_classes 66.649 5.345 79.261
CLfeats 67.078 2.639 70.613
findCommonAncestors 61.461 1.477 71.597
getLeavesFromTerm 56.409 0.898 57.649
getOnto 54.933 1.036 59.724
liberalMap 50.079 2.040 59.122
make_graphNEL_from_ontology_plot 43.188 0.964 44.415
selectFromMap 42.279 1.058 43.574
secLevGen 40.703 1.802 42.771
onto_plot2 41.716 0.744 42.682
mapOneNaive 40.811 0.764 41.888
TermSet-class 38.132 0.558 38.944
graph2paths 14.518 0.184 15.804
ontoDiff 11.644 0.957 12.984
plot.owlents 4.683 0.288 76.223
search_labels 0.472 0.050 14.870
bioregistry_ols_resources 0.075 0.005 12.484
* checking for unstated dependencies in ‘tests’ ... OK
* checking tests ...
Running ‘test.R’
OK
* checking for unstated dependencies in vignettes ... OK
* checking package vignettes ... OK
* checking re-building of vignette outputs ... OK
* checking PDF version of manual ... OK
* DONE
Status: 4 NOTEs
See
‘/home/biocbuild/bbs-3.23-bioc/meat/ontoProc.Rcheck/00check.log’
for details.
ontoProc.Rcheck/00install.out
############################################################################## ############################################################################## ### ### Running command: ### ### /home/biocbuild/bbs-3.23-bioc/R/bin/R CMD INSTALL ontoProc ### ############################################################################## ############################################################################## * installing to library ‘/home/biocbuild/bbs-3.23-bioc/R/site-library’ * installing *source* package ‘ontoProc’ ... ** this is package ‘ontoProc’ version ‘2.5.0’ ** using staged installation ** R ** data ** inst ** byte-compile and prepare package for lazy loading ** help *** installing help indices ** building package indices ** installing vignettes ** testing if installed package can be loaded from temporary location ** testing if installed package can be loaded from final location ** testing if installed package keeps a record of temporary installation path * DONE (ontoProc)
ontoProc.Rcheck/tests/test.Rout
R Under development (unstable) (2025-10-20 r88955) -- "Unsuffered Consequences"
Copyright (C) 2025 The R Foundation for Statistical Computing
Platform: x86_64-pc-linux-gnu
R is free software and comes with ABSOLUTELY NO WARRANTY.
You are welcome to redistribute it under certain conditions.
Type 'license()' or 'licence()' for distribution details.
R is a collaborative project with many contributors.
Type 'contributors()' for more information and
'citation()' on how to cite R or R packages in publications.
Type 'demo()' for some demos, 'help()' for on-line help, or
'help.start()' for an HTML browser interface to help.
Type 'q()' to quit R.
>
> library(ontoProc)
Loading required package: ontologyIndex
> library(testthat)
>
> test_check("ontoProc")
[ FAIL 0 | WARN 0 | SKIP 0 | PASS 12 ]
>
>
> proc.time()
user system elapsed
268.282 10.576 283.262
ontoProc.Rcheck/ontoProc-Ex.timings
| name | user | system | elapsed | |
| CLfeats | 67.078 | 2.639 | 70.613 | |
| PROSYM | 0.233 | 0.003 | 0.237 | |
| TermSet-class | 38.132 | 0.558 | 38.944 | |
| allGOterms | 0.092 | 0.001 | 0.093 | |
| ancestors | 1.953 | 0.444 | 2.365 | |
| ancestors_names | 0.011 | 0.004 | 0.007 | |
| bioregistry_ols_resources | 0.075 | 0.005 | 12.484 | |
| cellTypeToGO | 1.671 | 0.131 | 1.802 | |
| children_names | 0.005 | 0.001 | 0.006 | |
| cleanCLOnames | 122.610 | 3.549 | 139.142 | |
| common_classes | 66.649 | 5.345 | 79.261 | |
| ctmarks | 0.001 | 0.000 | 0.000 | |
| cyclicSigset | 0.052 | 0.010 | 0.062 | |
| demoApp | 0.000 | 0.000 | 0.001 | |
| dropStop | 0.002 | 0.002 | 0.005 | |
| fastGrep | 99.143 | 4.595 | 134.395 | |
| findCommonAncestors | 61.461 | 1.477 | 71.597 | |
| formalize | 0.001 | 0.000 | 0.001 | |
| getLeavesFromTerm | 56.409 | 0.898 | 57.649 | |
| getOnto | 54.933 | 1.036 | 59.724 | |
| graph2paths | 14.518 | 0.184 | 15.804 | |
| humrna | 0.006 | 0.002 | 0.009 | |
| jowl2classgraph | 0.391 | 0.003 | 0.395 | |
| jowl2classgraph_nio | 1.840 | 0.011 | 1.854 | |
| labels.owlents | 0.001 | 0.000 | 0.000 | |
| ldfToTerms | 3.293 | 0.064 | 3.527 | |
| liberalMap | 50.079 | 2.040 | 59.122 | |
| makeSelectInput | 0 | 0 | 0 | |
| make_graphNEL_from_ontology_plot | 43.188 | 0.964 | 44.415 | |
| mapOneNaive | 40.811 | 0.764 | 41.888 | |
| minicorpus | 0.000 | 0.002 | 0.001 | |
| nomenCheckup | 88.909 | 1.185 | 90.327 | |
| ontoDiff | 11.644 | 0.957 | 12.984 | |
| onto_plot2 | 41.716 | 0.744 | 42.682 | |
| onto_roots | 0.001 | 0.000 | 0.000 | |
| owl2cache | 0.026 | 0.007 | 0.043 | |
| packDesc2019 | 0.004 | 0.001 | 0.005 | |
| packDesc2021 | 0.003 | 0.001 | 0.004 | |
| packDesc2022 | 0.002 | 0.002 | 0.004 | |
| packDesc2023 | 0.003 | 0.001 | 0.004 | |
| parents | 0.005 | 0.001 | 0.006 | |
| plot.owlents | 4.683 | 0.288 | 76.223 | |
| quickOnto | 0.350 | 0.052 | 0.402 | |
| recognizedPredicates | 0.000 | 0.000 | 0.001 | |
| search_labels | 0.472 | 0.050 | 14.870 | |
| secLevGen | 40.703 | 1.802 | 42.771 | |
| selectFromMap | 42.279 | 1.058 | 43.574 | |
| setup_entities | 0.005 | 0.001 | 0.006 | |
| setup_entities2 | 0.356 | 0.007 | 0.364 | |
| seur3kTab | 0.004 | 0.000 | 0.004 | |
| siblings_TAG | 115.259 | 2.324 | 118.337 | |
| stopWords | 0.001 | 0.001 | 0.001 | |
| subclasses | 0.005 | 0.001 | 0.006 | |
| sym2CellOnto | 205.543 | 3.584 | 209.629 | |
| valid_ontonames | 0.000 | 0.000 | 0.001 | |