Back to Multiple platform build/check report for BioC 3.23:   simplified   long
ABCDEFGHIJKLMNOPQR[S]TUVWXYZ

This page was generated on 2025-11-19 10:15 -0500 (Wed, 19 Nov 2025).

HostnameOSArch (*)R versionInstalled pkgs
nebbiolo1Linux (Ubuntu 24.04.3 LTS)x86_64R Under development (unstable) (2025-10-20 r88955) -- "Unsuffered Consequences" 4827
lconwaymacOS 12.7.6 Montereyx86_64R Under development (unstable) (2025-10-21 r88958) -- "Unsuffered Consequences" 4600
kjohnson3macOS 13.7.7 Venturaarm64R Under development (unstable) (2025-11-04 r88984) -- "Unsuffered Consequences" 4564
Click on any hostname to see more info about the system (e.g. compilers)      (*) as reported by 'uname -p', except on Windows and Mac OS X

Package 2114/2325HostnameOS / ArchINSTALLBUILDCHECKBUILD BIN
structToolbox 1.23.0  (landing page)
Gavin Rhys Lloyd
Snapshot Date: 2025-11-18 13:40 -0500 (Tue, 18 Nov 2025)
git_url: https://git.bioconductor.org/packages/structToolbox
git_branch: devel
git_last_commit: e5436a2
git_last_commit_date: 2025-10-29 10:56:35 -0500 (Wed, 29 Oct 2025)
nebbiolo1Linux (Ubuntu 24.04.3 LTS) / x86_64  OK    OK    OK  NO, package depends on 'struct' which is not available
lconwaymacOS 12.7.6 Monterey / x86_64  OK    OK    OK    OK  NO, package depends on 'struct' which is not available
kjohnson3macOS 13.7.7 Ventura / arm64  OK    OK    OK    OK  NO, package depends on 'struct' which is not available


CHECK results for structToolbox on kjohnson3

To the developers/maintainers of the structToolbox package:
- Allow up to 24 hours (and sometimes 48 hours) for your latest push to git@git.bioconductor.org:packages/structToolbox.git to reflect on this report. See Troubleshooting Build Report for more information.
- Use the following Renviron settings to reproduce errors and warnings.
- If 'R CMD check' started to fail recently on the Linux builder(s) over a missing dependency, add the missing dependency to 'Suggests:' in your DESCRIPTION file. See Renviron.bioc for more information.

raw results


Summary

Package: structToolbox
Version: 1.23.0
Command: /Library/Frameworks/R.framework/Resources/bin/R CMD check --install=check:structToolbox.install-out.txt --library=/Library/Frameworks/R.framework/Resources/library --no-vignettes --timings structToolbox_1.23.0.tar.gz
StartedAt: 2025-11-18 22:57:33 -0500 (Tue, 18 Nov 2025)
EndedAt: 2025-11-18 23:00:52 -0500 (Tue, 18 Nov 2025)
EllapsedTime: 198.4 seconds
RetCode: 0
Status:   OK  
CheckDir: structToolbox.Rcheck
Warnings: 0

Command output

##############################################################################
##############################################################################
###
### Running command:
###
###   /Library/Frameworks/R.framework/Resources/bin/R CMD check --install=check:structToolbox.install-out.txt --library=/Library/Frameworks/R.framework/Resources/library --no-vignettes --timings structToolbox_1.23.0.tar.gz
###
##############################################################################
##############################################################################


* using log directory ‘/Users/biocbuild/bbs-3.23-bioc/meat/structToolbox.Rcheck’
* using R Under development (unstable) (2025-11-04 r88984)
* using platform: aarch64-apple-darwin20
* R was compiled by
    Apple clang version 16.0.0 (clang-1600.0.26.6)
    GNU Fortran (GCC) 14.2.0
* running under: macOS Ventura 13.7.8
* using session charset: UTF-8
* using option ‘--no-vignettes’
* checking for file ‘structToolbox/DESCRIPTION’ ... OK
* checking extension type ... Package
* this is package ‘structToolbox’ version ‘1.23.0’
* package encoding: UTF-8
* checking package namespace information ... OK
* checking package dependencies ... OK
* checking if this is a source package ... OK
* checking if there is a namespace ... OK
* checking for hidden files and directories ... OK
* checking for portable file names ... OK
* checking for sufficient/correct file permissions ... OK
* checking whether package ‘structToolbox’ can be installed ... OK
* checking installed package size ... OK
* checking package directory ... OK
* checking ‘build’ directory ... OK
* checking DESCRIPTION meta-information ... OK
* checking top-level files ... OK
* checking for left-over files ... OK
* checking index information ... OK
* checking package subdirectories ... OK
* checking code files for non-ASCII characters ... OK
* checking R files for syntax errors ... OK
* checking whether the package can be loaded ... OK
* checking whether the package can be loaded with stated dependencies ... OK
* checking whether the package can be unloaded cleanly ... OK
* checking whether the namespace can be loaded with stated dependencies ... OK
* checking whether the namespace can be unloaded cleanly ... OK
* checking dependencies in R code ... OK
* checking S3 generic/method consistency ... OK
* checking replacement functions ... OK
* checking foreign function calls ... OK
* checking R code for possible problems ... OK
* checking Rd files ... OK
* checking Rd metadata ... OK
* checking Rd cross-references ... OK
* checking for missing documentation entries ... OK
* checking for code/documentation mismatches ... OK
* checking Rd \usage sections ... OK
* checking Rd contents ... OK
* checking for unstated dependencies in examples ... OK
* checking R/sysdata.rda ... OK
* checking files in ‘vignettes’ ... OK
* checking examples ... OK
Examples with CPU (user + system) or elapsed time > 5s
                 user system elapsed
fold_change_int 5.228  0.006   5.549
* checking for unstated dependencies in ‘tests’ ... OK
* checking tests ...
  Running ‘testthat.R’
 OK
* checking for unstated dependencies in vignettes ... OK
* checking package vignettes ... OK
* checking running R code from vignettes ... SKIPPED
* checking re-building of vignette outputs ... SKIPPED
* checking PDF version of manual ... OK
* DONE

Status: OK


Installation output

structToolbox.Rcheck/00install.out

##############################################################################
##############################################################################
###
### Running command:
###
###   /Library/Frameworks/R.framework/Resources/bin/R CMD INSTALL structToolbox
###
##############################################################################
##############################################################################


* installing to library ‘/Library/Frameworks/R.framework/Versions/4.6-arm64/Resources/library’
* installing *source* package ‘structToolbox’ ...
** this is package ‘structToolbox’ version ‘1.23.0’
** using staged installation
** R
** inst
** byte-compile and prepare package for lazy loading
** help
*** installing help indices
** building package indices
** installing vignettes
** testing if installed package can be loaded from temporary location
** testing if installed package can be loaded from final location
** testing if installed package keeps a record of temporary installation path
* DONE (structToolbox)

Tests output

structToolbox.Rcheck/tests/testthat.Rout


R Under development (unstable) (2025-11-04 r88984) -- "Unsuffered Consequences"
Copyright (C) 2025 The R Foundation for Statistical Computing
Platform: aarch64-apple-darwin20

R is free software and comes with ABSOLUTELY NO WARRANTY.
You are welcome to redistribute it under certain conditions.
Type 'license()' or 'licence()' for distribution details.

R is a collaborative project with many contributors.
Type 'contributors()' for more information and
'citation()' on how to cite R or R packages in publications.

Type 'demo()' for some demos, 'help()' for on-line help, or
'help.start()' for an HTML browser interface to help.
Type 'q()' to quit R.

> library(testthat)
> library(ggplot2)
> library(structToolbox)
Loading required package: struct
> 
> test_check("structToolbox")
[ FAIL 0 | WARN 6 | SKIP 0 | PASS 166 ]

[ FAIL 0 | WARN 6 | SKIP 0 | PASS 166 ]
> 
> proc.time()
   user  system elapsed 
 62.772   0.701  67.850 

Example timings

structToolbox.Rcheck/structToolbox-Ex.timings

nameusersystemelapsed
ANOVA0.0700.0020.081
AUC0.7100.0190.800
DFA0.0590.0010.068
DatasetExperiment_boxplot0.3780.0130.425
DatasetExperiment_dist0.5800.0270.670
DatasetExperiment_factor_boxplot0.1130.0040.129
DatasetExperiment_heatmap0.5290.0120.554
HCA0.0280.0010.030
HSD0.0990.0090.114
HSDEM0.1210.0070.138
MTBLS79_DatasetExperiment0.0000.0000.001
OPLSDA0.0030.0000.004
OPLSR0.0020.0000.002
PCA0.0010.0000.002
PLSDA0.0040.0000.004
PLSR0.0030.0000.003
SVM0.0060.0000.007
as_data_frame0.0410.0010.049
autoscale0.0210.0000.020
balanced_accuracy0.5590.0050.620
blank_filter0.1410.0100.161
blank_filter_hist000
bootstrap0.0030.0000.003
calculate0.0010.0000.002
chart_plot0.010.000.01
classical_lsq0.1030.0010.117
compare_dist2.0000.0912.224
confounders_clsq0.9360.0060.984
confounders_lsq_barchart1.0150.0061.057
confounders_lsq_boxplot1.0260.0111.075
constant_sum_norm0.0020.0000.002
corr_coef0.0780.0010.081
dfa_scores_plot0.3260.0030.348
dratio_filter0.0870.0020.090
equal_split0.0370.0000.038
feature_boxplot0.0090.0010.013
feature_profile0.1620.0020.167
feature_profile_array0.2090.0020.232
filter_by_name0.0100.0000.014
filter_na_count0.3520.0150.378
filter_smeta0.0190.0010.020
fisher_exact3.0670.0083.301
fold_change3.5470.0093.824
fold_change_int5.2280.0065.549
fold_change_plot0.0020.0000.003
forward_selection_by_rank2.0050.0712.193
fs_line2.4110.0602.785
glog_opt_plot0.1800.0030.212
glog_transform0.0950.0010.104
grid_search_1d1.5760.0861.839
gs_line0.0010.0000.000
hca_dendrogram000
kfold_xval1.0720.0081.205
kfoldxcv_grid1.2040.0091.351
kfoldxcv_metric000
knn_impute0.0040.0000.005
kw_p_hist000
kw_rank_sum0.0230.0010.024
linear_model0.0090.0000.009
log_transform0.0020.0000.002
mean_centre0.0010.0000.001
mean_of_medians0.0350.0000.037
mixed_effect0.0520.0010.057
model_apply0.0070.0000.008
model_predict0.0340.0060.042
model_reverse0.0080.0000.012
model_train0.0170.0000.017
mv_boxplot0.1420.0020.161
mv_feature_filter0.0390.0010.045
mv_feature_filter_hist0.0010.0000.000
mv_histogram0.1120.0040.133
mv_sample_filter0.0020.0000.002
mv_sample_filter_hist0.0010.0000.001
nroot_transform0.0020.0000.002
ontology_cache000
pairs_filter0.0030.0000.003
pareto_scale0.0190.0000.019
pca_biplot0.0050.0000.006
pca_correlation_plot0.0020.0000.002
pca_dstat_plot0.0030.0000.003
pca_loadings_plot0.0020.0000.003
pca_scores_plot0.2360.0020.275
pca_scree_plot0.0030.0000.003
permutation_test0.0030.0000.003
permutation_test_plot0.0010.0000.001
permute_sample_order0.0030.0000.005
pls_regcoeff_plot0.1490.0020.164
pls_scores_plot0.2910.0020.327
pls_vip_plot0.1570.0020.171
plsda_feature_importance_plot0.2950.0030.334
plsda_predicted_plot0.1930.0010.224
plsda_roc_plot0.4130.0030.479
plsr_cook_dist0.0020.0000.003
plsr_prediction_plot0.0020.0000.002
plsr_qq_plot0.0020.0000.002
plsr_residual_hist0.0020.0000.002
pqn_norm0.1290.0000.150
pqn_norm_hist0.0000.0000.001
prop_na0.0030.0000.003
r_squared0.0000.0000.001
resample0.0050.0010.004
resample_chart0.0010.0000.001
rsd_filter0.0040.0000.005
rsd_filter_hist000
run0.0100.0000.011
sb_corr0.0080.0000.009
scatter_chart0.1920.0010.230
split_data0.0020.0000.003
stratified_split0.0440.0010.046
svm_plot_2d0.2700.0060.306
tSNE0.0070.0000.009
tSNE_scatter0.0020.0000.002
tic_chart0.1210.0020.147
ttest0.0070.0000.008
vec_norm000
wilcox_p_hist000
wilcox_test0.0050.0000.005