| Back to Multiple platform build/check report for BioC 3.23: simplified long |
|
This page was generated on 2025-11-20 11:38 -0500 (Thu, 20 Nov 2025).
| Hostname | OS | Arch (*) | R version | Installed pkgs |
|---|---|---|---|---|
| nebbiolo1 | Linux (Ubuntu 24.04.3 LTS) | x86_64 | R Under development (unstable) (2025-10-20 r88955) -- "Unsuffered Consequences" | 4827 |
| lconway | macOS 12.7.6 Monterey | x86_64 | R Under development (unstable) (2025-10-21 r88958) -- "Unsuffered Consequences" | 4600 |
| kjohnson3 | macOS 13.7.7 Ventura | arm64 | R Under development (unstable) (2025-11-04 r88984) -- "Unsuffered Consequences" | 4564 |
| Click on any hostname to see more info about the system (e.g. compilers) (*) as reported by 'uname -p', except on Windows and Mac OS X | ||||
| Package 2114/2325 | Hostname | OS / Arch | INSTALL | BUILD | CHECK | BUILD BIN | ||||||||
| structToolbox 1.23.0 (landing page) Gavin Rhys Lloyd
| nebbiolo1 | Linux (Ubuntu 24.04.3 LTS) / x86_64 | OK | OK | OK | |||||||||
| lconway | macOS 12.7.6 Monterey / x86_64 | OK | OK | OK | OK | |||||||||
| kjohnson3 | macOS 13.7.7 Ventura / arm64 | OK | OK | OK | OK | |||||||||
|
To the developers/maintainers of the structToolbox package: - Allow up to 24 hours (and sometimes 48 hours) for your latest push to git@git.bioconductor.org:packages/structToolbox.git to reflect on this report. See Troubleshooting Build Report for more information. - Use the following Renviron settings to reproduce errors and warnings. - If 'R CMD check' started to fail recently on the Linux builder(s) over a missing dependency, add the missing dependency to 'Suggests:' in your DESCRIPTION file. See Renviron.bioc for more information. |
| Package: structToolbox |
| Version: 1.23.0 |
| Command: /home/biocbuild/bbs-3.23-bioc/R/bin/R CMD check --install=check:structToolbox.install-out.txt --library=/home/biocbuild/bbs-3.23-bioc/R/site-library --timings structToolbox_1.23.0.tar.gz |
| StartedAt: 2025-11-20 04:35:37 -0500 (Thu, 20 Nov 2025) |
| EndedAt: 2025-11-20 04:54:15 -0500 (Thu, 20 Nov 2025) |
| EllapsedTime: 1117.4 seconds |
| RetCode: 0 |
| Status: OK |
| CheckDir: structToolbox.Rcheck |
| Warnings: 0 |
##############################################################################
##############################################################################
###
### Running command:
###
### /home/biocbuild/bbs-3.23-bioc/R/bin/R CMD check --install=check:structToolbox.install-out.txt --library=/home/biocbuild/bbs-3.23-bioc/R/site-library --timings structToolbox_1.23.0.tar.gz
###
##############################################################################
##############################################################################
* using log directory ‘/home/biocbuild/bbs-3.23-bioc/meat/structToolbox.Rcheck’
* using R Under development (unstable) (2025-10-20 r88955)
* using platform: x86_64-pc-linux-gnu
* R was compiled by
gcc (Ubuntu 13.3.0-6ubuntu2~24.04) 13.3.0
GNU Fortran (Ubuntu 13.3.0-6ubuntu2~24.04) 13.3.0
* running under: Ubuntu 24.04.3 LTS
* using session charset: UTF-8
* checking for file ‘structToolbox/DESCRIPTION’ ... OK
* checking extension type ... Package
* this is package ‘structToolbox’ version ‘1.23.0’
* package encoding: UTF-8
* checking package namespace information ... OK
* checking package dependencies ... OK
* checking if this is a source package ... OK
* checking if there is a namespace ... OK
* checking for hidden files and directories ... OK
* checking for portable file names ... OK
* checking for sufficient/correct file permissions ... OK
* checking whether package ‘structToolbox’ can be installed ... OK
* checking installed package size ... OK
* checking package directory ... OK
* checking ‘build’ directory ... OK
* checking DESCRIPTION meta-information ... OK
* checking top-level files ... OK
* checking for left-over files ... OK
* checking index information ... OK
* checking package subdirectories ... OK
* checking code files for non-ASCII characters ... OK
* checking R files for syntax errors ... OK
* checking whether the package can be loaded ... OK
* checking whether the package can be loaded with stated dependencies ... OK
* checking whether the package can be unloaded cleanly ... OK
* checking whether the namespace can be loaded with stated dependencies ... OK
* checking whether the namespace can be unloaded cleanly ... OK
* checking loading without being on the library search path ... OK
* checking dependencies in R code ... OK
* checking S3 generic/method consistency ... OK
* checking replacement functions ... OK
* checking foreign function calls ... OK
* checking R code for possible problems ... OK
* checking Rd files ... OK
* checking Rd metadata ... OK
* checking Rd cross-references ... OK
* checking for missing documentation entries ... OK
* checking for code/documentation mismatches ... OK
* checking Rd \usage sections ... OK
* checking Rd contents ... OK
* checking for unstated dependencies in examples ... OK
* checking R/sysdata.rda ... OK
* checking files in ‘vignettes’ ... OK
* checking examples ... OK
Examples with CPU (user + system) or elapsed time > 5s
user system elapsed
fold_change_int 16.267 0.055 16.324
fold_change 10.809 0.113 10.922
fisher_exact 9.900 0.018 9.918
fs_line 6.926 0.106 7.033
forward_selection_by_rank 6.087 0.111 6.199
compare_dist 5.309 0.093 5.402
* checking for unstated dependencies in ‘tests’ ... OK
* checking tests ...
Running ‘testthat.R’
OK
* checking for unstated dependencies in vignettes ... OK
* checking package vignettes ... OK
* checking re-building of vignette outputs ... OK
* checking PDF version of manual ... OK
* DONE
Status: OK
structToolbox.Rcheck/00install.out
############################################################################## ############################################################################## ### ### Running command: ### ### /home/biocbuild/bbs-3.23-bioc/R/bin/R CMD INSTALL structToolbox ### ############################################################################## ############################################################################## * installing to library ‘/home/biocbuild/bbs-3.23-bioc/R/site-library’ * installing *source* package ‘structToolbox’ ... ** this is package ‘structToolbox’ version ‘1.23.0’ ** using staged installation ** R ** inst ** byte-compile and prepare package for lazy loading ** help *** installing help indices ** building package indices ** installing vignettes ** testing if installed package can be loaded from temporary location ** testing if installed package can be loaded from final location ** testing if installed package keeps a record of temporary installation path * DONE (structToolbox)
structToolbox.Rcheck/tests/testthat.Rout
R Under development (unstable) (2025-10-20 r88955) -- "Unsuffered Consequences"
Copyright (C) 2025 The R Foundation for Statistical Computing
Platform: x86_64-pc-linux-gnu
R is free software and comes with ABSOLUTELY NO WARRANTY.
You are welcome to redistribute it under certain conditions.
Type 'license()' or 'licence()' for distribution details.
R is a collaborative project with many contributors.
Type 'contributors()' for more information and
'citation()' on how to cite R or R packages in publications.
Type 'demo()' for some demos, 'help()' for on-line help, or
'help.start()' for an HTML browser interface to help.
Type 'q()' to quit R.
> library(testthat)
> library(ggplot2)
> library(structToolbox)
Loading required package: struct
>
> test_check("structToolbox")
[ FAIL 0 | WARN 6 | SKIP 0 | PASS 166 ]
[ FAIL 0 | WARN 6 | SKIP 0 | PASS 166 ]
>
> proc.time()
user system elapsed
181.822 2.003 183.847
structToolbox.Rcheck/structToolbox-Ex.timings
| name | user | system | elapsed | |
| ANOVA | 0.210 | 0.002 | 0.212 | |
| AUC | 2.102 | 0.084 | 2.191 | |
| DFA | 0.186 | 0.000 | 0.190 | |
| DatasetExperiment_boxplot | 0.996 | 0.030 | 1.026 | |
| DatasetExperiment_dist | 1.386 | 0.083 | 1.470 | |
| DatasetExperiment_factor_boxplot | 0.334 | 0.001 | 0.335 | |
| DatasetExperiment_heatmap | 1.388 | 0.051 | 1.438 | |
| HCA | 0.062 | 0.002 | 0.063 | |
| HSD | 0.292 | 0.002 | 0.295 | |
| HSDEM | 0.271 | 0.004 | 0.275 | |
| MTBLS79_DatasetExperiment | 0.001 | 0.000 | 0.002 | |
| OPLSDA | 0.012 | 0.001 | 0.012 | |
| OPLSR | 0.008 | 0.000 | 0.008 | |
| PCA | 0.005 | 0.000 | 0.004 | |
| PLSDA | 0.012 | 0.000 | 0.012 | |
| PLSR | 0.009 | 0.001 | 0.009 | |
| SVM | 0.020 | 0.001 | 0.021 | |
| as_data_frame | 0.120 | 0.002 | 0.122 | |
| autoscale | 0.066 | 0.001 | 0.068 | |
| balanced_accuracy | 1.745 | 0.031 | 1.776 | |
| blank_filter | 0.399 | 0.026 | 0.425 | |
| blank_filter_hist | 0.001 | 0.000 | 0.001 | |
| bootstrap | 0.010 | 0.001 | 0.011 | |
| calculate | 0.005 | 0.001 | 0.006 | |
| chart_plot | 0.026 | 0.005 | 0.032 | |
| classical_lsq | 0.289 | 0.006 | 0.295 | |
| compare_dist | 5.309 | 0.093 | 5.402 | |
| confounders_clsq | 3.049 | 0.025 | 3.074 | |
| confounders_lsq_barchart | 3.281 | 0.035 | 3.316 | |
| confounders_lsq_boxplot | 3.254 | 0.069 | 3.323 | |
| constant_sum_norm | 0.008 | 0.001 | 0.010 | |
| corr_coef | 0.256 | 0.011 | 0.266 | |
| dfa_scores_plot | 1.005 | 0.005 | 1.009 | |
| dratio_filter | 0.261 | 0.001 | 0.262 | |
| equal_split | 0.120 | 0.001 | 0.121 | |
| feature_boxplot | 0.025 | 0.003 | 0.028 | |
| feature_profile | 0.526 | 0.001 | 0.526 | |
| feature_profile_array | 0.647 | 0.003 | 0.649 | |
| filter_by_name | 0.032 | 0.000 | 0.032 | |
| filter_na_count | 0.972 | 0.028 | 1.000 | |
| filter_smeta | 0.062 | 0.000 | 0.062 | |
| fisher_exact | 9.900 | 0.018 | 9.918 | |
| fold_change | 10.809 | 0.113 | 10.922 | |
| fold_change_int | 16.267 | 0.055 | 16.324 | |
| fold_change_plot | 0.006 | 0.001 | 0.006 | |
| forward_selection_by_rank | 6.087 | 0.111 | 6.199 | |
| fs_line | 6.926 | 0.106 | 7.033 | |
| glog_opt_plot | 0.577 | 0.006 | 0.584 | |
| glog_transform | 0.283 | 0.001 | 0.284 | |
| grid_search_1d | 3.348 | 0.045 | 3.393 | |
| gs_line | 0.001 | 0.000 | 0.001 | |
| hca_dendrogram | 0.000 | 0.000 | 0.001 | |
| kfold_xval | 3.360 | 0.008 | 3.369 | |
| kfoldxcv_grid | 3.811 | 0.005 | 3.816 | |
| kfoldxcv_metric | 0.000 | 0.000 | 0.001 | |
| knn_impute | 0.012 | 0.000 | 0.012 | |
| kw_p_hist | 0.001 | 0.001 | 0.001 | |
| kw_rank_sum | 0.070 | 0.000 | 0.071 | |
| linear_model | 0.027 | 0.000 | 0.028 | |
| log_transform | 0.007 | 0.000 | 0.007 | |
| mean_centre | 0.002 | 0.000 | 0.002 | |
| mean_of_medians | 0.108 | 0.000 | 0.108 | |
| mixed_effect | 0.189 | 0.000 | 0.191 | |
| model_apply | 0.023 | 0.000 | 0.024 | |
| model_predict | 0.055 | 0.000 | 0.055 | |
| model_reverse | 0.024 | 0.001 | 0.025 | |
| model_train | 0.049 | 0.001 | 0.050 | |
| mv_boxplot | 0.43 | 0.00 | 0.43 | |
| mv_feature_filter | 0.116 | 0.000 | 0.117 | |
| mv_feature_filter_hist | 0.001 | 0.000 | 0.000 | |
| mv_histogram | 0.326 | 0.000 | 0.326 | |
| mv_sample_filter | 0.009 | 0.000 | 0.008 | |
| mv_sample_filter_hist | 0.001 | 0.001 | 0.001 | |
| nroot_transform | 0.007 | 0.000 | 0.007 | |
| ontology_cache | 0.000 | 0.000 | 0.001 | |
| pairs_filter | 0.009 | 0.000 | 0.009 | |
| pareto_scale | 0.055 | 0.000 | 0.054 | |
| pca_biplot | 0.014 | 0.000 | 0.014 | |
| pca_correlation_plot | 0.005 | 0.000 | 0.006 | |
| pca_dstat_plot | 0.009 | 0.001 | 0.009 | |
| pca_loadings_plot | 0.008 | 0.000 | 0.009 | |
| pca_scores_plot | 0.733 | 0.001 | 0.734 | |
| pca_scree_plot | 0.007 | 0.000 | 0.007 | |
| permutation_test | 0.010 | 0.001 | 0.009 | |
| permutation_test_plot | 0.003 | 0.000 | 0.003 | |
| permute_sample_order | 0.005 | 0.000 | 0.006 | |
| pls_regcoeff_plot | 0.460 | 0.002 | 0.461 | |
| pls_scores_plot | 0.861 | 0.012 | 0.874 | |
| pls_vip_plot | 0.479 | 0.014 | 0.493 | |
| plsda_feature_importance_plot | 0.881 | 0.005 | 0.885 | |
| plsda_predicted_plot | 0.582 | 0.001 | 0.583 | |
| plsda_roc_plot | 1.177 | 0.000 | 1.177 | |
| plsr_cook_dist | 0.007 | 0.000 | 0.007 | |
| plsr_prediction_plot | 0.006 | 0.001 | 0.006 | |
| plsr_qq_plot | 0.006 | 0.000 | 0.007 | |
| plsr_residual_hist | 0.006 | 0.000 | 0.006 | |
| pqn_norm | 0.337 | 0.001 | 0.338 | |
| pqn_norm_hist | 0.000 | 0.001 | 0.001 | |
| prop_na | 0.01 | 0.00 | 0.01 | |
| r_squared | 0.001 | 0.000 | 0.001 | |
| resample | 0.014 | 0.000 | 0.014 | |
| resample_chart | 0.003 | 0.000 | 0.003 | |
| rsd_filter | 0.012 | 0.001 | 0.013 | |
| rsd_filter_hist | 0.001 | 0.000 | 0.001 | |
| run | 0.031 | 0.000 | 0.031 | |
| sb_corr | 0.023 | 0.003 | 0.026 | |
| scatter_chart | 0.525 | 0.000 | 0.526 | |
| split_data | 0.007 | 0.000 | 0.007 | |
| stratified_split | 0.106 | 0.000 | 0.107 | |
| svm_plot_2d | 0.819 | 0.006 | 0.825 | |
| tSNE | 0.023 | 0.001 | 0.024 | |
| tSNE_scatter | 0.007 | 0.000 | 0.008 | |
| tic_chart | 0.342 | 0.000 | 0.342 | |
| ttest | 0.022 | 0.000 | 0.022 | |
| vec_norm | 0.001 | 0.000 | 0.001 | |
| wilcox_p_hist | 0.000 | 0.001 | 0.000 | |
| wilcox_test | 0.017 | 0.000 | 0.017 | |