--- experimental! ---
GPU-enabled build/check report for BioC 3.22
Report updated every 6 hours

This page was generated on 2025-07-13 10:45 -0400 (Sun, 13 Jul 2025).

Approx. Package Snapshot Date/Time (git pull): 2025-07-13 09:00 -0400 (Sun, 13 Jul 2025)
See this page for all the Bioconductor builds and their schedule.

HostnameOSArch (*)R versionInstalled pkgs
biocgpuLinux (Ubuntu 24.04.2 LTS)x86_644.5.1 (2025-06-13) -- "Great Square Root" 280
amaroneLinux (Ubuntu 24.04.2 LTS)x86_644.5.1 (2025-06-13) -- "Great Square Root" 281
Click on any hostname to see more info about the system (e.g. compilers)      (*) as reported by 'uname -p', except on Windows and Mac OS X

Package status is indicated by one of the following glyphs
  TIMEOUT  
INSTALL, BUILD or CHECK of package took more than 40 minutes
  ERROR  
Bad DESCRIPTION file, or INSTALL or BUILD of package failed, or CHECK produced errors
  WARNINGS  
CHECK of package produced warnings
  OK  
INSTALL, BUILD or CHECK of package went OK
  NA  
INSTALL, BUILD or CHECK result is not available because of an anomaly in the Build System
skipped
CHECK of package was skipped because the BUILD step failed
Click on any glyph in the report below to access the detailed report.
Package propagation status is indicated by one of the following LEDs
YES YES: Package was propagated because it didn't previously exist or version was bumped
NO NO: Package was not propagated because of a problem (impossible dependencies, or version lower than what is already propagated)
UNNEEDED UNNEEDED: Package was not propagated because it is already in the repository with this version. A version bump is required in order to propagate it

A crossed-out package name indicates the package is deprecated


QUICK STATSOS / ArchINSTALLBUILDCHECK
biocgpuLinux (Ubuntu 24.04.2 LTS) / x86_64
003
003
0003
amaroneLinux (Ubuntu 24.04.2 LTS) / x86_64
003
021
0010
Package 1/3HostnameOS / ArchINSTALLBUILDCHECK
orthos 1.7.2  (landing page)
Panagiotis Papasaikas
git_last_commit: 758bf08
git_last_commit_date: 2025-07-01 03:49:05 -0400
biocgpuLinux (Ubuntu 24.04.2 LTS) / x86_64  OK    OK    OK  UNNEEDED, same version is already published
amaroneLinux (Ubuntu 24.04.2 LTS) / x86_64  OK    ERROR  skipped
Package 2/3HostnameOS / ArchINSTALLBUILDCHECK
RbowtieCuda 1.1.1  (landing page)
Franck RICHARD
git_last_commit: 41bf796
git_last_commit_date: 2025-04-17 16:05:49 -0400
biocgpuLinux (Ubuntu 24.04.2 LTS) / x86_64  OK    OK    OK  UNNEEDED, same version is already published
amaroneLinux (Ubuntu 24.04.2 LTS) / x86_64  OK    OK    WARNINGS  
Package 3/3HostnameOS / ArchINSTALLBUILDCHECK
scviR 1.9.11  (landing page)
Vincent Carey
git_last_commit: 5dd474c
git_last_commit_date: 2025-05-12 05:55:48 -0400
biocgpuLinux (Ubuntu 24.04.2 LTS) / x86_64  OK    OK    OK  UNNEEDED, same version is already published
amaroneLinux (Ubuntu 24.04.2 LTS) / x86_64  OK    ERROR  skipped