Back to the "Multiple platform build/check report"
| Package 17/48 | Hostname | OS | Arch | BUILD | CHECK | BUILD BIN |
GGdata0.0-7stvjcLast Changed Date: 2007-04-18 17:11:44 -0700 Last Changed Rev: 280 | lamb1 | Linux (SUSE 10.1) | x86_64 | OK | WARNINGS | |
| lemming | Windows Server 2003 (32-bit) | x64 | OK | WARNINGS | [ OK ] |
| Package: GGdata |
| Version: 0.0-7 |
| Command: D:\biocbld\bbs-2.0-bioc\R\bin\R.exe CMD INSTALL --build --library=GGdata.buildbin-libdir GGdata_0.0-7.tar.gz |
| RetCode: 0 |
| Time: 193.6 seconds |
| Status: OK |
| PackageFile: GGdata_0.0-7.zip |
installing R.css in D:/biocbld/bbs-2.0-data-experiment/meat/GGdata.buildbin-libdir
Using auto-selected zip options 'GGdata-ZIPDATA=zip'
---------- Making package GGdata ------------
adding build stamp to DESCRIPTION
no R files in this package
installing data files
installing man source files
installing indices
Loading required package: methods
zipping data
installing help
>>> Building/Updating help pages for package 'GGdata'
Formats: text html latex example chm
c20GGceu text html latex example chm
chr20meta text html latex example chm
Microsoft HTML Help Compiler 4.74.8702
Compiling d:\biocbld\bbs-2.0-data-experiment\meat\R.INSTALL.7548\GGdata\chm\GGdata.chm
Compile time: 0 minutes, 0 seconds
3 Topics
54 Local links
0 Internet links
1 Graphic
Created d:\biocbld\bbs-2.0-data-experiment\meat\R.INSTALL.7548\GGdata\chm\GGdata.chm, 18,349 bytes
Compression decreased file by 5,911 bytes.
adding MD5 sums
packaged installation of package 'GGdata' as GGdata_0.0-7.zip
* DONE (GGdata)