Back to the "Multiple platform build/check report"
| Package 17/48 | Hostname | OS | Arch | BUILD | CHECK | BUILD BIN |
GGdata0.0-7stvjcLast Changed Date: 2007-04-18 17:11:44 -0700 Last Changed Rev: 280 | lamb1 | Linux (SUSE 10.1) | x86_64 | OK | WARNINGS | |
| lemming | Windows Server 2003 (32-bit) | x64 | [ OK ] | WARNINGS | OK |
| Package: GGdata |
| Version: 0.0-7 |
| Command: D:\biocbld\bbs-2.0-bioc\R\bin\R.exe CMD build GGdata |
| RetCode: 0 |
| Time: 66.8 seconds |
| Status: OK |
| PackageFile: GGdata_0.0-7.tar.gz |
* checking for file 'GGdata/DESCRIPTION' ... OK * preparing 'GGdata': * checking DESCRIPTION meta-information ... OK * removing junk files * checking for LF line-endings in source files * checking for empty or unneeded directories * building 'GGdata_0.0-7.tar.gz'