Back to the "Multiple platform build/check report"
| Package 12/48 | Hostname | OS | Arch | BUILD | CHECK | BUILD BIN |
estrogen1.8.2R. GentlemanLast Changed Date: 2007-06-28 17:03:35 -0700 Last Changed Rev: 348 | lamb1 | Linux (SUSE 10.1) | x86_64 | OK | OK | |
| lemming | Windows Server 2003 (32-bit) | x64 | [ OK ] | OK | OK |
| Package: estrogen |
| Version: 1.8.2 |
| Command: D:\biocbld\bbs-2.0-bioc\R\bin\R.exe CMD build estrogen |
| RetCode: 0 |
| Time: 485.9 seconds |
| Status: OK |
| PackageFile: estrogen_1.8.2.tar.gz |
* checking for file 'estrogen/DESCRIPTION' ... OK
* preparing 'estrogen':
* checking DESCRIPTION meta-information ... OK
* installing the package to re-build vignettes
installing R.css in D:/biocbld/bbs-2.0-data-experiment/tmpdir/Rinst699638751
---------- Making package estrogen ------------
adding build stamp to DESCRIPTION
installing R files
installing inst files
installing man source files
installing indices
installing help
>>> Building/Updating help pages for package 'estrogen'
Formats: text html latex example chm
gentlecol text html latex chm
Microsoft HTML Help Compiler 4.74.8702
Compiling d:\biocbld\bbs-2.0-data-experiment\meat\estrogen\chm\estrogen.chm
Compile time: 0 minutes, 0 seconds
2 Topics
2 Local links
0 Internet links
1 Graphic
Created d:\biocbld\bbs-2.0-data-experiment\meat\estrogen\chm\estrogen.chm, 15,319 bytes
Compression increased file by 9,186 bytes.
adding MD5 sums
* DONE (estrogen)
* creating vignettes ... OK
* removing junk files
* checking for LF line-endings in source files
* checking for empty or unneeded directories
* building 'estrogen_1.8.2.tar.gz'