Back to the "Multiple platform build/check report"
| Package 12/48 | Hostname | OS | Arch | BUILD | CHECK | BUILD BIN |
estrogen1.8.2R. GentlemanLast Changed Date: 2007-06-28 17:03:35 -0700 Last Changed Rev: 348 | lamb1 | Linux (SUSE 10.1) | x86_64 | OK | OK | |
| lemming | Windows Server 2003 (32-bit) | x64 | OK | [ OK ] | OK |
| Package: estrogen |
| Version: 1.8.2 |
| Command: D:\biocbld\bbs-2.0-bioc\R\bin\R.exe CMD check estrogen_1.8.2.tar.gz |
| RetCode: 0 |
| Time: 1038.1 seconds |
| Status: OK |
| CheckDir: estrogen.Rcheck |
| Warnings: 0 |
* checking for working latex ... OK * using log directory 'D:/biocbld/bbs-2.0-data-experiment/meat/estrogen.Rcheck' * using R version 2.5.1 (2007-06-27) * checking for file 'estrogen/DESCRIPTION' ... OK * this is package 'estrogen' version '1.8.2' * checking package dependencies ... OK * checking if this is a source package ... OK * checking whether package 'estrogen' can be installed ... OK * checking package directory ... OK * checking for portable file names ... OK * checking DESCRIPTION meta-information ... OK * checking top-level files ... OK * checking index information ... OK * checking package subdirectories ... OK * checking R files for non-ASCII characters ... OK * checking R files for syntax errors ... OK * checking whether the package can be loaded ... OK * checking whether the package can be loaded with stated dependencies ... OK * checking for unstated dependencies in R code ... OK * checking S3 generic/method consistency ... OK * checking replacement functions ... OK * checking foreign function calls ... OK * checking R code for possible problems ... OK * checking Rd files ... OK * checking Rd cross-references ... OK * checking for missing documentation entries ... OK * checking for code/documentation mismatches ... OK * checking Rd \usage sections ... OK * creating estrogen-Ex.R ... OK * checking examples ... OK * checking package vignettes in 'inst/doc' ... OK * creating estrogen-manual.tex ... OK * checking estrogen-manual.tex ... OK
estrogen.Rcheck/00install.out:
installing R.css in D:/biocbld/bbs-2.0-data-experiment/meat/estrogen.Rcheck
---------- Making package estrogen ------------
adding build stamp to DESCRIPTION
installing R files
installing inst files
installing man source files
installing indices
installing help
>>> Building/Updating help pages for package 'estrogen'
Formats: text html latex example chm
gentlecol text html latex chm
Microsoft HTML Help Compiler 4.74.8702
Compiling d:\biocbld\bbs-2.0-data-experiment\meat\estrogen.Rcheck\00_pkg_src\estrogen\chm\estrogen.chm
Compile time: 0 minutes, 0 seconds
2 Topics
2 Local links
0 Internet links
1 Graphic
Created d:\biocbld\bbs-2.0-data-experiment\meat\estrogen.Rcheck\00_pkg_src\estrogen\chm\estrogen.chm, 15,323 bytes
Compression increased file by 9,190 bytes.
adding MD5 sums
* DONE (estrogen)