Back to the "Multiple platform build/check report"
| Package 19/48 | Hostname | OS | Arch | BUILD | CHECK | BUILD BIN | 
hapmap100khind1.1Benilton CarvalhoLast Changed Date: 2007-07-06 06:45:41 -0700 Last Changed Rev: 358  | lamb1 | Linux (SUSE 10.1) | x86_64 | [ OK ] | OK | |
| lemming | Windows Server 2003 (32-bit) | x64 | OK | OK | OK | 
| Package: hapmap100khind | 
| Version: 1.1 | 
| Command: /home/biocbuild/bbs-2.0-bioc/R/bin/R CMD build hapmap100khind | 
| RetCode: 0 | 
| Time: 9.7 seconds | 
| Status: OK | 
| PackageFile: hapmap100khind_1.1.tar.gz | 
* checking for file 'hapmap100khind/DESCRIPTION' ... OK * preparing 'hapmap100khind': * checking DESCRIPTION meta-information ... OK * removing junk files * checking for LF line-endings in source files * checking for empty or unneeded directories * building 'hapmap100khind_1.1.tar.gz'