Back to the "Multiple platform build/check report"
| Package 19/48 | Hostname | OS | Arch | BUILD | CHECK | BUILD BIN | 
hapmap100khind1.1Benilton CarvalhoLast Changed Date: 2007-07-06 06:45:41 -0700 Last Changed Rev: 358  | lamb1 | Linux (SUSE 10.1) | x86_64 | OK | OK | |
| lemming | Windows Server 2003 (32-bit) | x64 | OK | [ OK ] | OK | 
| Package: hapmap100khind | 
| Version: 1.1 | 
| Command: D:\biocbld\bbs-2.0-bioc\R\bin\R.exe CMD check hapmap100khind_1.1.tar.gz | 
| RetCode: 0 | 
| Time: 39.5 seconds | 
| Status: OK | 
| CheckDir: hapmap100khind.Rcheck | 
| Warnings: 0 | 
* checking for working latex ... OK * using log directory 'D:/biocbld/bbs-2.0-data-experiment/meat/hapmap100khind.Rcheck' * using R version 2.5.1 (2007-06-27) * checking for file 'hapmap100khind/DESCRIPTION' ... OK * checking extension type ... Package * this is package 'hapmap100khind' version '1.1' * checking package dependencies ... OK * checking if this is a source package ... OK * checking whether package 'hapmap100khind' can be installed ... OK * checking package directory ... OK * checking for portable file names ... OK * checking DESCRIPTION meta-information ... OK * checking top-level files ... OK * checking index information ... OK * checking package subdirectories ... OK * checking R files for non-ASCII characters ... OK * checking R files for syntax errors ... OK * checking whether the package can be loaded ... OK * checking whether the package can be loaded with stated dependencies ... OK * checking for unstated dependencies in R code ... OK * checking S3 generic/method consistency ... OK * checking replacement functions ... OK * checking foreign function calls ... OK * checking R code for possible problems ... OK * checking Rd files ... OK * checking Rd cross-references ... OK * checking for missing documentation entries ... OK * checking for code/documentation mismatches ... OK * checking Rd \usage sections ... OK * creating hapmap100khind-Ex.R ... OK * checking examples ... OK * creating hapmap100khind-manual.tex ... OK * checking hapmap100khind-manual.tex ... OK
hapmap100khind.Rcheck/00install.out:
installing R.css in D:/biocbld/bbs-2.0-data-experiment/meat/hapmap100khind.Rcheck
---------- Making package hapmap100khind ------------
  adding build stamp to DESCRIPTION
  installing R files
  installing inst files
  installing man source files
  installing indices
  installing help
 >>> Building/Updating help pages for package 'hapmap100khind'
     Formats: text html latex example chm 
  hapmap100khind-package            text    html    latex   example chm
Microsoft HTML Help Compiler 4.74.8702
Compiling d:\biocbld\bbs-2.0-data-experiment\meat\hapmap100khind.Rcheck\00_pkg_src\hapmap100khind\chm\hapmap100khind.chm
Compile time: 0 minutes, 0 seconds
2	Topics
3	Local links
0	Internet links
1	Graphic
Created d:\biocbld\bbs-2.0-data-experiment\meat\hapmap100khind.Rcheck\00_pkg_src\hapmap100khind\chm\hapmap100khind.chm, 16,275 bytes
Compression increased file by 8,647 bytes.
  adding MD5 sums
* DONE (hapmap100khind)