Back to the "Multiple platform build/check report"
| Package 19/48 | Hostname | OS | Arch | BUILD | CHECK | BUILD BIN |
hapmap100khind1.1Benilton CarvalhoLast Changed Date: 2007-07-06 06:45:41 -0700 Last Changed Rev: 358 | lamb1 | Linux (SUSE 10.1) | x86_64 | OK | OK | |
| lemming | Windows Server 2003 (32-bit) | x64 | OK | OK | [ OK ] |
| Package: hapmap100khind |
| Version: 1.1 |
| Command: D:\biocbld\bbs-2.0-bioc\R\bin\R.exe CMD INSTALL --build --library=hapmap100khind.buildbin-libdir hapmap100khind_1.1.tar.gz |
| RetCode: 0 |
| Time: 20.5 seconds |
| Status: OK |
| PackageFile: hapmap100khind_1.1.zip |
installing R.css in D:/biocbld/bbs-2.0-data-experiment/meat/hapmap100khind.buildbin-libdir
Using auto-selected zip options ''
---------- Making package hapmap100khind ------------
adding build stamp to DESCRIPTION
installing R files
installing inst files
installing man source files
installing indices
installing help
>>> Building/Updating help pages for package 'hapmap100khind'
Formats: text html latex example chm
hapmap100khind-package text html latex example chm
Microsoft HTML Help Compiler 4.74.8702
Compiling d:\biocbld\bbs-2.0-data-experiment\meat\R.INSTALL.2660\hapmap100khind\chm\hapmap100khind.chm
Compile time: 0 minutes, 0 seconds
2 Topics
3 Local links
0 Internet links
1 Graphic
Created d:\biocbld\bbs-2.0-data-experiment\meat\R.INSTALL.2660\hapmap100khind\chm\hapmap100khind.chm, 16,277 bytes
Compression increased file by 8,649 bytes.
adding MD5 sums
packaged installation of package 'hapmap100khind' as hapmap100khind_1.1.zip
* DONE (hapmap100khind)