Back to the "Multiple platform build/check report"
| Package 25/48 | Hostname | OS | Arch | BUILD | CHECK | BUILD BIN | 
hgu2beta71.2.0Ting-Yuan LiuLast Changed Date: 2006-09-28 18:17:09 -0700 Last Changed Rev: 142  | lamb1 | Linux (SUSE 10.1) | x86_64 | OK | ERROR | |
| lemming | Windows Server 2003 (32-bit) | x64 | OK | ERROR | [ OK ] | 
| Package: hgu2beta7 | 
| Version: 1.2.0 | 
| Command: D:\biocbld\bbs-2.0-bioc\R\bin\R.exe CMD INSTALL --build --library=hgu2beta7.buildbin-libdir hgu2beta7_1.2.0.tar.gz | 
| RetCode: 0 | 
| Time: 23.2 seconds | 
| Status: OK | 
| PackageFile: hgu2beta7_1.2.0.zip | 
installing R.css in D:/biocbld/bbs-2.0-data-experiment/meat/hgu2beta7.buildbin-libdir
Using auto-selected zip options 'hgu2beta7-ZIPDATA=zip hgu2beta7-HELP=ziponly'
---------- Making package hgu2beta7 ------------
  adding build stamp to DESCRIPTION
  installing R files
  installing data files
  installing man source files
  installing indices
  installing help
 >>> Building/Updating help pages for package 'hgu2beta7'
     Formats: text html latex example chm 
  hgu2beta7                         text    html    latex           chm
  hgu2beta7ACCNUM                   text    html    latex   example chm
  hgu2beta7CHR                      text    html    latex   example chm
  hgu2beta7CHRLENGTHS               text    html    latex   example chm
  hgu2beta7CHRLOC                   text    html    latex   example chm
  hgu2beta7ENZYME                   text    html    latex   example chm
  hgu2beta7ENZYME2PROBE             text    html    latex   example chm
  hgu2beta7GENENAME                 text    html    latex   example chm
  hgu2beta7GO                       text    html    latex   example chm
  hgu2beta7GO2ALLPROBES             text    html    latex   example chm
  hgu2beta7GO2PROBE                 text    html    latex   example chm
  hgu2beta7GRIF                     text    html    latex   example chm
  hgu2beta7LOCUSID                  text    html    latex   example chm
  hgu2beta7MAP                      text    html    latex   example chm
  hgu2beta7OMIM                     text    html    latex   example chm
  hgu2beta7ORGANISM                 text    html    latex   example chm
  hgu2beta7PATH                     text    html    latex   example chm
  hgu2beta7PATH2PROBE               text    html    latex   example chm
  hgu2beta7PMID                     text    html    latex   example chm
  hgu2beta7PMID2PROBE               text    html    latex   example chm
  hgu2beta7QC                       text    html    latex           chm
  hgu2beta7REFSEQ                   text    html    latex   example chm
  hgu2beta7SUMFUNC                  text    html    latex   example chm
  hgu2beta7SYMBOL                   text    html    latex   example chm
  hgu2beta7UNIGENE                  text    html    latex   example chm
  zipping help files
Microsoft HTML Help Compiler 4.74.8702
Compiling d:\biocbld\bbs-2.0-data-experiment\meat\R.INSTALL.7112\hgu2beta7\chm\hgu2beta7.chm
Compile time: 0 minutes, 0 seconds
26	Topics
51	Local links
30	Internet links
1	Graphic
Created d:\biocbld\bbs-2.0-data-experiment\meat\R.INSTALL.7112\hgu2beta7\chm\hgu2beta7.chm, 43,106 bytes
Compression decreased file by 37,922 bytes.
  adding MD5 sums
packaged installation of package 'hgu2beta7' as hgu2beta7_1.2.0.zip
* DONE (hgu2beta7)