Back to the "Multiple platform build/check report"
| Package 25/48 | Hostname | OS | Arch | BUILD | CHECK | BUILD BIN | 
hgu2beta71.2.0Ting-Yuan LiuLast Changed Date: 2006-09-28 18:17:09 -0700 Last Changed Rev: 142  | lamb1 | Linux (SUSE 10.1) | x86_64 | OK | ERROR | |
| lemming | Windows Server 2003 (32-bit) | x64 | [ OK ] | ERROR | OK | 
| Package: hgu2beta7 | 
| Version: 1.2.0 | 
| Command: D:\biocbld\bbs-2.0-bioc\R\bin\R.exe CMD build hgu2beta7 | 
| RetCode: 0 | 
| Time: 5.7 seconds | 
| Status: OK | 
| PackageFile: hgu2beta7_1.2.0.tar.gz | 
* checking for file 'hgu2beta7/DESCRIPTION' ... OK * preparing 'hgu2beta7': * checking DESCRIPTION meta-information ... OK * removing junk files * checking for LF line-endings in source files * checking for empty or unneeded directories * building 'hgu2beta7_1.2.0.tar.gz'