Back to the "Multiple platform build/check report"
| Package 28/48 | Hostname | OS | Arch | BUILD | CHECK | BUILD BIN |
kidpack1.4.3Wolfgang HuberLast Changed Date: 2007-04-17 09:27:44 -0700 Last Changed Rev: 274 | lamb1 | Linux (SUSE 10.1) | x86_64 | [ OK ] | OK | |
| lemming | Windows Server 2003 (32-bit) | x64 | OK | OK | OK |
| Package: kidpack |
| Version: 1.4.3 |
| Command: /home/biocbuild/bbs-2.0-bioc/R/bin/R CMD build kidpack |
| RetCode: 0 |
| Time: 12.5 seconds |
| Status: OK |
| PackageFile: kidpack_1.4.3.tar.gz |
* checking for file 'kidpack/DESCRIPTION' ... OK
* preparing 'kidpack':
* checking DESCRIPTION meta-information ... OK
* installing the package to re-build vignettes
* Installing *source* package 'kidpack' ...
** R
** data
** inst
** help
>>> Building/Updating help pages for package 'kidpack'
Formats: text html latex example
eset text html latex example
qua text html latex example
** building package indices ...
Loading required package: methods
* DONE (kidpack)
* creating vignettes ... OK
* removing junk files
* checking for LF line-endings in source files
* checking for empty or unneeded directories
* building 'kidpack_1.4.3.tar.gz'