Back to the "Multiple platform build/check report"
| Package 28/48 | Hostname | OS | Arch | BUILD | CHECK | BUILD BIN |
kidpack1.4.3Wolfgang HuberLast Changed Date: 2007-04-17 09:27:44 -0700 Last Changed Rev: 274 | lamb1 | Linux (SUSE 10.1) | x86_64 | OK | OK | |
| lemming | Windows Server 2003 (32-bit) | x64 | OK | OK | [ OK ] |
| Package: kidpack |
| Version: 1.4.3 |
| Command: D:\biocbld\bbs-2.0-bioc\R\bin\R.exe CMD INSTALL --build --library=kidpack.buildbin-libdir kidpack_1.4.3.tar.gz |
| RetCode: 0 |
| Time: 27.7 seconds |
| Status: OK |
| PackageFile: kidpack_1.4.3.zip |
installing R.css in D:/biocbld/bbs-2.0-data-experiment/meat/kidpack.buildbin-libdir
Using auto-selected zip options 'kidpack-ZIPDATA=zip'
---------- Making package kidpack ------------
adding build stamp to DESCRIPTION
installing R files
installing inst files
installing data files
installing man source files
installing indices
Loading required package: methods
zipping data
installing help
>>> Building/Updating help pages for package 'kidpack'
Formats: text html latex example chm
eset text html latex example chm
qua text html latex example chm
Microsoft HTML Help Compiler 4.74.8702
Compiling d:\biocbld\bbs-2.0-data-experiment\meat\R.INSTALL.5704\kidpack\chm\kidpack.chm
Compile time: 0 minutes, 0 seconds
3 Topics
12 Local links
0 Internet links
1 Graphic
Created d:\biocbld\bbs-2.0-data-experiment\meat\R.INSTALL.5704\kidpack\chm\kidpack.chm, 18,650 bytes
Compression increased file by 6,263 bytes.
adding MD5 sums
packaged installation of package 'kidpack' as kidpack_1.4.3.zip
* DONE (kidpack)