Back to the "Multiple platform build/check report"
| Package 28/48 | Hostname | OS | Arch | BUILD | CHECK | BUILD BIN | 
kidpack1.4.3Wolfgang HuberLast Changed Date: 2007-04-17 09:27:44 -0700 Last Changed Rev: 274  | lamb1 | Linux (SUSE 10.1) | x86_64 | OK | OK | |
| lemming | Windows Server 2003 (32-bit) | x64 | [ OK ] | OK | OK | 
| Package: kidpack | 
| Version: 1.4.3 | 
| Command: D:\biocbld\bbs-2.0-bioc\R\bin\R.exe CMD build kidpack | 
| RetCode: 0 | 
| Time: 82.3 seconds | 
| Status: OK | 
| PackageFile: kidpack_1.4.3.tar.gz | 
* checking for file 'kidpack/DESCRIPTION' ... OK
* preparing 'kidpack':
* checking DESCRIPTION meta-information ... OK
* installing the package to re-build vignettes
installing R.css in D:/biocbld/bbs-2.0-data-experiment/tmpdir/Rinst785687332
---------- Making package kidpack ------------
  adding build stamp to DESCRIPTION
  installing R files
  installing inst files
  installing data files
  installing man source files
  installing indices
Loading required package: methods
  not zipping data
  installing help
 >>> Building/Updating help pages for package 'kidpack'
     Formats: text html latex example chm 
  eset                              text    html    latex   example chm
  qua                               text    html    latex   example chm
Microsoft HTML Help Compiler 4.74.8702
Compiling d:\biocbld\bbs-2.0-data-experiment\meat\kidpack\chm\kidpack.chm
Compile time: 0 minutes, 0 seconds
3	Topics
12	Local links
0	Internet links
1	Graphic
Created d:\biocbld\bbs-2.0-data-experiment\meat\kidpack\chm\kidpack.chm, 18,650 bytes
Compression increased file by 6,263 bytes.
  adding MD5 sums
* DONE (kidpack)
* creating vignettes ... OK
* removing junk files
* checking for LF line-endings in source files
* checking for empty or unneeded directories
* building 'kidpack_1.4.3.tar.gz'