Back to Multiple platform build/check report for BioC 3.21:   simplified   long
ABCDEFGHIJKLMNOPQR[S]TUVWXYZ

This page was generated on 2025-04-22 13:17 -0400 (Tue, 22 Apr 2025).

HostnameOSArch (*)R versionInstalled pkgs
nebbiolo1Linux (Ubuntu 24.04.1 LTS)x86_644.5.0 RC (2025-04-04 r88126) -- "How About a Twenty-Six" 4831
palomino7Windows Server 2022 Datacenterx644.5.0 RC (2025-04-04 r88126 ucrt) -- "How About a Twenty-Six" 4573
lconwaymacOS 12.7.1 Montereyx86_644.5.0 RC (2025-04-04 r88126) -- "How About a Twenty-Six" 4599
kjohnson3macOS 13.7.1 Venturaarm644.5.0 RC (2025-04-04 r88126) -- "How About a Twenty-Six" 4553
kunpeng2Linux (openEuler 24.03 LTS)aarch64R Under development (unstable) (2025-02-19 r87757) -- "Unsuffered Consequences" 4570
Click on any hostname to see more info about the system (e.g. compilers)      (*) as reported by 'uname -p', except on Windows and Mac OS X

Package 2122/2341HostnameOS / ArchINSTALLBUILDCHECKBUILD BIN
structToolbox 1.20.0  (landing page)
Gavin Rhys Lloyd
Snapshot Date: 2025-04-21 13:40 -0400 (Mon, 21 Apr 2025)
git_url: https://git.bioconductor.org/packages/structToolbox
git_branch: RELEASE_3_21
git_last_commit: 1668438
git_last_commit_date: 2025-04-15 11:54:06 -0400 (Tue, 15 Apr 2025)
nebbiolo1Linux (Ubuntu 24.04.1 LTS) / x86_64  OK    OK    OK  NO, package depends on 'struct' which is not available
palomino7Windows Server 2022 Datacenter / x64  OK    OK    OK    OK  NO, package depends on 'struct' which is not available
lconwaymacOS 12.7.1 Monterey / x86_64  OK    OK    OK    OK  NO, package depends on 'struct' which is not available
kjohnson3macOS 13.7.1 Ventura / arm64  OK    OK    OK    OK  NO, package depends on 'struct' which is not available
kunpeng2Linux (openEuler 24.03 LTS) / aarch64  OK    OK    OK  


CHECK results for structToolbox on lconway

To the developers/maintainers of the structToolbox package:
- Allow up to 24 hours (and sometimes 48 hours) for your latest push to git@git.bioconductor.org:packages/structToolbox.git to reflect on this report. See Troubleshooting Build Report for more information.
- Use the following Renviron settings to reproduce errors and warnings.
- If 'R CMD check' started to fail recently on the Linux builder(s) over a missing dependency, add the missing dependency to 'Suggests:' in your DESCRIPTION file. See Renviron.bioc for more information.

raw results


Summary

Package: structToolbox
Version: 1.20.0
Command: /Library/Frameworks/R.framework/Resources/bin/R CMD check --install=check:structToolbox.install-out.txt --library=/Library/Frameworks/R.framework/Resources/library --no-vignettes --timings structToolbox_1.20.0.tar.gz
StartedAt: 2025-04-21 23:56:01 -0400 (Mon, 21 Apr 2025)
EndedAt: 2025-04-22 00:05:04 -0400 (Tue, 22 Apr 2025)
EllapsedTime: 542.9 seconds
RetCode: 0
Status:   OK  
CheckDir: structToolbox.Rcheck
Warnings: 0

Command output

##############################################################################
##############################################################################
###
### Running command:
###
###   /Library/Frameworks/R.framework/Resources/bin/R CMD check --install=check:structToolbox.install-out.txt --library=/Library/Frameworks/R.framework/Resources/library --no-vignettes --timings structToolbox_1.20.0.tar.gz
###
##############################################################################
##############################################################################


* using log directory ‘/Users/biocbuild/bbs-3.21-bioc/meat/structToolbox.Rcheck’
* using R version 4.5.0 RC (2025-04-04 r88126)
* using platform: x86_64-apple-darwin20
* R was compiled by
    Apple clang version 14.0.0 (clang-1400.0.29.202)
    GNU Fortran (GCC) 14.2.0
* running under: macOS Monterey 12.7.6
* using session charset: UTF-8
* using option ‘--no-vignettes’
* checking for file ‘structToolbox/DESCRIPTION’ ... OK
* checking extension type ... Package
* this is package ‘structToolbox’ version ‘1.20.0’
* package encoding: UTF-8
* checking package namespace information ... OK
* checking package dependencies ... OK
* checking if this is a source package ... OK
* checking if there is a namespace ... OK
* checking for hidden files and directories ... OK
* checking for portable file names ... OK
* checking for sufficient/correct file permissions ... OK
* checking whether package ‘structToolbox’ can be installed ... OK
* checking installed package size ... OK
* checking package directory ... OK
* checking ‘build’ directory ... OK
* checking DESCRIPTION meta-information ... OK
* checking top-level files ... OK
* checking for left-over files ... OK
* checking index information ... OK
* checking package subdirectories ... OK
* checking code files for non-ASCII characters ... OK
* checking R files for syntax errors ... OK
* checking whether the package can be loaded ... OK
* checking whether the package can be loaded with stated dependencies ... OK
* checking whether the package can be unloaded cleanly ... OK
* checking whether the namespace can be loaded with stated dependencies ... OK
* checking whether the namespace can be unloaded cleanly ... OK
* checking dependencies in R code ... OK
* checking S3 generic/method consistency ... OK
* checking replacement functions ... OK
* checking foreign function calls ... OK
* checking R code for possible problems ... OK
* checking Rd files ... OK
* checking Rd metadata ... OK
* checking Rd cross-references ... OK
* checking for missing documentation entries ... OK
* checking for code/documentation mismatches ... OK
* checking Rd \usage sections ... OK
* checking Rd contents ... OK
* checking for unstated dependencies in examples ... OK
* checking R/sysdata.rda ... OK
* checking files in ‘vignettes’ ... OK
* checking examples ... OK
Examples with CPU (user + system) or elapsed time > 5s
                            user system elapsed
fold_change_int           19.233  0.119  19.475
fold_change               12.735  0.086  12.921
fisher_exact              10.849  0.060  10.963
fs_line                    7.753  0.147   7.938
forward_selection_by_rank  6.823  0.118   6.982
compare_dist               4.990  0.275   5.310
* checking for unstated dependencies in ‘tests’ ... OK
* checking tests ...
  Running ‘testthat.R’
 OK
* checking for unstated dependencies in vignettes ... OK
* checking package vignettes ... OK
* checking running R code from vignettes ... SKIPPED
* checking re-building of vignette outputs ... SKIPPED
* checking PDF version of manual ... OK
* DONE

Status: OK


Installation output

structToolbox.Rcheck/00install.out

##############################################################################
##############################################################################
###
### Running command:
###
###   /Library/Frameworks/R.framework/Resources/bin/R CMD INSTALL structToolbox
###
##############################################################################
##############################################################################


* installing to library ‘/Library/Frameworks/R.framework/Versions/4.5-x86_64/Resources/library’
* installing *source* package ‘structToolbox’ ...
** this is package ‘structToolbox’ version ‘1.20.0’
** using staged installation
** R
** inst
** byte-compile and prepare package for lazy loading
** help
*** installing help indices
** building package indices
** installing vignettes
** testing if installed package can be loaded from temporary location
** testing if installed package can be loaded from final location
** testing if installed package keeps a record of temporary installation path
* DONE (structToolbox)

Tests output

structToolbox.Rcheck/tests/testthat.Rout


R version 4.5.0 RC (2025-04-04 r88126) -- "How About a Twenty-Six"
Copyright (C) 2025 The R Foundation for Statistical Computing
Platform: x86_64-apple-darwin20

R is free software and comes with ABSOLUTELY NO WARRANTY.
You are welcome to redistribute it under certain conditions.
Type 'license()' or 'licence()' for distribution details.

R is a collaborative project with many contributors.
Type 'contributors()' for more information and
'citation()' on how to cite R or R packages in publications.

Type 'demo()' for some demos, 'help()' for on-line help, or
'help.start()' for an HTML browser interface to help.
Type 'q()' to quit R.

> library(testthat)
> library(ggplot2)
> library(structToolbox)
Loading required package: struct
> 
> test_check("structToolbox")
[ FAIL 0 | WARN 6 | SKIP 0 | PASS 166 ]

[ FAIL 0 | WARN 6 | SKIP 0 | PASS 166 ]
> 
> proc.time()
   user  system elapsed 
209.570   2.557 213.594 

Example timings

structToolbox.Rcheck/structToolbox-Ex.timings

nameusersystemelapsed
ANOVA0.3090.0120.324
AUC2.6320.1392.793
DFA0.2700.0030.275
DatasetExperiment_boxplot1.5920.0491.659
DatasetExperiment_dist1.3010.0901.402
DatasetExperiment_factor_boxplot0.2400.0040.263
DatasetExperiment_heatmap0.4990.0210.523
HCA0.0790.0050.086
HSD0.3830.0230.415
HSDEM0.5610.0290.600
MTBLS79_DatasetExperiment0.0010.0010.002
OPLSDA0.0150.0000.016
OPLSR0.0130.0000.012
PCA0.0070.0010.008
PLSDA0.0160.0010.017
PLSR0.0140.0010.016
SVM0.0310.0010.031
as_data_frame0.1780.0030.185
autoscale0.0950.0010.100
balanced_accuracy2.3310.0252.372
blank_filter0.4420.0270.473
blank_filter_hist0.0010.0000.001
bootstrap0.0110.0000.011
calculate0.0050.0000.007
chart_plot0.0370.0020.040
classical_lsq0.4090.0050.418
compare_dist4.9900.2755.310
confounders_clsq3.5940.0273.647
confounders_lsq_barchart3.7470.0333.804
confounders_lsq_boxplot3.4220.0253.461
constant_sum_norm0.0100.0010.010
corr_coef0.3320.0030.336
dfa_scores_plot0.7920.0070.802
dratio_filter0.2910.0070.300
equal_split0.1300.0010.133
feature_boxplot0.0330.0010.034
feature_profile0.4310.0120.445
feature_profile_array0.4870.0040.495
filter_by_name0.0390.0000.040
filter_na_count1.1570.0961.276
filter_smeta0.0660.0010.066
fisher_exact10.849 0.06010.963
fold_change12.735 0.08612.921
fold_change_int19.233 0.11919.475
fold_change_plot0.0090.0000.009
forward_selection_by_rank6.8230.1186.982
fs_line7.7530.1477.938
glog_opt_plot0.5510.0050.559
glog_transform0.4060.0030.412
grid_search_1d3.7090.1403.865
gs_line0.0010.0010.001
hca_dendrogram0.0000.0000.001
kfold_xval4.0730.0344.129
kfoldxcv_grid4.4360.0404.503
kfoldxcv_metric0.0010.0000.002
knn_impute0.0120.0010.013
kw_p_hist0.0010.0000.001
kw_rank_sum0.0920.0010.094
linear_model0.0320.0010.034
log_transform0.0070.0000.007
mean_centre0.0040.0000.005
mean_of_medians0.1560.0010.158
mixed_effect0.2110.0040.217
model_apply0.0270.0010.028
model_predict0.0630.0010.064
model_reverse0.0310.0000.032
model_train0.0650.0000.067
mv_boxplot0.3210.0040.329
mv_feature_filter0.1440.0020.146
mv_feature_filter_hist0.0010.0000.001
mv_histogram0.2720.0070.280
mv_sample_filter0.0120.0010.013
mv_sample_filter_hist0.0010.0010.001
nroot_transform0.010.000.01
ontology_cache0.0010.0000.000
pairs_filter0.010.000.01
pareto_scale0.0700.0010.072
pca_biplot0.0190.0000.019
pca_correlation_plot0.0080.0010.008
pca_dstat_plot0.0090.0000.008
pca_loadings_plot0.0120.0000.012
pca_scores_plot0.6060.0070.615
pca_scree_plot0.0090.0010.010
permutation_test0.0110.0000.011
permutation_test_plot0.0020.0000.002
permute_sample_order0.0060.0000.006
pls_regcoeff_plot0.3940.0050.403
pls_scores_plot0.7250.0050.733
pls_vip_plot0.4190.0040.426
plsda_feature_importance_plot0.7070.0100.721
plsda_predicted_plot0.5920.0070.602
plsda_roc_plot1.3930.0191.422
plsr_cook_dist0.0070.0000.008
plsr_prediction_plot0.0090.0000.010
plsr_qq_plot0.0070.0000.008
plsr_residual_hist0.0060.0010.007
pqn_norm0.4550.0040.465
pqn_norm_hist0.0010.0000.001
prop_na0.0130.0000.013
r_squared0.0010.0000.001
resample0.0180.0010.018
resample_chart0.0040.0000.004
rsd_filter0.0170.0010.018
rsd_filter_hist0.0010.0010.001
run0.0350.0010.036
sb_corr0.0360.0010.037
scatter_chart0.4380.0050.448
split_data0.0080.0000.009
stratified_split0.1640.0010.167
svm_plot_2d0.7260.0190.752
tSNE0.0270.0010.028
tSNE_scatter0.0080.0010.008
tic_chart0.2400.0090.250
ttest0.020.000.02
vec_norm0.0010.0000.000
wilcox_p_hist0.0010.0000.001
wilcox_test0.0150.0000.015