Back to Multiple platform build/check report for BioC 3.21:   simplified   long
ABCDEFGHIJKLMNOPQR[S]TUVWXYZ

This page was generated on 2025-10-13 11:42 -0400 (Mon, 13 Oct 2025).

HostnameOSArch (*)R versionInstalled pkgs
nebbiolo1Linux (Ubuntu 24.04.3 LTS)x86_644.5.1 (2025-06-13) -- "Great Square Root" 4833
merida1macOS 12.7.5 Montereyx86_644.5.1 RC (2025-06-05 r88288) -- "Great Square Root" 4614
kjohnson1macOS 13.6.6 Venturaarm644.5.1 Patched (2025-06-14 r88325) -- "Great Square Root" 4555
kunpeng2Linux (openEuler 24.03 LTS)aarch64R Under development (unstable) (2025-02-19 r87757) -- "Unsuffered Consequences" 4586
Click on any hostname to see more info about the system (e.g. compilers)      (*) as reported by 'uname -p', except on Windows and Mac OS X

Package 2122/2341HostnameOS / ArchINSTALLBUILDCHECKBUILD BIN
structToolbox 1.20.0  (landing page)
Gavin Rhys Lloyd
Snapshot Date: 2025-10-09 13:40 -0400 (Thu, 09 Oct 2025)
git_url: https://git.bioconductor.org/packages/structToolbox
git_branch: RELEASE_3_21
git_last_commit: 1668438
git_last_commit_date: 2025-04-15 11:54:06 -0400 (Tue, 15 Apr 2025)
nebbiolo1Linux (Ubuntu 24.04.3 LTS) / x86_64  OK    OK    OK  UNNEEDED, same version is already published
merida1macOS 12.7.5 Monterey / x86_64  OK    OK    OK    OK  UNNEEDED, same version is already published
kjohnson1macOS 13.6.6 Ventura / arm64  OK    OK    OK    OK  UNNEEDED, same version is already published
kunpeng2Linux (openEuler 24.03 LTS) / aarch64  OK    OK    OK  


CHECK results for structToolbox on kunpeng2

To the developers/maintainers of the structToolbox package:
- Allow up to 24 hours (and sometimes 48 hours) for your latest push to git@git.bioconductor.org:packages/structToolbox.git to reflect on this report. See Troubleshooting Build Report for more information.
- Use the following Renviron settings to reproduce errors and warnings.
- If 'R CMD check' started to fail recently on the Linux builder(s) over a missing dependency, add the missing dependency to 'Suggests:' in your DESCRIPTION file. See Renviron.bioc for more information.
- See Martin Grigorov's blog post for how to debug Linux ARM64 related issues on a x86_64 host.

raw results


Summary

Package: structToolbox
Version: 1.20.0
Command: /home/biocbuild/R/R/bin/R CMD check --install=check:structToolbox.install-out.txt --library=/home/biocbuild/R/R/site-library --no-vignettes --timings structToolbox_1.20.0.tar.gz
StartedAt: 2025-10-10 14:35:23 -0000 (Fri, 10 Oct 2025)
EndedAt: 2025-10-10 14:47:01 -0000 (Fri, 10 Oct 2025)
EllapsedTime: 698.0 seconds
RetCode: 0
Status:   OK  
CheckDir: structToolbox.Rcheck
Warnings: 0

Command output

##############################################################################
##############################################################################
###
### Running command:
###
###   /home/biocbuild/R/R/bin/R CMD check --install=check:structToolbox.install-out.txt --library=/home/biocbuild/R/R/site-library --no-vignettes --timings structToolbox_1.20.0.tar.gz
###
##############################################################################
##############################################################################


* using log directory ‘/home/biocbuild/bbs-3.21-bioc/meat/structToolbox.Rcheck’
* using R Under development (unstable) (2025-02-19 r87757)
* using platform: aarch64-unknown-linux-gnu
* R was compiled by
    aarch64-unknown-linux-gnu-gcc (GCC) 14.2.0
    GNU Fortran (GCC) 14.2.0
* running under: openEuler 24.03 (LTS-SP1)
* using session charset: UTF-8
* using option ‘--no-vignettes’
* checking for file ‘structToolbox/DESCRIPTION’ ... OK
* checking extension type ... Package
* this is package ‘structToolbox’ version ‘1.20.0’
* package encoding: UTF-8
* checking package namespace information ... OK
* checking package dependencies ... OK
* checking if this is a source package ... OK
* checking if there is a namespace ... OK
* checking for hidden files and directories ... OK
* checking for portable file names ... OK
* checking for sufficient/correct file permissions ... OK
* checking whether package ‘structToolbox’ can be installed ... OK
* checking installed package size ... OK
* checking package directory ... OK
* checking ‘build’ directory ... OK
* checking DESCRIPTION meta-information ... OK
* checking top-level files ... OK
* checking for left-over files ... OK
* checking index information ... OK
* checking package subdirectories ... OK
* checking code files for non-ASCII characters ... OK
* checking R files for syntax errors ... OK
* checking whether the package can be loaded ... OK
* checking whether the package can be loaded with stated dependencies ... OK
* checking whether the package can be unloaded cleanly ... OK
* checking whether the namespace can be loaded with stated dependencies ... OK
* checking whether the namespace can be unloaded cleanly ... OK
* checking loading without being on the library search path ... OK
* checking dependencies in R code ... OK
* checking S3 generic/method consistency ... OK
* checking replacement functions ... OK
* checking foreign function calls ... OK
* checking R code for possible problems ... OK
* checking Rd files ... OK
* checking Rd metadata ... OK
* checking Rd cross-references ... OK
* checking for missing documentation entries ... OK
* checking for code/documentation mismatches ... OK
* checking Rd \usage sections ... OK
* checking Rd contents ... OK
* checking for unstated dependencies in examples ... OK
* checking R/sysdata.rda ... OK
* checking files in ‘vignettes’ ... OK
* checking examples ... OK
Examples with CPU (user + system) or elapsed time > 5s
                            user system elapsed
fold_change_int           23.764  0.072  23.995
fold_change               17.867  0.075  18.013
fisher_exact              14.118  0.092  14.239
forward_selection_by_rank 10.619  0.151  10.855
fs_line                    9.999  0.052  10.090
compare_dist               7.769  0.148   7.932
grid_search_1d             6.886  0.051   7.019
kfoldxcv_grid              5.797  0.052   5.868
kfold_xval                 5.064  0.008   5.090
* checking for unstated dependencies in ‘tests’ ... OK
* checking tests ...
  Running ‘testthat.R’
 OK
* checking for unstated dependencies in vignettes ... OK
* checking package vignettes ... OK
* checking running R code from vignettes ... SKIPPED
* checking re-building of vignette outputs ... SKIPPED
* checking PDF version of manual ... OK
* DONE

Status: OK


Installation output

structToolbox.Rcheck/00install.out

##############################################################################
##############################################################################
###
### Running command:
###
###   /home/biocbuild/R/R/bin/R CMD INSTALL structToolbox
###
##############################################################################
##############################################################################


* installing to library ‘/home/biocbuild/R/R-devel_2025-02-19/site-library’
* installing *source* package ‘structToolbox’ ...
** this is package ‘structToolbox’ version ‘1.20.0’
** using staged installation
** R
** inst
** byte-compile and prepare package for lazy loading
** help
*** installing help indices
** building package indices
** installing vignettes
** testing if installed package can be loaded from temporary location
** testing if installed package can be loaded from final location
** testing if installed package keeps a record of temporary installation path
* DONE (structToolbox)

Tests output

structToolbox.Rcheck/tests/testthat.Rout


R Under development (unstable) (2025-02-19 r87757) -- "Unsuffered Consequences"
Copyright (C) 2025 The R Foundation for Statistical Computing
Platform: aarch64-unknown-linux-gnu

R is free software and comes with ABSOLUTELY NO WARRANTY.
You are welcome to redistribute it under certain conditions.
Type 'license()' or 'licence()' for distribution details.

R is a collaborative project with many contributors.
Type 'contributors()' for more information and
'citation()' on how to cite R or R packages in publications.

Type 'demo()' for some demos, 'help()' for on-line help, or
'help.start()' for an HTML browser interface to help.
Type 'q()' to quit R.

> library(testthat)
> library(ggplot2)
> library(structToolbox)
Loading required package: struct
> 
> test_check("structToolbox")
[ FAIL 0 | WARN 6 | SKIP 0 | PASS 166 ]

[ FAIL 0 | WARN 6 | SKIP 0 | PASS 166 ]
> 
> proc.time()
   user  system elapsed 
273.339   2.149 276.337 

Example timings

structToolbox.Rcheck/structToolbox-Ex.timings

nameusersystemelapsed
ANOVA0.3270.0040.332
AUC2.9430.1313.081
DFA0.2910.0040.296
DatasetExperiment_boxplot2.3780.1042.486
DatasetExperiment_dist2.0770.0122.092
DatasetExperiment_factor_boxplot0.5140.0120.527
DatasetExperiment_heatmap0.8900.0120.904
HCA0.0970.0000.097
HSD0.4170.0080.430
HSDEM0.4680.0080.477
MTBLS79_DatasetExperiment0.0020.0000.002
OPLSDA0.0170.0000.016
OPLSR0.0220.0000.022
PCA0.0060.0000.006
PLSDA0.0360.0000.036
PLSR0.0140.0000.014
SVM0.0430.0000.043
as_data_frame0.1830.0040.188
autoscale0.1110.0000.111
balanced_accuracy2.6660.0162.687
blank_filter0.4940.0120.507
blank_filter_hist0.0010.0000.001
bootstrap0.0260.0000.027
calculate0.0070.0000.008
chart_plot0.0640.0000.064
classical_lsq0.4660.0000.467
compare_dist7.7690.1487.932
confounders_clsq4.5580.0444.613
confounders_lsq_barchart4.7170.0364.763
confounders_lsq_boxplot4.6970.0404.757
constant_sum_norm0.020.000.02
corr_coef0.3970.0000.400
dfa_scores_plot1.4530.0001.457
dratio_filter0.4910.0040.496
equal_split0.1860.0000.186
feature_boxplot0.0470.0000.047
feature_profile0.8570.0120.871
feature_profile_array0.9610.0040.968
filter_by_name0.0460.0000.046
filter_na_count1.6050.0121.620
filter_smeta0.0910.0000.092
fisher_exact14.118 0.09214.239
fold_change17.867 0.07518.013
fold_change_int23.764 0.07223.995
fold_change_plot0.0180.0000.018
forward_selection_by_rank10.619 0.15110.855
fs_line 9.999 0.05210.090
glog_opt_plot0.8700.0040.878
glog_transform0.4240.0000.425
grid_search_1d6.8860.0517.019
gs_line0.0010.0000.001
hca_dendrogram0.0010.0000.001
kfold_xval5.0640.0085.090
kfoldxcv_grid5.7970.0525.868
kfoldxcv_metric0.0010.0000.001
knn_impute0.0190.0000.019
kw_p_hist0.0010.0000.001
kw_rank_sum0.1220.0000.123
linear_model0.0430.0000.043
log_transform0.020.000.02
mean_centre0.0040.0000.005
mean_of_medians0.1860.0000.187
mixed_effect0.2330.0040.237
model_apply0.0330.0000.034
model_predict0.080.000.08
model_reverse0.0780.0000.078
model_train0.0750.0000.074
mv_boxplot0.6680.0040.673
mv_feature_filter0.1670.0040.171
mv_feature_filter_hist0.0010.0000.001
mv_histogram0.5700.0040.575
mv_sample_filter0.0220.0000.022
mv_sample_filter_hist0.0010.0000.001
nroot_transform0.0190.0000.020
ontology_cache0.0000.0000.001
pairs_filter0.0230.0000.024
pareto_scale0.0820.0000.081
pca_biplot0.0290.0000.029
pca_correlation_plot0.0170.0000.017
pca_dstat_plot0.0210.0000.021
pca_loadings_plot0.0200.0000.021
pca_scores_plot1.1360.0001.140
pca_scree_plot0.0330.0000.033
permutation_test0.0250.0000.026
permutation_test_plot0.0040.0000.003
permute_sample_order0.0210.0000.021
pls_regcoeff_plot0.6750.0000.676
pls_scores_plot1.3180.0001.321
pls_vip_plot0.7410.0000.743
plsda_feature_importance_plot1.3120.0001.316
plsda_predicted_plot0.8780.0000.881
plsda_roc_plot1.9610.0522.019
plsr_cook_dist0.0160.0000.017
plsr_prediction_plot0.0160.0000.016
plsr_qq_plot0.0160.0000.016
plsr_residual_hist0.0170.0000.017
pqn_norm0.5160.0000.517
pqn_norm_hist0.0000.0000.001
prop_na0.0230.0000.024
r_squared0.0010.0000.001
resample0.0300.0040.033
resample_chart0.0040.0000.004
rsd_filter0.0280.0000.029
rsd_filter_hist0.0010.0000.001
run0.040.000.04
sb_corr0.0470.0000.048
scatter_chart0.8160.0000.819
split_data0.0190.0000.020
stratified_split0.1760.0000.176
svm_plot_2d1.1840.0081.205
tSNE0.0450.0000.045
tSNE_scatter0.0180.0000.018
tic_chart0.5450.0000.546
ttest0.0330.0000.033
vec_norm0.0010.0000.001
wilcox_p_hist0.0010.0000.001
wilcox_test0.0370.0000.036