Back to Multiple platform build/check report for BioC 3.21:   simplified   long
ABCDEFGHIJKLMNOPQR[S]TUVWXYZ

This page was generated on 2025-07-14 11:40 -0400 (Mon, 14 Jul 2025).

HostnameOSArch (*)R versionInstalled pkgs
nebbiolo1Linux (Ubuntu 24.04.2 LTS)x86_644.5.1 (2025-06-13) -- "Great Square Root" 4820
palomino7Windows Server 2022 Datacenterx644.5.1 (2025-06-13 ucrt) -- "Great Square Root" 4561
merida1macOS 12.7.5 Montereyx86_644.5.1 RC (2025-06-05 r88288) -- "Great Square Root" 4600
kjohnson1macOS 13.6.6 Venturaarm644.5.1 Patched (2025-06-14 r88325) -- "Great Square Root" 4541
Click on any hostname to see more info about the system (e.g. compilers)      (*) as reported by 'uname -p', except on Windows and Mac OS X

Package 2122/2341HostnameOS / ArchINSTALLBUILDCHECKBUILD BIN
structToolbox 1.20.0  (landing page)
Gavin Rhys Lloyd
Snapshot Date: 2025-07-10 13:40 -0400 (Thu, 10 Jul 2025)
git_url: https://git.bioconductor.org/packages/structToolbox
git_branch: RELEASE_3_21
git_last_commit: 1668438
git_last_commit_date: 2025-04-15 11:54:06 -0400 (Tue, 15 Apr 2025)
nebbiolo1Linux (Ubuntu 24.04.2 LTS) / x86_64  OK    OK    OK  UNNEEDED, same version is already published
palomino7Windows Server 2022 Datacenter / x64  OK    OK    OK    OK  UNNEEDED, same version is already published
merida1macOS 12.7.5 Monterey / x86_64  OK    OK    OK    OK  UNNEEDED, same version is already published
kjohnson1macOS 13.6.6 Ventura / arm64  OK    OK    OK    OK  UNNEEDED, same version is already published


CHECK results for structToolbox on nebbiolo1

To the developers/maintainers of the structToolbox package:
- Allow up to 24 hours (and sometimes 48 hours) for your latest push to git@git.bioconductor.org:packages/structToolbox.git to reflect on this report. See Troubleshooting Build Report for more information.
- Use the following Renviron settings to reproduce errors and warnings.
- If 'R CMD check' started to fail recently on the Linux builder(s) over a missing dependency, add the missing dependency to 'Suggests:' in your DESCRIPTION file. See Renviron.bioc for more information.

raw results


Summary

Package: structToolbox
Version: 1.20.0
Command: /home/biocbuild/bbs-3.21-bioc/R/bin/R CMD check --install=check:structToolbox.install-out.txt --library=/home/biocbuild/bbs-3.21-bioc/R/site-library --timings structToolbox_1.20.0.tar.gz
StartedAt: 2025-07-14 03:12:56 -0400 (Mon, 14 Jul 2025)
EndedAt: 2025-07-14 03:31:01 -0400 (Mon, 14 Jul 2025)
EllapsedTime: 1085.4 seconds
RetCode: 0
Status:   OK  
CheckDir: structToolbox.Rcheck
Warnings: 0

Command output

##############################################################################
##############################################################################
###
### Running command:
###
###   /home/biocbuild/bbs-3.21-bioc/R/bin/R CMD check --install=check:structToolbox.install-out.txt --library=/home/biocbuild/bbs-3.21-bioc/R/site-library --timings structToolbox_1.20.0.tar.gz
###
##############################################################################
##############################################################################


* using log directory ‘/home/biocbuild/bbs-3.21-bioc/meat/structToolbox.Rcheck’
* using R version 4.5.1 (2025-06-13)
* using platform: x86_64-pc-linux-gnu
* R was compiled by
    gcc (Ubuntu 13.3.0-6ubuntu2~24.04) 13.3.0
    GNU Fortran (Ubuntu 13.3.0-6ubuntu2~24.04) 13.3.0
* running under: Ubuntu 24.04.2 LTS
* using session charset: UTF-8
* checking for file ‘structToolbox/DESCRIPTION’ ... OK
* checking extension type ... Package
* this is package ‘structToolbox’ version ‘1.20.0’
* package encoding: UTF-8
* checking package namespace information ... OK
* checking package dependencies ... OK
* checking if this is a source package ... OK
* checking if there is a namespace ... OK
* checking for hidden files and directories ... OK
* checking for portable file names ... OK
* checking for sufficient/correct file permissions ... OK
* checking whether package ‘structToolbox’ can be installed ... OK
* checking installed package size ... OK
* checking package directory ... OK
* checking ‘build’ directory ... OK
* checking DESCRIPTION meta-information ... OK
* checking top-level files ... OK
* checking for left-over files ... OK
* checking index information ... OK
* checking package subdirectories ... OK
* checking code files for non-ASCII characters ... OK
* checking R files for syntax errors ... OK
* checking whether the package can be loaded ... OK
* checking whether the package can be loaded with stated dependencies ... OK
* checking whether the package can be unloaded cleanly ... OK
* checking whether the namespace can be loaded with stated dependencies ... OK
* checking whether the namespace can be unloaded cleanly ... OK
* checking loading without being on the library search path ... OK
* checking dependencies in R code ... OK
* checking S3 generic/method consistency ... OK
* checking replacement functions ... OK
* checking foreign function calls ... OK
* checking R code for possible problems ... OK
* checking Rd files ... OK
* checking Rd metadata ... OK
* checking Rd cross-references ... OK
* checking for missing documentation entries ... OK
* checking for code/documentation mismatches ... OK
* checking Rd \usage sections ... OK
* checking Rd contents ... OK
* checking for unstated dependencies in examples ... OK
* checking R/sysdata.rda ... OK
* checking files in ‘vignettes’ ... OK
* checking examples ... OK
Examples with CPU (user + system) or elapsed time > 5s
                            user system elapsed
fold_change_int           15.565  0.057  15.622
fold_change               10.525  0.027  10.553
fisher_exact               9.721  0.063   9.784
fs_line                    6.954  0.172   7.126
forward_selection_by_rank  5.930  0.036   5.966
* checking for unstated dependencies in ‘tests’ ... OK
* checking tests ...
  Running ‘testthat.R’
 OK
* checking for unstated dependencies in vignettes ... OK
* checking package vignettes ... OK
* checking re-building of vignette outputs ... OK
* checking PDF version of manual ... OK
* DONE

Status: OK


Installation output

structToolbox.Rcheck/00install.out

##############################################################################
##############################################################################
###
### Running command:
###
###   /home/biocbuild/bbs-3.21-bioc/R/bin/R CMD INSTALL structToolbox
###
##############################################################################
##############################################################################


* installing to library ‘/home/biocbuild/bbs-3.21-bioc/R/site-library’
* installing *source* package ‘structToolbox’ ...
** this is package ‘structToolbox’ version ‘1.20.0’
** using staged installation
** R
** inst
** byte-compile and prepare package for lazy loading
** help
*** installing help indices
** building package indices
** installing vignettes
** testing if installed package can be loaded from temporary location
** testing if installed package can be loaded from final location
** testing if installed package keeps a record of temporary installation path
* DONE (structToolbox)

Tests output

structToolbox.Rcheck/tests/testthat.Rout


R version 4.5.1 (2025-06-13) -- "Great Square Root"
Copyright (C) 2025 The R Foundation for Statistical Computing
Platform: x86_64-pc-linux-gnu

R is free software and comes with ABSOLUTELY NO WARRANTY.
You are welcome to redistribute it under certain conditions.
Type 'license()' or 'licence()' for distribution details.

R is a collaborative project with many contributors.
Type 'contributors()' for more information and
'citation()' on how to cite R or R packages in publications.

Type 'demo()' for some demos, 'help()' for on-line help, or
'help.start()' for an HTML browser interface to help.
Type 'q()' to quit R.

> library(testthat)
> library(ggplot2)
> library(structToolbox)
Loading required package: struct
> 
> test_check("structToolbox")
[ FAIL 0 | WARN 6 | SKIP 0 | PASS 166 ]

[ FAIL 0 | WARN 6 | SKIP 0 | PASS 166 ]
> 
> proc.time()
   user  system elapsed 
180.016   1.628 181.639 

Example timings

structToolbox.Rcheck/structToolbox-Ex.timings

nameusersystemelapsed
ANOVA0.2290.0030.231
AUC1.9200.1182.038
DFA0.1920.0010.192
DatasetExperiment_boxplot1.5720.0201.591
DatasetExperiment_dist1.1770.0261.202
DatasetExperiment_factor_boxplot0.1990.0000.198
DatasetExperiment_heatmap0.3830.0010.383
HCA0.0580.0000.058
HSD0.2840.0050.293
HSDEM0.3340.0040.337
MTBLS79_DatasetExperiment0.0010.0000.001
OPLSDA0.0100.0010.010
OPLSR0.0070.0000.008
PCA0.0030.0010.005
PLSDA0.0110.0010.012
PLSR0.010.000.01
SVM0.0210.0010.022
as_data_frame0.1230.0000.123
autoscale0.0670.0020.069
balanced_accuracy1.7260.0061.733
blank_filter0.3490.0080.359
blank_filter_hist0.0010.0000.001
bootstrap0.0100.0010.010
calculate0.0060.0000.005
chart_plot0.0310.0010.031
classical_lsq0.3320.0010.333
compare_dist4.3190.0994.418
confounders_clsq2.8000.0082.809
confounders_lsq_barchart2.9700.0042.975
confounders_lsq_boxplot2.9030.0432.947
constant_sum_norm0.0070.0000.007
corr_coef0.2490.0020.252
dfa_scores_plot0.6920.0040.697
dratio_filter0.2410.0020.244
equal_split0.1100.0000.111
feature_boxplot0.0220.0020.025
feature_profile0.3620.0020.364
feature_profile_array0.4720.0010.473
filter_by_name0.0290.0010.031
filter_na_count0.9380.0000.940
filter_smeta0.0610.0000.061
fisher_exact9.7210.0639.784
fold_change10.525 0.02710.553
fold_change_int15.565 0.05715.622
fold_change_plot0.0050.0020.007
forward_selection_by_rank5.9300.0365.966
fs_line6.9540.1727.126
glog_opt_plot0.4830.0010.483
glog_transform0.2970.0010.298
grid_search_1d3.2630.0073.270
gs_line0.0000.0010.001
hca_dendrogram0.0000.0000.001
kfold_xval3.2860.0043.290
kfoldxcv_grid3.4920.0093.501
kfoldxcv_metric0.0010.0000.001
knn_impute0.0210.0020.023
kw_p_hist0.0010.0000.001
kw_rank_sum0.0670.0010.068
linear_model0.0250.0020.028
log_transform0.0070.0000.007
mean_centre0.0020.0000.003
mean_of_medians0.1040.0010.105
mixed_effect0.1490.0000.150
model_apply0.0220.0000.023
model_predict0.0500.0010.051
model_reverse0.0240.0000.024
model_train0.0470.0010.048
mv_boxplot0.2650.0000.265
mv_feature_filter0.1010.0010.101
mv_feature_filter_hist0.0010.0000.001
mv_histogram0.2280.0000.228
mv_sample_filter0.0080.0010.009
mv_sample_filter_hist0.0000.0000.001
nroot_transform0.0060.0010.006
ontology_cache000
pairs_filter0.0060.0020.008
pareto_scale0.0530.0000.053
pca_biplot0.0140.0010.015
pca_correlation_plot0.0060.0000.006
pca_dstat_plot0.0080.0000.008
pca_loadings_plot0.0090.0000.008
pca_scores_plot0.4900.0030.492
pca_scree_plot0.0060.0010.007
permutation_test0.0090.0000.009
permutation_test_plot0.0030.0000.003
permute_sample_order0.0070.0000.007
pls_regcoeff_plot0.3230.0040.327
pls_scores_plot0.6560.0020.659
pls_vip_plot0.4060.0000.406
plsda_feature_importance_plot0.5780.0060.584
plsda_predicted_plot0.4080.0030.411
plsda_roc_plot1.0460.0011.047
plsr_cook_dist0.0080.0000.008
plsr_prediction_plot0.0060.0000.006
plsr_qq_plot0.0060.0000.006
plsr_residual_hist0.0060.0010.006
pqn_norm0.3180.0010.318
pqn_norm_hist000
prop_na0.0090.0000.009
r_squared0.0010.0000.001
resample0.0130.0020.015
resample_chart0.0020.0010.002
rsd_filter0.0120.0010.013
rsd_filter_hist0.0000.0010.001
run0.0280.0020.029
sb_corr0.0250.0000.025
scatter_chart0.3340.0000.334
split_data0.0070.0000.007
stratified_split0.1110.0000.111
svm_plot_2d0.6460.0010.647
tSNE0.0240.0000.024
tSNE_scatter0.0070.0000.008
tic_chart0.2010.0010.202
ttest0.0210.0000.021
vec_norm0.0000.0000.001
wilcox_p_hist0.0010.0000.001
wilcox_test0.0180.0100.028