Back to Multiple platform build/check report for BioC 3.21:   simplified   long
ABCDEFGHIJKLMNOPQR[S]TUVWXYZ

This page was generated on 2025-07-14 11:42 -0400 (Mon, 14 Jul 2025).

HostnameOSArch (*)R versionInstalled pkgs
nebbiolo1Linux (Ubuntu 24.04.2 LTS)x86_644.5.1 (2025-06-13) -- "Great Square Root" 4820
palomino7Windows Server 2022 Datacenterx644.5.1 (2025-06-13 ucrt) -- "Great Square Root" 4561
merida1macOS 12.7.5 Montereyx86_644.5.1 RC (2025-06-05 r88288) -- "Great Square Root" 4600
kjohnson1macOS 13.6.6 Venturaarm644.5.1 Patched (2025-06-14 r88325) -- "Great Square Root" 4541
Click on any hostname to see more info about the system (e.g. compilers)      (*) as reported by 'uname -p', except on Windows and Mac OS X

Package 2122/2341HostnameOS / ArchINSTALLBUILDCHECKBUILD BIN
structToolbox 1.20.0  (landing page)
Gavin Rhys Lloyd
Snapshot Date: 2025-07-10 13:40 -0400 (Thu, 10 Jul 2025)
git_url: https://git.bioconductor.org/packages/structToolbox
git_branch: RELEASE_3_21
git_last_commit: 1668438
git_last_commit_date: 2025-04-15 11:54:06 -0400 (Tue, 15 Apr 2025)
nebbiolo1Linux (Ubuntu 24.04.2 LTS) / x86_64  OK    OK    OK  UNNEEDED, same version is already published
palomino7Windows Server 2022 Datacenter / x64  OK    OK    OK    OK  UNNEEDED, same version is already published
merida1macOS 12.7.5 Monterey / x86_64  OK    OK    OK    OK  UNNEEDED, same version is already published
kjohnson1macOS 13.6.6 Ventura / arm64  OK    OK    OK    OK  UNNEEDED, same version is already published


CHECK results for structToolbox on merida1

To the developers/maintainers of the structToolbox package:
- Allow up to 24 hours (and sometimes 48 hours) for your latest push to git@git.bioconductor.org:packages/structToolbox.git to reflect on this report. See Troubleshooting Build Report for more information.
- Use the following Renviron settings to reproduce errors and warnings.
- If 'R CMD check' started to fail recently on the Linux builder(s) over a missing dependency, add the missing dependency to 'Suggests:' in your DESCRIPTION file. See Renviron.bioc for more information.

raw results


Summary

Package: structToolbox
Version: 1.20.0
Command: /Library/Frameworks/R.framework/Resources/bin/R CMD check --install=check:structToolbox.install-out.txt --library=/Library/Frameworks/R.framework/Resources/library --no-vignettes --timings structToolbox_1.20.0.tar.gz
StartedAt: 2025-07-11 11:04:55 -0400 (Fri, 11 Jul 2025)
EndedAt: 2025-07-11 11:23:27 -0400 (Fri, 11 Jul 2025)
EllapsedTime: 1112.0 seconds
RetCode: 0
Status:   OK  
CheckDir: structToolbox.Rcheck
Warnings: 0

Command output

##############################################################################
##############################################################################
###
### Running command:
###
###   /Library/Frameworks/R.framework/Resources/bin/R CMD check --install=check:structToolbox.install-out.txt --library=/Library/Frameworks/R.framework/Resources/library --no-vignettes --timings structToolbox_1.20.0.tar.gz
###
##############################################################################
##############################################################################


* using log directory ‘/Users/biocbuild/bbs-3.21-bioc/meat/structToolbox.Rcheck’
* using R version 4.5.1 RC (2025-06-05 r88288)
* using platform: x86_64-apple-darwin20
* R was compiled by
    Apple clang version 14.0.0 (clang-1400.0.29.202)
    GNU Fortran (GCC) 14.2.0
* running under: macOS Monterey 12.7.6
* using session charset: UTF-8
* using option ‘--no-vignettes’
* checking for file ‘structToolbox/DESCRIPTION’ ... OK
* checking extension type ... Package
* this is package ‘structToolbox’ version ‘1.20.0’
* package encoding: UTF-8
* checking package namespace information ... OK
* checking package dependencies ... OK
* checking if this is a source package ... OK
* checking if there is a namespace ... OK
* checking for hidden files and directories ... OK
* checking for portable file names ... OK
* checking for sufficient/correct file permissions ... OK
* checking whether package ‘structToolbox’ can be installed ... OK
* checking installed package size ... OK
* checking package directory ... OK
* checking ‘build’ directory ... OK
* checking DESCRIPTION meta-information ... OK
* checking top-level files ... OK
* checking for left-over files ... OK
* checking index information ... OK
* checking package subdirectories ... OK
* checking code files for non-ASCII characters ... OK
* checking R files for syntax errors ... OK
* checking whether the package can be loaded ... OK
* checking whether the package can be loaded with stated dependencies ... OK
* checking whether the package can be unloaded cleanly ... OK
* checking whether the namespace can be loaded with stated dependencies ... OK
* checking whether the namespace can be unloaded cleanly ... OK
* checking dependencies in R code ... OK
* checking S3 generic/method consistency ... OK
* checking replacement functions ... OK
* checking foreign function calls ... OK
* checking R code for possible problems ... OK
* checking Rd files ... OK
* checking Rd metadata ... OK
* checking Rd cross-references ... OK
* checking for missing documentation entries ... OK
* checking for code/documentation mismatches ... OK
* checking Rd \usage sections ... OK
* checking Rd contents ... OK
* checking for unstated dependencies in examples ... OK
* checking R/sysdata.rda ... OK
* checking files in ‘vignettes’ ... OK
* checking examples ... OK
Examples with CPU (user + system) or elapsed time > 5s
                            user system elapsed
fold_change_int           39.014  0.147  40.497
fold_change               27.709  0.206  28.737
fisher_exact              22.665  0.159  24.461
forward_selection_by_rank 15.072  0.245  17.502
fs_line                   14.821  0.152  17.021
kfoldxcv_grid              9.048  0.065  10.335
kfold_xval                 8.294  0.054   9.553
grid_search_1d             7.914  0.142   9.027
confounders_lsq_barchart   7.800  0.051   9.090
confounders_lsq_boxplot    7.499  0.043   8.603
confounders_clsq           7.374  0.050   8.706
compare_dist               7.017  0.282   7.526
AUC                        4.916  0.250   5.195
* checking for unstated dependencies in ‘tests’ ... OK
* checking tests ...
  Running ‘testthat.R’
 OK
* checking for unstated dependencies in vignettes ... OK
* checking package vignettes ... OK
* checking running R code from vignettes ... SKIPPED
* checking re-building of vignette outputs ... SKIPPED
* checking PDF version of manual ... OK
* DONE

Status: OK


Installation output

structToolbox.Rcheck/00install.out

##############################################################################
##############################################################################
###
### Running command:
###
###   /Library/Frameworks/R.framework/Resources/bin/R CMD INSTALL structToolbox
###
##############################################################################
##############################################################################


* installing to library ‘/Library/Frameworks/R.framework/Versions/4.5-x86_64/Resources/library’
* installing *source* package ‘structToolbox’ ...
** this is package ‘structToolbox’ version ‘1.20.0’
** using staged installation
** R
** inst
** byte-compile and prepare package for lazy loading
** help
*** installing help indices
** building package indices
** installing vignettes
** testing if installed package can be loaded from temporary location
** testing if installed package can be loaded from final location
** testing if installed package keeps a record of temporary installation path
* DONE (structToolbox)

Tests output

structToolbox.Rcheck/tests/testthat.Rout


R version 4.5.1 RC (2025-06-05 r88288) -- "Great Square Root"
Copyright (C) 2025 The R Foundation for Statistical Computing
Platform: x86_64-apple-darwin20

R is free software and comes with ABSOLUTELY NO WARRANTY.
You are welcome to redistribute it under certain conditions.
Type 'license()' or 'licence()' for distribution details.

R is a collaborative project with many contributors.
Type 'contributors()' for more information and
'citation()' on how to cite R or R packages in publications.

Type 'demo()' for some demos, 'help()' for on-line help, or
'help.start()' for an HTML browser interface to help.
Type 'q()' to quit R.

> library(testthat)
> library(ggplot2)
> library(structToolbox)
Loading required package: struct
> 
> test_check("structToolbox")
[ FAIL 0 | WARN 6 | SKIP 0 | PASS 166 ]

[ FAIL 0 | WARN 6 | SKIP 0 | PASS 166 ]
> 
> proc.time()
   user  system elapsed 
437.032   4.159 461.221 

Example timings

structToolbox.Rcheck/structToolbox-Ex.timings

nameusersystemelapsed
ANOVA0.5130.0140.530
AUC4.9160.2505.195
DFA0.4800.0030.484
DatasetExperiment_boxplot2.1810.0702.262
DatasetExperiment_dist2.5390.1082.684
DatasetExperiment_factor_boxplot0.4940.0040.499
DatasetExperiment_heatmap0.9900.0561.066
HCA0.1440.0090.160
HSD0.6730.0300.738
HSDEM0.9010.0350.949
MTBLS79_DatasetExperiment0.0020.0010.003
OPLSDA0.0280.0010.029
OPLSR0.0220.0010.022
PCA0.0110.0000.011
PLSDA0.0310.0010.032
PLSR0.0250.0010.026
SVM0.0590.0010.060
as_data_frame0.3220.0020.336
autoscale0.1670.0030.172
balanced_accuracy4.2620.0244.350
blank_filter0.7530.0260.786
blank_filter_hist0.0020.0010.002
bootstrap0.0250.0010.026
calculate0.0110.0000.011
chart_plot0.0640.0030.067
classical_lsq0.7350.0050.749
compare_dist7.0170.2827.526
confounders_clsq7.3740.0508.706
confounders_lsq_barchart7.8000.0519.090
confounders_lsq_boxplot7.4990.0438.603
constant_sum_norm0.0170.0010.019
corr_coef0.6380.0050.717
dfa_scores_plot1.8120.0162.150
dratio_filter0.7240.0170.849
equal_split0.2940.0030.338
feature_boxplot0.0700.0010.087
feature_profile1.0040.0131.161
feature_profile_array1.1320.0091.287
filter_by_name0.0760.0010.085
filter_na_count2.7480.0753.219
filter_smeta0.1640.0030.189
fisher_exact22.665 0.15924.461
fold_change27.709 0.20628.737
fold_change_int39.014 0.14740.497
fold_change_plot0.0180.0010.024
forward_selection_by_rank15.072 0.24517.502
fs_line14.821 0.15217.021
glog_opt_plot1.1680.0101.299
glog_transform0.7480.0060.872
grid_search_1d7.9140.1429.027
gs_line0.0020.0000.003
hca_dendrogram0.0010.0000.002
kfold_xval8.2940.0549.553
kfoldxcv_grid 9.048 0.06510.335
kfoldxcv_metric0.0020.0000.002
knn_impute0.0300.0010.036
kw_p_hist0.0010.0000.002
kw_rank_sum0.1820.0020.206
linear_model0.0740.0010.085
log_transform0.0170.0000.019
mean_centre0.0080.0010.011
mean_of_medians0.2880.0020.323
mixed_effect0.3910.0040.441
model_apply0.0560.0020.066
model_predict0.1290.0020.155
model_reverse0.0620.0010.072
model_train0.1260.0020.156
mv_boxplot0.6500.0050.753
mv_feature_filter0.2710.0020.304
mv_feature_filter_hist0.0020.0000.002
mv_histogram0.6170.0080.698
mv_sample_filter0.0190.0010.022
mv_sample_filter_hist0.0010.0000.001
nroot_transform0.0170.0010.018
ontology_cache0.0010.0000.003
pairs_filter0.0240.0000.027
pareto_scale0.1370.0010.158
pca_biplot0.0380.0010.044
pca_correlation_plot0.0150.0010.020
pca_dstat_plot0.0230.0010.024
pca_loadings_plot0.0220.0000.027
pca_scores_plot1.2490.0091.410
pca_scree_plot0.0150.0010.018
permutation_test0.0250.0010.029
permutation_test_plot0.0070.0000.007
permute_sample_order0.0170.0000.020
pls_regcoeff_plot0.8180.0080.925
pls_scores_plot1.6440.0101.901
pls_vip_plot0.8880.0091.039
plsda_feature_importance_plot1.4120.0151.588
plsda_predicted_plot1.0810.0081.220
plsda_roc_plot2.9680.0223.370
plsr_cook_dist0.0160.0010.022
plsr_prediction_plot0.0150.0010.018
plsr_qq_plot0.0170.0010.018
plsr_residual_hist0.0160.0010.018
pqn_norm0.9470.0251.092
pqn_norm_hist0.0010.0010.002
prop_na0.0260.0010.030
r_squared0.0010.0010.004
resample0.0400.0010.046
resample_chart0.0070.0000.007
rsd_filter0.0330.0020.040
rsd_filter_hist0.0010.0000.002
run0.0710.0020.082
sb_corr0.0680.0010.084
scatter_chart0.8620.0130.992
split_data0.0170.0010.020
stratified_split0.2780.0030.312
svm_plot_2d1.5420.0291.837
tSNE0.0620.0020.074
tSNE_scatter0.0170.0010.021
tic_chart0.5110.0100.583
ttest0.0580.0020.065
vec_norm0.0010.0000.003
wilcox_p_hist0.0020.0010.002
wilcox_test0.0470.0010.052