Back to Multiple platform build/check report for BioC 3.21:   simplified   long
ABCDEFGHIJKLMNOPQR[S]TUVWXYZ

This page was generated on 2025-07-14 11:44 -0400 (Mon, 14 Jul 2025).

HostnameOSArch (*)R versionInstalled pkgs
nebbiolo1Linux (Ubuntu 24.04.2 LTS)x86_644.5.1 (2025-06-13) -- "Great Square Root" 4820
palomino7Windows Server 2022 Datacenterx644.5.1 (2025-06-13 ucrt) -- "Great Square Root" 4561
merida1macOS 12.7.5 Montereyx86_644.5.1 RC (2025-06-05 r88288) -- "Great Square Root" 4600
kjohnson1macOS 13.6.6 Venturaarm644.5.1 Patched (2025-06-14 r88325) -- "Great Square Root" 4541
Click on any hostname to see more info about the system (e.g. compilers)      (*) as reported by 'uname -p', except on Windows and Mac OS X

Package 2122/2341HostnameOS / ArchINSTALLBUILDCHECKBUILD BIN
structToolbox 1.20.0  (landing page)
Gavin Rhys Lloyd
Snapshot Date: 2025-07-10 13:40 -0400 (Thu, 10 Jul 2025)
git_url: https://git.bioconductor.org/packages/structToolbox
git_branch: RELEASE_3_21
git_last_commit: 1668438
git_last_commit_date: 2025-04-15 11:54:06 -0400 (Tue, 15 Apr 2025)
nebbiolo1Linux (Ubuntu 24.04.2 LTS) / x86_64  OK    OK    OK  UNNEEDED, same version is already published
palomino7Windows Server 2022 Datacenter / x64  OK    OK    OK    OK  UNNEEDED, same version is already published
merida1macOS 12.7.5 Monterey / x86_64  OK    OK    OK    OK  UNNEEDED, same version is already published
kjohnson1macOS 13.6.6 Ventura / arm64  OK    OK    OK    OK  UNNEEDED, same version is already published


CHECK results for structToolbox on kjohnson1

To the developers/maintainers of the structToolbox package:
- Allow up to 24 hours (and sometimes 48 hours) for your latest push to git@git.bioconductor.org:packages/structToolbox.git to reflect on this report. See Troubleshooting Build Report for more information.
- Use the following Renviron settings to reproduce errors and warnings.
- If 'R CMD check' started to fail recently on the Linux builder(s) over a missing dependency, add the missing dependency to 'Suggests:' in your DESCRIPTION file. See Renviron.bioc for more information.

raw results


Summary

Package: structToolbox
Version: 1.20.0
Command: /Library/Frameworks/R.framework/Resources/bin/R CMD check --install=check:structToolbox.install-out.txt --library=/Library/Frameworks/R.framework/Resources/library --no-vignettes --timings structToolbox_1.20.0.tar.gz
StartedAt: 2025-07-12 12:28:34 -0400 (Sat, 12 Jul 2025)
EndedAt: 2025-07-12 12:37:06 -0400 (Sat, 12 Jul 2025)
EllapsedTime: 511.7 seconds
RetCode: 0
Status:   OK  
CheckDir: structToolbox.Rcheck
Warnings: 0

Command output

##############################################################################
##############################################################################
###
### Running command:
###
###   /Library/Frameworks/R.framework/Resources/bin/R CMD check --install=check:structToolbox.install-out.txt --library=/Library/Frameworks/R.framework/Resources/library --no-vignettes --timings structToolbox_1.20.0.tar.gz
###
##############################################################################
##############################################################################


* using log directory ‘/Users/biocbuild/bbs-3.21-bioc/meat/structToolbox.Rcheck’
* using R version 4.5.1 Patched (2025-06-14 r88325)
* using platform: aarch64-apple-darwin20
* R was compiled by
    Apple clang version 16.0.0 (clang-1600.0.26.6)
    GNU Fortran (GCC) 14.2.0
* running under: macOS Ventura 13.7.5
* using session charset: UTF-8
* using option ‘--no-vignettes’
* checking for file ‘structToolbox/DESCRIPTION’ ... OK
* checking extension type ... Package
* this is package ‘structToolbox’ version ‘1.20.0’
* package encoding: UTF-8
* checking package namespace information ... OK
* checking package dependencies ... OK
* checking if this is a source package ... OK
* checking if there is a namespace ... OK
* checking for hidden files and directories ... OK
* checking for portable file names ... OK
* checking for sufficient/correct file permissions ... OK
* checking whether package ‘structToolbox’ can be installed ... OK
* checking installed package size ... OK
* checking package directory ... OK
* checking ‘build’ directory ... OK
* checking DESCRIPTION meta-information ... OK
* checking top-level files ... OK
* checking for left-over files ... OK
* checking index information ... OK
* checking package subdirectories ... OK
* checking code files for non-ASCII characters ... OK
* checking R files for syntax errors ... OK
* checking whether the package can be loaded ... OK
* checking whether the package can be loaded with stated dependencies ... OK
* checking whether the package can be unloaded cleanly ... OK
* checking whether the namespace can be loaded with stated dependencies ... OK
* checking whether the namespace can be unloaded cleanly ... OK
* checking dependencies in R code ... OK
* checking S3 generic/method consistency ... OK
* checking replacement functions ... OK
* checking foreign function calls ... OK
* checking R code for possible problems ... OK
* checking Rd files ... OK
* checking Rd metadata ... OK
* checking Rd cross-references ... OK
* checking for missing documentation entries ... OK
* checking for code/documentation mismatches ... OK
* checking Rd \usage sections ... OK
* checking Rd contents ... OK
* checking for unstated dependencies in examples ... OK
* checking R/sysdata.rda ... OK
* checking files in ‘vignettes’ ... OK
* checking examples ... OK
Examples with CPU (user + system) or elapsed time > 5s
                            user system elapsed
fold_change_int           15.045  0.045  15.159
fold_change               10.191  0.076  10.267
fisher_exact               9.832  0.044   9.888
forward_selection_by_rank  6.757  0.171   6.933
fs_line                    5.569  0.121   5.699
* checking for unstated dependencies in ‘tests’ ... OK
* checking tests ...
  Running ‘testthat.R’
 OK
* checking for unstated dependencies in vignettes ... OK
* checking package vignettes ... OK
* checking running R code from vignettes ... SKIPPED
* checking re-building of vignette outputs ... SKIPPED
* checking PDF version of manual ... OK
* DONE

Status: OK


Installation output

structToolbox.Rcheck/00install.out

##############################################################################
##############################################################################
###
### Running command:
###
###   /Library/Frameworks/R.framework/Resources/bin/R CMD INSTALL structToolbox
###
##############################################################################
##############################################################################


* installing to library ‘/Library/Frameworks/R.framework/Versions/4.5-arm64/Resources/library’
* installing *source* package ‘structToolbox’ ...
** this is package ‘structToolbox’ version ‘1.20.0’
** using staged installation
** R
** inst
** byte-compile and prepare package for lazy loading
** help
*** installing help indices
** building package indices
** installing vignettes
** testing if installed package can be loaded from temporary location
** testing if installed package can be loaded from final location
** testing if installed package keeps a record of temporary installation path
* DONE (structToolbox)

Tests output

structToolbox.Rcheck/tests/testthat.Rout


R version 4.5.1 Patched (2025-06-14 r88325) -- "Great Square Root"
Copyright (C) 2025 The R Foundation for Statistical Computing
Platform: aarch64-apple-darwin20

R is free software and comes with ABSOLUTELY NO WARRANTY.
You are welcome to redistribute it under certain conditions.
Type 'license()' or 'licence()' for distribution details.

R is a collaborative project with many contributors.
Type 'contributors()' for more information and
'citation()' on how to cite R or R packages in publications.

Type 'demo()' for some demos, 'help()' for on-line help, or
'help.start()' for an HTML browser interface to help.
Type 'q()' to quit R.

> library(testthat)
> library(ggplot2)
> library(structToolbox)
Loading required package: struct
> 
> test_check("structToolbox")
[ FAIL 0 | WARN 6 | SKIP 0 | PASS 166 ]

[ FAIL 0 | WARN 6 | SKIP 0 | PASS 166 ]
> 
> proc.time()
   user  system elapsed 
185.892   2.062 188.135 

Example timings

structToolbox.Rcheck/structToolbox-Ex.timings

nameusersystemelapsed
ANOVA0.2440.0100.260
AUC1.9660.1142.083
DFA0.1950.0040.203
DatasetExperiment_boxplot1.7800.0391.819
DatasetExperiment_dist2.2020.0772.279
DatasetExperiment_factor_boxplot0.2040.0030.208
DatasetExperiment_heatmap0.4210.0280.452
HCA0.0610.0050.067
HSD0.3050.0160.329
HSDEM0.5080.0270.548
MTBLS79_DatasetExperiment0.0010.0000.001
OPLSDA0.0130.0000.013
OPLSR0.0070.0000.007
PCA0.0060.0010.007
PLSDA0.0100.0010.012
PLSR0.0100.0010.011
SVM0.0220.0010.022
as_data_frame0.1490.0030.153
autoscale0.0790.0010.082
balanced_accuracy1.8620.0221.907
blank_filter0.3680.0180.389
blank_filter_hist0.0010.0000.001
bootstrap0.0090.0000.009
calculate0.0050.0010.005
chart_plot0.0290.0010.030
classical_lsq0.3030.0030.305
compare_dist4.0450.2274.303
confounders_clsq2.8570.0242.884
confounders_lsq_barchart3.0250.0243.064
confounders_lsq_boxplot2.7580.0192.777
constant_sum_norm0.0070.0000.008
corr_coef0.2510.0030.253
dfa_scores_plot0.7020.0090.711
dratio_filter0.2510.0080.258
equal_split0.1070.0020.108
feature_boxplot0.0240.0010.024
feature_profile0.3750.0070.383
feature_profile_array0.4470.0050.452
filter_by_name0.0290.0010.029
filter_na_count1.0100.0311.041
filter_smeta0.0600.0010.061
fisher_exact9.8320.0449.888
fold_change10.191 0.07610.267
fold_change_int15.045 0.04515.159
fold_change_plot0.0070.0000.007
forward_selection_by_rank6.7570.1716.933
fs_line5.5690.1215.699
glog_opt_plot0.4590.0040.464
glog_transform0.2990.0030.302
grid_search_1d3.6570.1863.845
gs_line000
hca_dendrogram0.0000.0000.001
kfold_xval3.4570.0383.498
kfoldxcv_grid3.7090.0323.746
kfoldxcv_metric0.0010.0000.001
knn_impute0.0120.0020.015
kw_p_hist0.0010.0000.001
kw_rank_sum0.0710.0010.072
linear_model0.0270.0010.028
log_transform0.0060.0000.007
mean_centre0.0020.0000.002
mean_of_medians0.1330.0090.142
mixed_effect0.1620.0020.164
model_apply0.0220.0010.022
model_predict0.0500.0000.052
model_reverse0.0260.0000.026
model_train0.0490.0000.050
mv_boxplot0.2780.0040.283
mv_feature_filter0.1110.0010.112
mv_feature_filter_hist0.0010.0000.001
mv_histogram0.2570.0130.272
mv_sample_filter0.0100.0010.011
mv_sample_filter_hist0.0010.0000.001
nroot_transform0.0070.0000.007
ontology_cache0.0000.0000.001
pairs_filter0.0090.0000.010
pareto_scale0.0590.0000.061
pca_biplot0.0140.0000.014
pca_correlation_plot0.0060.0000.006
pca_dstat_plot0.0080.0000.009
pca_loadings_plot0.0090.0010.009
pca_scores_plot0.5240.0060.531
pca_scree_plot0.0060.0000.007
permutation_test0.010.000.01
permutation_test_plot0.0030.0000.003
permute_sample_order0.0070.0000.006
pls_regcoeff_plot0.3380.0100.348
pls_scores_plot0.6750.0050.680
pls_vip_plot0.3040.0050.315
plsda_feature_importance_plot0.4780.0060.496
plsda_predicted_plot0.3100.0040.317
plsda_roc_plot1.1320.0271.162
plsr_cook_dist0.0070.0010.007
plsr_prediction_plot0.0060.0010.007
plsr_qq_plot0.0170.0010.018
plsr_residual_hist0.010.000.01
pqn_norm0.3320.0010.334
pqn_norm_hist0.0010.0000.001
prop_na0.0090.0000.009
r_squared0.0010.0000.001
resample0.0140.0010.015
resample_chart0.0020.0000.002
rsd_filter0.0120.0010.013
rsd_filter_hist0.0010.0000.001
run0.0310.0010.032
sb_corr0.0240.0010.025
scatter_chart0.3560.0110.368
split_data0.0070.0000.008
stratified_split0.1170.0010.118
svm_plot_2d0.6780.0200.699
tSNE0.0240.0010.025
tSNE_scatter0.0070.0010.007
tic_chart0.2000.0040.204
ttest0.0200.0000.021
vec_norm0.0010.0000.001
wilcox_p_hist0.0010.0010.001
wilcox_test0.0160.0000.017