Back to Multiple platform build/check report for BioC 3.23:   simplified   long
ABCDEFGHIJKLMNOPQR[S]TUVWXYZ

This page was generated on 2025-11-19 10:14 -0500 (Wed, 19 Nov 2025).

HostnameOSArch (*)R versionInstalled pkgs
nebbiolo1Linux (Ubuntu 24.04.3 LTS)x86_64R Under development (unstable) (2025-10-20 r88955) -- "Unsuffered Consequences" 4827
lconwaymacOS 12.7.6 Montereyx86_64R Under development (unstable) (2025-10-21 r88958) -- "Unsuffered Consequences" 4600
kjohnson3macOS 13.7.7 Venturaarm64R Under development (unstable) (2025-11-04 r88984) -- "Unsuffered Consequences" 4564
Click on any hostname to see more info about the system (e.g. compilers)      (*) as reported by 'uname -p', except on Windows and Mac OS X

Package 2114/2325HostnameOS / ArchINSTALLBUILDCHECKBUILD BIN
structToolbox 1.23.0  (landing page)
Gavin Rhys Lloyd
Snapshot Date: 2025-11-18 13:40 -0500 (Tue, 18 Nov 2025)
git_url: https://git.bioconductor.org/packages/structToolbox
git_branch: devel
git_last_commit: e5436a2
git_last_commit_date: 2025-10-29 10:56:35 -0500 (Wed, 29 Oct 2025)
nebbiolo1Linux (Ubuntu 24.04.3 LTS) / x86_64  OK    OK    OK  NO, package depends on 'struct' which is not available
lconwaymacOS 12.7.6 Monterey / x86_64  OK    OK    OK    OK  NO, package depends on 'struct' which is not available
kjohnson3macOS 13.7.7 Ventura / arm64  OK    OK    OK    OK  NO, package depends on 'struct' which is not available


CHECK results for structToolbox on lconway

To the developers/maintainers of the structToolbox package:
- Allow up to 24 hours (and sometimes 48 hours) for your latest push to git@git.bioconductor.org:packages/structToolbox.git to reflect on this report. See Troubleshooting Build Report for more information.
- Use the following Renviron settings to reproduce errors and warnings.
- If 'R CMD check' started to fail recently on the Linux builder(s) over a missing dependency, add the missing dependency to 'Suggests:' in your DESCRIPTION file. See Renviron.bioc for more information.

raw results


Summary

Package: structToolbox
Version: 1.23.0
Command: /Library/Frameworks/R.framework/Resources/bin/R CMD check --install=check:structToolbox.install-out.txt --library=/Library/Frameworks/R.framework/Resources/library --no-vignettes --timings structToolbox_1.23.0.tar.gz
StartedAt: 2025-11-19 00:29:28 -0500 (Wed, 19 Nov 2025)
EndedAt: 2025-11-19 00:39:01 -0500 (Wed, 19 Nov 2025)
EllapsedTime: 572.3 seconds
RetCode: 0
Status:   OK  
CheckDir: structToolbox.Rcheck
Warnings: 0

Command output

##############################################################################
##############################################################################
###
### Running command:
###
###   /Library/Frameworks/R.framework/Resources/bin/R CMD check --install=check:structToolbox.install-out.txt --library=/Library/Frameworks/R.framework/Resources/library --no-vignettes --timings structToolbox_1.23.0.tar.gz
###
##############################################################################
##############################################################################


* using log directory ‘/Users/biocbuild/bbs-3.23-bioc/meat/structToolbox.Rcheck’
* using R Under development (unstable) (2025-10-21 r88958)
* using platform: x86_64-apple-darwin20
* R was compiled by
    Apple clang version 14.0.0 (clang-1400.0.29.202)
    GNU Fortran (GCC) 14.2.0
* running under: macOS Ventura 13.7.8
* using session charset: UTF-8
* using option ‘--no-vignettes’
* checking for file ‘structToolbox/DESCRIPTION’ ... OK
* checking extension type ... Package
* this is package ‘structToolbox’ version ‘1.23.0’
* package encoding: UTF-8
* checking package namespace information ... OK
* checking package dependencies ... OK
* checking if this is a source package ... OK
* checking if there is a namespace ... OK
* checking for hidden files and directories ... OK
* checking for portable file names ... OK
* checking for sufficient/correct file permissions ... OK
* checking whether package ‘structToolbox’ can be installed ... OK
* checking installed package size ... OK
* checking package directory ... OK
* checking ‘build’ directory ... OK
* checking DESCRIPTION meta-information ... OK
* checking top-level files ... OK
* checking for left-over files ... OK
* checking index information ... OK
* checking package subdirectories ... OK
* checking code files for non-ASCII characters ... OK
* checking R files for syntax errors ... OK
* checking whether the package can be loaded ... OK
* checking whether the package can be loaded with stated dependencies ... OK
* checking whether the package can be unloaded cleanly ... OK
* checking whether the namespace can be loaded with stated dependencies ... OK
* checking whether the namespace can be unloaded cleanly ... OK
* checking dependencies in R code ... OK
* checking S3 generic/method consistency ... OK
* checking replacement functions ... OK
* checking foreign function calls ... OK
* checking R code for possible problems ... OK
* checking Rd files ... OK
* checking Rd metadata ... OK
* checking Rd cross-references ... OK
* checking for missing documentation entries ... OK
* checking for code/documentation mismatches ... OK
* checking Rd \usage sections ... OK
* checking Rd contents ... OK
* checking for unstated dependencies in examples ... OK
* checking R/sysdata.rda ... OK
* checking files in ‘vignettes’ ... OK
* checking examples ... OK
Examples with CPU (user + system) or elapsed time > 5s
                            user system elapsed
fold_change_int           20.666  0.123  20.935
fold_change               13.286  0.083  13.436
fisher_exact              11.205  0.079  11.363
fs_line                    8.470  0.167   8.711
forward_selection_by_rank  7.162  0.132   7.350
compare_dist               5.332  0.201   5.563
* checking for unstated dependencies in ‘tests’ ... OK
* checking tests ...
  Running ‘testthat.R’
 OK
* checking for unstated dependencies in vignettes ... OK
* checking package vignettes ... OK
* checking running R code from vignettes ... SKIPPED
* checking re-building of vignette outputs ... SKIPPED
* checking PDF version of manual ... OK
* DONE

Status: OK


Installation output

structToolbox.Rcheck/00install.out

##############################################################################
##############################################################################
###
### Running command:
###
###   /Library/Frameworks/R.framework/Resources/bin/R CMD INSTALL structToolbox
###
##############################################################################
##############################################################################


* installing to library ‘/Library/Frameworks/R.framework/Versions/4.6-x86_64/Resources/library’
* installing *source* package ‘structToolbox’ ...
** this is package ‘structToolbox’ version ‘1.23.0’
** using staged installation
** R
** inst
** byte-compile and prepare package for lazy loading
** help
*** installing help indices
** building package indices
** installing vignettes
** testing if installed package can be loaded from temporary location
** testing if installed package can be loaded from final location
** testing if installed package keeps a record of temporary installation path
* DONE (structToolbox)

Tests output

structToolbox.Rcheck/tests/testthat.Rout


R Under development (unstable) (2025-10-21 r88958) -- "Unsuffered Consequences"
Copyright (C) 2025 The R Foundation for Statistical Computing
Platform: x86_64-apple-darwin20

R is free software and comes with ABSOLUTELY NO WARRANTY.
You are welcome to redistribute it under certain conditions.
Type 'license()' or 'licence()' for distribution details.

R is a collaborative project with many contributors.
Type 'contributors()' for more information and
'citation()' on how to cite R or R packages in publications.

Type 'demo()' for some demos, 'help()' for on-line help, or
'help.start()' for an HTML browser interface to help.
Type 'q()' to quit R.

> library(testthat)
> library(ggplot2)
> library(structToolbox)
Loading required package: struct
> 
> test_check("structToolbox")
[ FAIL 0 | WARN 6 | SKIP 0 | PASS 166 ]

[ FAIL 0 | WARN 6 | SKIP 0 | PASS 166 ]
> 
> proc.time()
   user  system elapsed 
221.276   2.952 225.984 

Example timings

structToolbox.Rcheck/structToolbox-Ex.timings

nameusersystemelapsed
ANOVA0.2320.0090.242
AUC2.3400.0932.449
DFA0.2040.0020.208
DatasetExperiment_boxplot0.8880.0310.921
DatasetExperiment_dist1.4270.0881.532
DatasetExperiment_factor_boxplot0.3640.0070.374
DatasetExperiment_heatmap1.3130.0441.366
HCA0.0620.0010.064
HSD0.3350.0230.396
HSDEM0.3920.0270.426
MTBLS79_DatasetExperiment0.0020.0010.002
OPLSDA0.0130.0000.013
OPLSR0.0110.0000.012
PCA0.0070.0000.006
PLSDA0.0150.0000.015
PLSR0.0110.0010.011
SVM0.0210.0010.021
as_data_frame0.1380.0030.143
autoscale0.0750.0010.077
balanced_accuracy1.9640.0221.996
blank_filter0.4420.0350.483
blank_filter_hist0.0010.0000.002
bootstrap0.0090.0000.010
calculate0.0040.0000.004
chart_plot0.0320.0010.033
classical_lsq0.3060.0030.311
compare_dist5.3320.2015.563
confounders_clsq3.0450.0253.083
confounders_lsq_barchart3.6990.0383.764
confounders_lsq_boxplot3.6580.0493.734
constant_sum_norm0.0090.0000.009
corr_coef0.3020.0030.305
dfa_scores_plot1.0910.0141.116
dratio_filter0.2720.0070.279
equal_split0.1380.0020.140
feature_boxplot0.0250.0010.026
feature_profile0.5780.0090.592
feature_profile_array0.7010.0080.716
filter_by_name0.0360.0010.037
filter_na_count1.2350.0571.305
filter_smeta0.0680.0010.069
fisher_exact11.205 0.07911.363
fold_change13.286 0.08313.436
fold_change_int20.666 0.12320.935
fold_change_plot0.010.000.01
forward_selection_by_rank7.1620.1327.350
fs_line8.4700.1678.711
glog_opt_plot0.5800.0070.590
glog_transform0.3010.0030.306
grid_search_1d3.7140.1383.888
gs_line0.0000.0000.001
hca_dendrogram000
kfold_xval3.7020.0353.756
kfoldxcv_grid4.4270.0504.506
kfoldxcv_metric0.0010.0000.001
knn_impute0.0120.0010.013
kw_p_hist0.0010.0000.001
kw_rank_sum0.0840.0010.085
linear_model0.0340.0010.035
log_transform0.0090.0000.009
mean_centre0.0040.0000.004
mean_of_medians0.1440.0040.148
mixed_effect0.2010.0040.207
model_apply0.0240.0010.025
model_predict0.0600.0010.062
model_reverse0.0270.0010.028
model_train0.0590.0010.061
mv_boxplot0.4760.0070.486
mv_feature_filter0.1200.0020.122
mv_feature_filter_hist0.0010.0000.001
mv_histogram0.3770.0040.384
mv_sample_filter0.0100.0000.011
mv_sample_filter_hist0.0010.0000.001
nroot_transform0.0060.0010.006
ontology_cache0.0010.0000.000
pairs_filter0.0090.0010.009
pareto_scale0.0730.0030.076
pca_biplot0.0180.0000.020
pca_correlation_plot0.0080.0000.008
pca_dstat_plot0.0090.0010.008
pca_loadings_plot0.0100.0000.009
pca_scores_plot0.7630.0080.775
pca_scree_plot0.0070.0010.008
permutation_test0.0080.0000.008
permutation_test_plot0.0020.0000.003
permute_sample_order0.0100.0010.011
pls_regcoeff_plot0.4830.0060.491
pls_scores_plot0.8850.0090.902
pls_vip_plot0.5320.0060.542
plsda_feature_importance_plot0.9910.0111.006
plsda_predicted_plot0.6190.0080.628
plsda_roc_plot1.2880.0121.305
plsr_cook_dist0.0080.0000.008
plsr_prediction_plot0.0090.0000.009
plsr_qq_plot0.0060.0010.006
plsr_residual_hist0.0070.0000.007
pqn_norm0.3760.0030.381
pqn_norm_hist0.0010.0010.001
prop_na0.0110.0000.011
r_squared0.0010.0000.001
resample0.0180.0010.019
resample_chart0.0030.0010.003
rsd_filter0.0130.0010.013
rsd_filter_hist0.0000.0000.001
run0.0310.0000.032
sb_corr0.0230.0010.025
scatter_chart0.5960.0060.605
split_data0.010.000.01
stratified_split0.1200.0010.121
svm_plot_2d0.9190.0210.968
tSNE0.0250.0010.028
tSNE_scatter0.0070.0000.008
tic_chart0.3770.0030.382
ttest0.0270.0000.027
vec_norm0.0010.0000.002
wilcox_p_hist0.0010.0000.000
wilcox_test0.0200.0000.021