| Package STATUS - Package status is indicated by one of the following glyphs: |
| - TIMEOUT |
BUILD, CHECK or BUILD BIN of package took more than 40 minutes |
| - ERROR |
BUILD, CHECK or BUILD BIN of package returned an error |
| - WARNINGS |
CHECK of package produced warnings |
| - OK |
BUILD, CHECK or BUILD BIN of package was OK |
| - skipped |
CHECK or BUILD BIN of package was skipped because the BUILD step failed (or because something bad happened with the Build System itself) |
| Click on any glyph in the report below to see the status details (command output). |
| [wilson2] |
Linux (openSUSE 11.1) / x86_64 | | | |
| pitt |
Mac OS X Tiger (10.4.11) / i386 | | | |
| pelham |
Mac OS X Leopard (10.5.8) / i386 | | | |
| affydata 1.11.10 | Laurent | OK | OK | |
| AffymetrixDataTestFiles 0.1.2 | Henrik Bengtsson | OK | OK | |
| ALL 1.4.7 | Xiaochun Li | OK | OK | |
| ALLMLL 1.2.8 | B. M. Bolstad | OK | OK | |
| AmpAffyExample 1.2.5 | Rafael A. Irizarry | OK | OK | |
| beta7 1.0.0 | Jean Yang | OK | OK | |
| bronchialIL13 1.0-6 | Vince Carey | OK | OK | |
| CCl4 1.0.9 | Audrey Kauffmann | OK | OK | |
| ccTutorial 1.0.17 | Joern Toedling | OK | OK | |
| charmData 0.99.1 | Martin Aryee | OK | ERROR | |
| CLL 1.2.8 | Robert Gentleman | OK | OK | |
| colonCA 1.4.5 | W Sylvia Merk | OK | OK | |
| davidTiling 1.2.12 | Wolfgang Huber | OK | OK | |
| dyebiasexamples 1.0.6 | Philip Lijnzaad | OK | OK | |
| ecoliLeucine 1.2.5 | Laurent Gautier | OK | OK | |
| encoDnaseI 0.1-4 | VJ Carey | OK | WARNINGS | |
| estrogen 1.8.5 | R. Gentleman | OK | OK | |
| faahKO 1.2.4 | Colin A. Smith | OK | WARNINGS | |
| facsDorit 1.4.2 | Florian Hahne | OK | OK | |
| fibroEset 1.4.4 | Sylvia Merk | OK | OK | |
| frmaExampleData 0.99.0 | Matthew N. McCall | OK | OK | |
| gaschYHS 1.0.3 | Vince Carey | OK | OK | |
| gatingMLData 1.0.2 | Nishant Gopalakrishnan | OK | OK | |
| gcspikelite 1.0.2 | Mark Robinson | OK | OK | |
| GenomicFeatures.Hsapiens.UCSC.hg18 0.1.2 | Biocore Data Team | OK | ERROR | |
| GenomicFeatures.Mmusculus.UCSC.mm9 0.1.2 | Biocore Data Team | OK | ERROR | |
| GGdata 1.0.3 | VJ Carey | OK | OK | |
| golubEsets 1.4.7 | Vince Carey | OK | OK | |
| hapmap100khind 1.3.32 | Benilton Carvalho | OK | OK | |
| hapmap100kxba 1.3.3 | Benilton Carvalho | OK | OK | |
| hapmap500knsp 1.3.3 | Benilton Carvalho | OK | OK | |
| hapmap500ksty 1.3.3 | Benilton Carvalho | OK | OK | |
| hapmapsnp5 1.3.3 | Benilton Carvalho | OK | OK | |
| hapmapsnp6 1.3.3 | Benilton Carvalho | OK | OK | |
| harbChIP 1.0.5 | VJ Carey | OK | OK | |
| HEEBOdata 1.0.0 | Agnes Paquet | OK | OK | |
| hgu133abarcodevecs 0.0.3 | Matthew N. McCall | OK | OK | |
| hgu133afrmavecs 0.99.0 | Matthew N. McCall | OK | OK | |
| hgu133plus2barcodevecs 0.0.3 | Matthew N. McCall | OK | OK | |
| hgu133plus2frmavecs 0.99.0 | Matthew N. McCall | OK | OK | |
| hgu2beta7 1.2.2 | Biocore Team c/o BioC user list | OK | OK | |
| HIVcDNAvantWout03 1.2.3 | Chris Fraley | OK | OK | |
| hmyriB36 0.99.4 | Vincent Carey | OK | OK | |
| humanStemCell 0.2.3 | R. Gentleman | OK | OK | |
| ind1KG 0.1.2 | VJ Carey | ERROR | skipped | |
| ITALICSData 2.0.1 | Guillem Rigaill | OK | OK | |
| Iyer517 1.4.4 | Vince Carey | OK | OK | |
| kidpack 1.5.7 | Wolfgang Huber | OK | OK | |
| leeBamViews 0.99.3 | VJ Carey | ERROR | skipped | |
| lumiBarnes 1.3.4 | Pan Du | OK | OK | |
| lungExpression 0.0.10 | Robert Scharpf | OK | OK | |
| maqcExpression4plex 1.2 | Benilton Carvalho | OK | OK | |
| MAQCsubset 1.0.18 | VJ Carey | OK | WARNINGS | |
| MAQCsubsetAFX 1.0.3 | Laurent Gatto | OK | OK | |
| MAQCsubsetILM 1.0.2 | Laurent Gatto | OK | OK | |
| MEEBOdata 1.0.0 | Agnes Paquet | OK | OK | |
| mouse4302barcodevecs 0.0.3 | Matthew N. McCall | OK | OK | |
| mouse4302frmavecs 0.99.0 | Matthew N. McCall | OK | OK | |
| msdata 0.1.4 | Steffen Neumann | OK | WARNINGS | |
| mvoutData 0.99.4 | VJ Carey | OK | OK | |
| Neve2006 0.1.9 | VJ Carey | OK | OK | |
| ppiData 0.1.14 | Tony Chiang | OK | OK | |
| ProData 1.0.3 | Xiaochun Li | OK | OK | |
| pumadata 1.0.3 | Richard Pearson | OK | WARNINGS | |
| rfcdmin 1.6.11 | N. Le Meur | OK | OK | |
| SNAData 1.8.1 | Denise Scholtens | OK | OK | |
| SpikeIn 1.4.4 | Rafael A. Irizarry | OK | OK | |
| SpikeInSubset 1.2.8 | Rafael A. Irizarry | OK | OK | |
| stjudem 1.2.2 | Joern Toedling | OK | OK | |
| TargetSearchData 1.0.1 | Alvaro Cuadros-Inostroza | OK | OK | |
| tinesath1cdf 1.0.3 | Tine Casneuf | OK | OK | |
| tinesath1probe 1.0.2 | Tine Casneuf | OK | OK | |
| XhybCasneuf 1.0.6 | Tineke Casneuf | OK | OK | |
| yeastCC 1.2.11 | Sandrine Dudoit | OK | WARNINGS | |
| yeastExpData 0.9.17 | R. Gentleman | OK | WARNINGS | |
| yeastGSData 0.1.5 | R. Gentleman | OK | OK | |
| yeastRNASeq 0.0.3 | J. Bullard | OK | OK | |