This page was generated on 2023-04-11 14:50:27 -0400 (Tue, 11 Apr 2023).
|
| Hostname | OS | Arch (*) | R version | Installed pkgs |
|---|---|---|---|---|
| nebbiolo2 | Linux (Ubuntu 20.04.5 LTS) | x86_64 | 4.2.3 (2023-03-15) -- "Shortstop Beagle" | 4502 |
| Click on any hostname to see more info about the system (e.g. compilers) (*) as reported by 'uname -p', except on Windows and Mac OS X | ||||
A | |||||||||
| QUICK STATS | OS / Arch | INSTALL | BUILD | CHECK | |||||||||||||||||||||||||||||||
| nebbiolo2 | Linux (Ubuntu 20.04.5 LTS) / x86_64 |
|
|
| |||||||||||||||||||||||||||||||
|
| ||||||||||||||||||||||||||||||||||
| Package | Maintainer | INSTALL | BUILD | CHECK | |||||||||||||||||||||||||||||||
| 1/416 | adductData 1.14.0 (landing page) | Josie Hayes | OK | OK | OK | ||||||||||||||||||||||||||||||
| 2/416 | affycompData 1.36.0 (landing page) | Harris Jaffee | OK | OK | OK | ||||||||||||||||||||||||||||||
| 3/416 | affydata 1.46.0 (landing page) | Harris Jaffee | OK | OK | WARNINGS | ||||||||||||||||||||||||||||||
| 4/416 | Affyhgu133A2Expr 1.34.0 (landing page) | Zhicheng Ji | OK | OK | OK | ||||||||||||||||||||||||||||||
| 5/416 | Affyhgu133aExpr 1.36.0 (landing page) | Zhicheng Ji | OK | OK | OK | ||||||||||||||||||||||||||||||
| 6/416 | Affyhgu133Plus2Expr 1.32.0 (landing page) | Zhicheng Ji | OK | OK | OK | ||||||||||||||||||||||||||||||
| 7/416 | AffymetrixDataTestFiles 0.36.0 (landing page) | Henrik Bengtsson | OK | OK | OK | ||||||||||||||||||||||||||||||
| 8/416 | Affymoe4302Expr 1.36.0 (landing page) | Zhicheng Ji | OK | OK | OK | ||||||||||||||||||||||||||||||
| 9/416 | airway 1.18.0 (landing page) | Michael Love | OK | OK | WARNINGS | ||||||||||||||||||||||||||||||
| 10/416 | ALL 1.40.0 (landing page) | Robert Gentleman | OK | OK | OK | ||||||||||||||||||||||||||||||
| 11/416 | ALLMLL 1.38.0 (landing page) | B. M. Bolstad | OK | OK | OK | ||||||||||||||||||||||||||||||
| 12/416 | alpineData 1.24.0 (landing page) | Michael Love | OK | OK | OK | ||||||||||||||||||||||||||||||
| 13/416 | AmpAffyExample 1.38.0 (landing page) | Rafael A. Irizarry | OK | OK | WARNINGS | ||||||||||||||||||||||||||||||
| 14/416 | AneuFinderData 1.26.0 (landing page) | Aaron Taudt | OK | OK | WARNINGS | ||||||||||||||||||||||||||||||
| 15/416 | antiProfilesData 1.34.0 (landing page) | Hector Corrada Bravo | OK | OK | OK | ||||||||||||||||||||||||||||||
| 16/416 | aracne.networks 1.24.0 (landing page) | Federico M. Giorgi | OK | OK | WARNINGS | ||||||||||||||||||||||||||||||
| 17/416 | ARRmData 1.34.0 (landing page) | Jean-Philippe Fortin | OK | OK | OK | ||||||||||||||||||||||||||||||
| 18/416 | AshkenazimSonChr21 1.28.0 (landing page) | Who to complain to | OK | OK | OK | ||||||||||||||||||||||||||||||
| 19/416 | ASICSdata 1.18.0 (landing page) | Gaëlle Lefort | OK | OK | OK | ||||||||||||||||||||||||||||||
| 20/416 | AssessORFData 1.16.0 (landing page) | Deepank Korandla | OK | OK | OK | ||||||||||||||||||||||||||||||
|
| ||||||||||||||||||||||||||||||||||
| Package | Maintainer | INSTALL | BUILD | CHECK | |||||||||||||||||||||||||||||||
| 21/416 | bcellViper 1.34.0 (landing page) | Mariano Javier Alvarez | OK | OK | OK | ||||||||||||||||||||||||||||||
| 22/416 | beadarrayExampleData 1.36.0 (landing page) | Mark Dunning | OK | OK | OK | ||||||||||||||||||||||||||||||
| 23/416 | BeadArrayUseCases 1.36.0 (landing page) | Mike Smith | OK | OK | OK | ||||||||||||||||||||||||||||||
| 24/416 | BeadSorted.Saliva.EPIC 1.6.0 (landing page) | Jonah Fisher | OK | OK | OK | ||||||||||||||||||||||||||||||
| 25/416 | benchmarkfdrData2019 1.12.0 (landing page) | Stephanie Hicks | OK | OK | OK | ||||||||||||||||||||||||||||||
| 26/416 | beta7 1.36.0 (landing page) | Jean Yang | OK | OK | WARNINGS | ||||||||||||||||||||||||||||||
| 27/416 | BioImageDbs 1.6.0 (landing page) | Satoshi Kume | OK | OK | OK | ||||||||||||||||||||||||||||||
| 28/416 | BioPlex 1.4.4 (landing page) | Ludwig Geistlinger | OK | ERROR | skipped | ||||||||||||||||||||||||||||||
| 29/416 | biotmleData 1.22.0 (landing page) | Nima Hejazi | OK | OK | WARNINGS | ||||||||||||||||||||||||||||||
| 30/416 | biscuiteerData 1.12.0 (landing page) | "Jacob Morrison" | OK | OK | OK | ||||||||||||||||||||||||||||||
| 31/416 | bladderbatch 1.36.0 (landing page) | Jeffrey T. Leek | OK | OK | WARNINGS | ||||||||||||||||||||||||||||||
| 32/416 | blimaTestingData 1.18.0 (landing page) | Vojtech Kulvait | OK | OK | OK | ||||||||||||||||||||||||||||||
| 33/416 | BloodCancerMultiOmics2017 1.18.0 (landing page) | Malgorzata Oles | OK | OK | WARNINGS | ||||||||||||||||||||||||||||||
| 34/416 | bodymapRat 1.14.0 (landing page) | Stephanie Hicks | OK | OK | OK | ||||||||||||||||||||||||||||||
| 35/416 | breakpointRdata 1.16.0 (landing page) | David Porubsky | OK | OK | OK | ||||||||||||||||||||||||||||||
| 36/416 | breastCancerMAINZ 1.36.0 (landing page) | Markus Schroeder | OK | OK | WARNINGS | ||||||||||||||||||||||||||||||
| 37/416 | breastCancerNKI 1.36.0 (landing page) | Markus Schroeder | OK | OK | WARNINGS | ||||||||||||||||||||||||||||||
| 38/416 | breastCancerTRANSBIG 1.36.0 (landing page) | Markus Schroeder | OK | OK | WARNINGS | ||||||||||||||||||||||||||||||
| 39/416 | breastCancerUNT 1.36.0 (landing page) | Markus Schroeder | OK | OK | WARNINGS | ||||||||||||||||||||||||||||||
| 40/416 | breastCancerUPP 1.36.0 (landing page) | Markus Schroeder | OK | OK | WARNINGS | ||||||||||||||||||||||||||||||
| 41/416 | breastCancerVDX 1.36.0 (landing page) | Markus Schroeder | OK | OK | WARNINGS | ||||||||||||||||||||||||||||||
| 42/416 | brgedata 1.20.0 (landing page) | Dolors Pelegri-Siso | OK | OK | WARNINGS | ||||||||||||||||||||||||||||||
| 43/416 | bronchialIL13 1.36.0 (landing page) | Vince Carey | OK | OK | OK | ||||||||||||||||||||||||||||||
| 44/416 | bsseqData 0.36.0 (landing page) | Kasper Daniel Hansen | OK | OK | WARNINGS | ||||||||||||||||||||||||||||||
|
| ||||||||||||||||||||||||||||||||||
| Package | Maintainer | INSTALL | BUILD | CHECK | |||||||||||||||||||||||||||||||
| 45/416 | cancerdata 1.36.0 (landing page) | Daniel Kosztyla | OK | OK | OK | ||||||||||||||||||||||||||||||
| 46/416 | CardinalWorkflows 1.30.0 (landing page) | Kylie A. Bemis | OK | OK | OK | ||||||||||||||||||||||||||||||
| 47/416 | ccdata 1.24.0 (landing page) | Alex Pickering | OK | OK | WARNINGS | ||||||||||||||||||||||||||||||
| 48/416 | CCl4 1.36.0 (landing page) | Audrey Kauffmann | OK | OK | WARNINGS | ||||||||||||||||||||||||||||||
| 49/416 | ccTutorial 1.36.0 (landing page) | Joern Toedling | OK | OK | OK | ||||||||||||||||||||||||||||||
| 50/416 | celarefData 1.16.0 (landing page) | Sarah Williams | OK | OK | OK | ||||||||||||||||||||||||||||||
| 51/416 | celldex 1.8.0 (landing page) | Aaron Lun | OK | OK | WARNINGS | ||||||||||||||||||||||||||||||
| 52/416 | CellMapperData 1.24.0 (landing page) | Brad Nelms | OK | OK | OK | ||||||||||||||||||||||||||||||
| 53/416 | ChAMPdata 2.30.0 (landing page) | Yuan Tian | OK | OK | OK | ||||||||||||||||||||||||||||||
| 54/416 | ChIC.data 1.18.0 (landing page) | Carmen Maria Livi | OK | OK | OK | ||||||||||||||||||||||||||||||
| 55/416 | ChimpHumanBrainData 1.36.0 (landing page) | Sean Davis | OK | OK | OK | ||||||||||||||||||||||||||||||
| 56/416 | chipenrich.data 2.22.0 (landing page) | Raymond G. Cavalcante | OK | OK | WARNINGS | ||||||||||||||||||||||||||||||
| 57/416 | ChIPexoQualExample 1.22.0 (landing page) | Rene Welch | OK | OK | OK | ||||||||||||||||||||||||||||||
| 58/416 | chipseqDBData 1.14.0 (landing page) | Aaron Lun | OK | OK | OK | ||||||||||||||||||||||||||||||
| 59/416 | ChIPXpressData 1.36.0 (landing page) | George Wu | OK | OK | WARNINGS | ||||||||||||||||||||||||||||||
| 60/416 | chromstaRData 1.24.0 (landing page) | Aaron Taudt | OK | OK | WARNINGS | ||||||||||||||||||||||||||||||
| 61/416 | CLL 1.38.0 (landing page) | Robert Gentleman | OK | OK | OK | ||||||||||||||||||||||||||||||
| 62/416 | CLLmethylation 1.18.0 (landing page) | Malgorzata Oles | OK | OK | OK | ||||||||||||||||||||||||||||||
| 63/416 | CluMSIDdata 1.14.0 (landing page) | Tobias Depke | OK | OK | OK | ||||||||||||||||||||||||||||||
| 64/416 | clustifyrdatahub 1.8.0 (landing page) | Rui Fu | OK | OK | OK | ||||||||||||||||||||||||||||||
| 65/416 | cMap2data 1.34.0 (landing page) | J. Saez-Rodriguez | OK | OK | WARNINGS | ||||||||||||||||||||||||||||||
| 66/416 | cnvGSAdata 1.34.0 (landing page) | Joseph Lugo | OK | OK | WARNINGS | ||||||||||||||||||||||||||||||
| 67/416 | COHCAPanno 1.34.0 (landing page) | Charles Warden | OK | OK | OK | ||||||||||||||||||||||||||||||
| 68/416 | colonCA 1.40.0 (landing page) | W Sylvia Merk | OK | OK | WARNINGS | ||||||||||||||||||||||||||||||
| 69/416 | CONFESSdata 1.26.0 (landing page) | Diana LOW | OK | OK | OK | ||||||||||||||||||||||||||||||
| 70/416 | ConnectivityMap 1.34.0 (landing page) | Paul Shannon | OK | OK | OK | ||||||||||||||||||||||||||||||
| 71/416 | COPDSexualDimorphism.data 1.34.0 (landing page) | J Fah Sathirapongsasuti | OK | OK | WARNINGS | ||||||||||||||||||||||||||||||
| 72/416 | CopyhelpeR 1.30.0 (landing page) | Oscar Krijgsman | OK | OK | OK | ||||||||||||||||||||||||||||||
| 73/416 | CopyNeutralIMA 1.16.0 (landing page) | Xavier Pastor Hostench | OK | OK | OK | ||||||||||||||||||||||||||||||
| 74/416 | COSMIC.67 1.34.0 (landing page) | Julian Gehring | OK | OK | OK | ||||||||||||||||||||||||||||||
| 75/416 | CRCL18 1.18.0 (landing page) | Claudio Isella | OK | OK | OK | ||||||||||||||||||||||||||||||
| 76/416 | crisprScoreData 1.2.0 (landing page) | Jean-Philippe Fortin | OK | OK | OK | ||||||||||||||||||||||||||||||
| 77/416 | curatedAdipoArray 1.10.0 (landing page) | Mahmoud Ahmed | OK | OK | OK | ||||||||||||||||||||||||||||||
| 78/416 | curatedAdipoChIP 1.14.0 (landing page) | Mahmoud Ahmed | OK | OK | OK | ||||||||||||||||||||||||||||||
| 79/416 | curatedAdipoRNA 1.14.0 (landing page) | Mahmoud Ahmed | OK | OK | WARNINGS | ||||||||||||||||||||||||||||||
| 80/416 | curatedBladderData 1.34.0 (landing page) | Markus Riester | OK | OK | OK | ||||||||||||||||||||||||||||||
| 81/416 | curatedBreastData 2.26.0 (landing page) | Katie Planey | OK | OK | OK | ||||||||||||||||||||||||||||||
| 82/416 | curatedCRCData 2.30.0 (landing page) | Princy Parsana | OK | OK | OK | ||||||||||||||||||||||||||||||
| 83/416 | curatedMetagenomicData 3.6.2 (landing page) | Lucas schiffer | OK | OK | OK | ||||||||||||||||||||||||||||||
| 84/416 | curatedOvarianData 1.36.0 (landing page) | Levi Waldron | OK | OK | OK | ||||||||||||||||||||||||||||||
| 85/416 | curatedTBData 1.4.0 (landing page) | Xutao Wang | OK | OK | OK | ||||||||||||||||||||||||||||||
| 86/416 | curatedTCGAData 1.20.1 (landing page) | Marcel Ramos | OK | OK | OK | ||||||||||||||||||||||||||||||
|
| ||||||||||||||||||||||||||||||||||
| Package | Maintainer | INSTALL | BUILD | CHECK | |||||||||||||||||||||||||||||||
| 87/416 | DAPARdata 1.28.0 (landing page) | Samuel Wieczorek | OK | OK | WARNINGS | ||||||||||||||||||||||||||||||
| 88/416 | davidTiling 1.38.0 (landing page) | Wolfgang Huber | OK | OK | WARNINGS | ||||||||||||||||||||||||||||||
| 89/416 | depmap 1.12.0 (landing page) | Laurent Gatto | OK | OK | OK | ||||||||||||||||||||||||||||||
| 90/416 | derfinderData 2.16.0 (landing page) | Leonardo Collado-Torres | OK | OK | OK | ||||||||||||||||||||||||||||||
| 91/416 | DeSousa2013 1.34.0 (landing page) | Xin Wang | OK | OK | OK | ||||||||||||||||||||||||||||||
| 92/416 | DExMAdata 1.6.0 (landing page) | Juan Antonio Villatoro-García | OK | OK | OK | ||||||||||||||||||||||||||||||
| 93/416 | diffloopdata 1.26.0 (landing page) | Caleb Lareau | OK | OK | OK | ||||||||||||||||||||||||||||||
| 94/416 | diggitdata 1.30.0 (landing page) | Mariano Javier Alvarez | OK | OK | OK | ||||||||||||||||||||||||||||||
| 95/416 | DLBCL 1.38.0 (landing page) | Marcus Dittrich | OK | OK | WARNINGS | ||||||||||||||||||||||||||||||
| 96/416 | DmelSGI 1.30.0 (landing page) | Mike Smith | OK | OK | OK | ||||||||||||||||||||||||||||||
| 97/416 | DMRcatedata 2.16.0 (landing page) | Tim Peters | OK | OK | OK | ||||||||||||||||||||||||||||||
| 98/416 | DonaPLLP2013 1.36.0 (landing page) | Joseph D. Barry | OK | OK | OK | ||||||||||||||||||||||||||||||
| 99/416 | dorothea 1.10.0 (landing page) | Daniel Dimitrov | OK | OK | OK | ||||||||||||||||||||||||||||||
| 100/416 | dressCheck 0.36.0 (landing page) | Vincent Carey | OK | OK | OK | ||||||||||||||||||||||||||||||
| 101/416 | DropletTestFiles 1.8.0 (landing page) | Aaron Lun | OK | OK | OK | ||||||||||||||||||||||||||||||
| 102/416 | DrugVsDiseasedata 1.34.0 (landing page) | J. Saez-Rodriguez | OK | OK | OK | ||||||||||||||||||||||||||||||
| 103/416 | DuoClustering2018 1.16.0 (landing page) | Angelo Duò | OK | OK | OK | ||||||||||||||||||||||||||||||
| 104/416 | DvDdata 1.34.0 (landing page) | J. Saez-Rodriguez | OK | OK | WARNINGS | ||||||||||||||||||||||||||||||
| 105/416 | dyebiasexamples 1.38.0 (landing page) | Philip Lijnzaad | OK | OK | WARNINGS | ||||||||||||||||||||||||||||||
|
| ||||||||||||||||||||||||||||||||||
| Package | Maintainer | INSTALL | BUILD | CHECK | |||||||||||||||||||||||||||||||
| 106/416 | easierData 1.4.0 (landing page) | Oscar Lapuente-Santana | OK | OK | OK | ||||||||||||||||||||||||||||||
| 107/416 | EatonEtAlChIPseq 0.36.0 (landing page) | Patrick Aboyoun | OK | OK | WARNINGS | ||||||||||||||||||||||||||||||
| 108/416 | ecoliLeucine 1.38.0 (landing page) | Laurent Gautier | OK | OK | WARNINGS | ||||||||||||||||||||||||||||||
| 109/416 | EGSEAdata 1.26.0 (landing page) | Monther Alhamdoosh | OK | OK | OK | ||||||||||||||||||||||||||||||
| 110/416 | ELMER.data 2.22.0 (landing page) | Tiago Chedraoui Silva | OK | OK | OK | ||||||||||||||||||||||||||||||
| 111/416 | emtdata 1.6.0 (landing page) | Malvika D. Kharbanda | OK | OK | OK | ||||||||||||||||||||||||||||||
| 112/416 | EpiMix.data (landing page) | ERROR (Bad DESCRIPTION file) | |||||||||||||||||||||||||||||||||
| 113/416 | epimutacionsData 1.2.0 (landing page) | Leire Abarrategui | OK | OK | OK | ||||||||||||||||||||||||||||||
| 114/416 | estrogen 1.44.0 (landing page) | Wolfgang Huber | OK | OK | OK | ||||||||||||||||||||||||||||||
| 115/416 | etec16s 1.26.0 (landing page) | Joseph N. Paulson | OK | OK | OK | ||||||||||||||||||||||||||||||
| 116/416 | ewceData 1.6.0 (landing page) | Alan Murphy | OK | OK | OK | ||||||||||||||||||||||||||||||
|
| ||||||||||||||||||||||||||||||||||
| Package | Maintainer | INSTALL | BUILD | CHECK | |||||||||||||||||||||||||||||||
| 117/416 | faahKO 1.38.0 (landing page) | Steffen Neumann | OK | OK | OK | ||||||||||||||||||||||||||||||
| 118/416 | fabiaData 1.36.0 (landing page) | Sepp Hochreiter | OK | OK | OK | ||||||||||||||||||||||||||||||
| 119/416 | FANTOM3and4CAGE 1.34.0 (landing page) | Vanja Haberle | OK | OK | OK | ||||||||||||||||||||||||||||||
| 120/416 | ffpeExampleData 1.36.0 (landing page) | Levi Waldron | OK | OK | OK | ||||||||||||||||||||||||||||||
| 121/416 | fibroEset 1.40.0 (landing page) | Sylvia Merk | OK | OK | WARNINGS | ||||||||||||||||||||||||||||||
| 122/416 | FieldEffectCrc 1.8.0 (landing page) | Christopher Dampier | OK | OK | OK | ||||||||||||||||||||||||||||||
| 123/416 | FIs 1.26.0 (landing page) | Herbert Braselmann | OK | OK | OK | ||||||||||||||||||||||||||||||
| 124/416 | fission 1.18.0 (landing page) | Michael Love | OK | OK | OK | ||||||||||||||||||||||||||||||
| 125/416 | Fletcher2013a 1.34.0 (landing page) | Mauro Castro | OK | OK | OK | ||||||||||||||||||||||||||||||
| 126/416 | Fletcher2013b 1.34.0 (landing page) | Mauro Castro | OK | OK | OK | ||||||||||||||||||||||||||||||
| 127/416 | flowPloidyData 1.24.0 (landing page) | Tyler Smith | OK | OK | OK | ||||||||||||||||||||||||||||||
| 128/416 | FlowSorted.Blood.450k 1.36.0 (landing page) | Andrew E Jaffe | OK | OK | WARNINGS | ||||||||||||||||||||||||||||||
| 129/416 | FlowSorted.Blood.EPIC 2.2.0 (landing page) | Lucas A. Salas | OK | OK | OK | ||||||||||||||||||||||||||||||
| 130/416 | FlowSorted.CordBlood.450k 1.26.0 (landing page) | Shan V. Andrews | OK | OK | WARNINGS | ||||||||||||||||||||||||||||||
| 131/416 | FlowSorted.CordBloodCombined.450k 1.14.0 (landing page) | Lucas A. Salas | OK | OK | OK | ||||||||||||||||||||||||||||||
| 132/416 | FlowSorted.CordBloodNorway.450k 1.24.0 (landing page) | kristina gervin | OK | OK | WARNINGS | ||||||||||||||||||||||||||||||
| 133/416 | FlowSorted.DLPFC.450k 1.34.0 (landing page) | Andrew E Jaffe | OK | OK | WARNINGS | ||||||||||||||||||||||||||||||
| 134/416 | flowWorkspaceData 3.10.0 (landing page) | Mike Jiang | OK | OK | OK | ||||||||||||||||||||||||||||||
| 135/416 | frmaExampleData 1.34.0 (landing page) | Matthew N. McCall | OK | OK | WARNINGS | ||||||||||||||||||||||||||||||
| 136/416 | furrowSeg 1.26.0 (landing page) | Joseph Barry | OK | OK | WARNINGS | ||||||||||||||||||||||||||||||
|
| ||||||||||||||||||||||||||||||||||
| Package | Maintainer | INSTALL | BUILD | CHECK | |||||||||||||||||||||||||||||||
| 137/416 | gageData 2.36.0 (landing page) | Weijun Luo | OK | OK | OK | ||||||||||||||||||||||||||||||
| 138/416 | gaschYHS 1.36.0 (landing page) | Vince Carey | OK | OK | OK | ||||||||||||||||||||||||||||||
| 139/416 | J. Spidlen | OK | OK | WARNINGS | |||||||||||||||||||||||||||||||
| 140/416 | gcspikelite 1.36.0 (landing page) | Mark Robinson | OK | OK | WARNINGS | ||||||||||||||||||||||||||||||
| 141/416 | geneLenDataBase 1.34.0 (landing page) | Matthew Young | OK | OK | WARNINGS | ||||||||||||||||||||||||||||||
| 142/416 | genomationData 1.30.0 (landing page) | Vedran Franke | OK | OK | OK | ||||||||||||||||||||||||||||||
| 143/416 | GenomicDistributionsData 1.6.0 (landing page) | Kristyna Kupkova | OK | OK | OK | ||||||||||||||||||||||||||||||
| 144/416 | GeuvadisTranscriptExpr 1.26.0 (landing page) | Malgorzata Nowicka | OK | OK | OK | ||||||||||||||||||||||||||||||
| 145/416 | GIGSEAdata 1.16.0 (landing page) | Shijia Zhu | OK | OK | WARNINGS | ||||||||||||||||||||||||||||||
| 146/416 | golubEsets 1.40.0 (landing page) | Vince Carey | OK | OK | OK | ||||||||||||||||||||||||||||||
| 147/416 | gpaExample 1.10.0 (landing page) | Dongjun Chung | OK | OK | OK | ||||||||||||||||||||||||||||||
| 148/416 | grndata 1.30.0 (landing page) | Pau Bellot | OK | OK | WARNINGS | ||||||||||||||||||||||||||||||
| 149/416 | GSBenchMark 1.18.0 (landing page) | Bahman Afsari | OK | OK | OK | ||||||||||||||||||||||||||||||
| 150/416 | GSE103322 1.4.0 (landing page) | Mariano Alvarez | OK | OK | OK | ||||||||||||||||||||||||||||||
| 151/416 | GSE13015 1.6.0 (landing page) | Darawan Rinchai | OK | OK | OK | ||||||||||||||||||||||||||||||
| 152/416 | GSE159526 1.4.0 (landing page) | Victor Yuan | OK | OK | OK | ||||||||||||||||||||||||||||||
| 153/416 | GSE62944 1.26.0 (landing page) | Bioconductor Package Maintainer | OK | OK | OK | ||||||||||||||||||||||||||||||
| 154/416 | GSVAdata 1.34.0 (landing page) | Robert Castelo | OK | OK | OK | ||||||||||||||||||||||||||||||
| 155/416 | GWASdata 1.36.0 (landing page) | Stephanie Gogarten | OK | OK | OK | ||||||||||||||||||||||||||||||
|
| ||||||||||||||||||||||||||||||||||
| Package | Maintainer | INSTALL | BUILD | CHECK | |||||||||||||||||||||||||||||||
| 156/416 | h5vcData 2.18.0 (landing page) | Paul Theodor Pyl | OK | OK | OK | ||||||||||||||||||||||||||||||
| 157/416 | hapmap100khind 1.40.0 (landing page) | Benilton Carvalho | OK | OK | OK | ||||||||||||||||||||||||||||||
| 158/416 | hapmap100kxba 1.40.0 (landing page) | Benilton Carvalho | OK | OK | OK | ||||||||||||||||||||||||||||||
| 159/416 | hapmap500knsp 1.40.0 (landing page) | Benilton Carvalho | OK | OK | OK | ||||||||||||||||||||||||||||||
| 160/416 | hapmap500ksty 1.40.0 (landing page) | Benilton Carvalho | OK | OK | OK | ||||||||||||||||||||||||||||||
| 161/416 | hapmapsnp5 1.40.0 (landing page) | Benilton Carvalho | OK | OK | OK | ||||||||||||||||||||||||||||||
| 162/416 | hapmapsnp6 1.40.0 (landing page) | Benilton Carvalho | OK | OK | OK | ||||||||||||||||||||||||||||||
| 163/416 | harbChIP 1.36.0 (landing page) | VJ Carey | OK | OK | OK | ||||||||||||||||||||||||||||||
| 164/416 | HarmanData 1.26.0 (landing page) | Jason Ross | OK | OK | OK | ||||||||||||||||||||||||||||||
| 165/416 | HarmonizedTCGAData 1.20.0 (landing page) | Tianle Ma | OK | OK | OK | ||||||||||||||||||||||||||||||
| 166/416 | HCAData 1.14.0 (landing page) | Federico Marini | OK | OK | OK | ||||||||||||||||||||||||||||||
| 167/416 | HD2013SGI 1.38.0 (landing page) | Mike Smith | OK | OK | OK | ||||||||||||||||||||||||||||||
| 168/416 | HDCytoData 1.18.0 (landing page) | Lukas M. Weber | OK | OK | OK | ||||||||||||||||||||||||||||||
| 169/416 | healthyControlsPresenceChecker 1.2.0 (landing page) | Davide Chicco | OK | OK | OK | ||||||||||||||||||||||||||||||
| 170/416 | healthyFlowData 1.36.0 (landing page) | Ariful Azad | OK | OK | OK | ||||||||||||||||||||||||||||||
| 171/416 | HEEBOdata 1.36.0 (landing page) | Agnes Paquet | OK | OK | WARNINGS | ||||||||||||||||||||||||||||||
| 172/416 | HelloRangesData 1.24.0 (landing page) | Michael Lawrence | OK | OK | OK | ||||||||||||||||||||||||||||||
| 173/416 | hgu133abarcodevecs 1.36.0 (landing page) | Matthew N. McCall | OK | OK | OK | ||||||||||||||||||||||||||||||
| 174/416 | hgu133plus2barcodevecs 1.36.0 (landing page) | Matthew N. McCall | OK | OK | OK | ||||||||||||||||||||||||||||||
| 175/416 | hgu133plus2CellScore 1.18.0 (landing page) | Nancy Mah | OK | OK | WARNINGS | ||||||||||||||||||||||||||||||
| 176/416 | hgu2beta7 1.38.0 (landing page) | Bioconductor Package Maintainer | OK | OK | WARNINGS | ||||||||||||||||||||||||||||||
| 177/416 | HiCDataHumanIMR90 1.18.0 (landing page) | Nicolas Servant | OK | OK | OK | ||||||||||||||||||||||||||||||
| 178/416 | HiCDataLymphoblast 1.34.0 (landing page) | Borbala Mifsud | OK | OK | OK | ||||||||||||||||||||||||||||||
| 179/416 | HiContactsData 1.0.0 (landing page) | Jacques Serizay | OK | OK | OK | ||||||||||||||||||||||||||||||
| 180/416 | HighlyReplicatedRNASeq 1.10.0 (landing page) | Constantin Ahlmann-Eltze | OK | OK | OK | ||||||||||||||||||||||||||||||
| 181/416 | Hiiragi2013 1.34.0 (landing page) | Andrzej Oles | OK | OK | OK | ||||||||||||||||||||||||||||||
| 182/416 | HIVcDNAvantWout03 1.38.0 (landing page) | Chris Fraley | OK | OK | WARNINGS | ||||||||||||||||||||||||||||||
| 183/416 | HMP16SData 1.18.0 (landing page) | Lucas schiffer | OK | OK | OK | ||||||||||||||||||||||||||||||
| 184/416 | HMP2Data 1.12.0 (landing page) | John Stansfield | OK | OK | OK | ||||||||||||||||||||||||||||||
| 185/416 | HSMMSingleCell 1.18.0 (landing page) | Cole Trapnell | OK | OK | WARNINGS | ||||||||||||||||||||||||||||||
| 186/416 | HumanAffyData 1.24.0 (landing page) | Brad Nelms | OK | OK | OK | ||||||||||||||||||||||||||||||
| 187/416 | humanStemCell 0.38.0 (landing page) | R. Gentleman | OK | OK | WARNINGS | ||||||||||||||||||||||||||||||
|
| ||||||||||||||||||||||||||||||||||
| Package | Maintainer | INSTALL | BUILD | CHECK | |||||||||||||||||||||||||||||||
| 188/416 | IHWpaper 1.26.0 (landing page) | Nikos Ignatiadis | OK | OK | OK | ||||||||||||||||||||||||||||||
| 189/416 | Illumina450ProbeVariants.db 1.34.0 (landing page) | Tiffany Morris | OK | OK | OK | ||||||||||||||||||||||||||||||
| 190/416 | IlluminaDataTestFiles 1.36.0 (landing page) | Kasper Daniel Hansen | OK | OK | OK | ||||||||||||||||||||||||||||||
| 191/416 | imcdatasets 1.6.0 (landing page) | Nicolas Damond | OK | OK | WARNINGS | ||||||||||||||||||||||||||||||
| 192/416 | ITALICSData 2.36.0 (landing page) | Guillem Rigaill | OK | OK | WARNINGS | ||||||||||||||||||||||||||||||
| 193/416 | Iyer517 1.40.0 (landing page) | Vince Carey | OK | OK | OK | ||||||||||||||||||||||||||||||
|
| ||||||||||||||||||||||||||||||||||
| Package | Maintainer | INSTALL | BUILD | CHECK | |||||||||||||||||||||||||||||||
| 194/416 | JASPAR2014 1.34.0 (landing page) | Ge Tan | OK | OK | WARNINGS | ||||||||||||||||||||||||||||||
| 195/416 | JASPAR2016 1.26.0 (landing page) | Ge Tan | OK | OK | OK | ||||||||||||||||||||||||||||||
|
| ||||||||||||||||||||||||||||||||||
| Package | Maintainer | INSTALL | BUILD | CHECK | |||||||||||||||||||||||||||||||
| 196/416 | KEGGandMetacoreDzPathwaysGEO 1.18.0 (landing page) | Gaurav Bhatti | OK | OK | OK | ||||||||||||||||||||||||||||||
| 197/416 | KEGGdzPathwaysGEO 1.36.0 (landing page) | Gaurav Bhatti | OK | OK | OK | ||||||||||||||||||||||||||||||
| 198/416 | kidpack 1.40.0 (landing page) | Wolfgang Huber | OK | OK | WARNINGS | ||||||||||||||||||||||||||||||
| 199/416 | KOdata 1.24.0 (landing page) | Shana White | OK | OK | WARNINGS | ||||||||||||||||||||||||||||||
|
| ||||||||||||||||||||||||||||||||||
| Package | Maintainer | INSTALL | BUILD | CHECK | |||||||||||||||||||||||||||||||
| 200/416 | leeBamViews 1.34.0 (landing page) | VJ Carey | OK | OK | OK | ||||||||||||||||||||||||||||||
| 201/416 | leukemiasEset 1.34.0 (landing page) | Sara Aibar | OK | OK | OK | ||||||||||||||||||||||||||||||
| 202/416 | LiebermanAidenHiC2009 0.36.0 (landing page) | Felix Klein | OK | OK | WARNINGS | ||||||||||||||||||||||||||||||
| 203/416 | ListerEtAlBSseq 1.30.0 (landing page) | Kamal Kishore | OK | OK | WARNINGS | ||||||||||||||||||||||||||||||
| 204/416 | LRcellTypeMarkers 1.6.0 (landing page) | Wenjing Ma | OK | OK | OK | ||||||||||||||||||||||||||||||
| 205/416 | lumiBarnes 1.38.0 (landing page) | Pan Du | OK | OK | WARNINGS | ||||||||||||||||||||||||||||||
| 206/416 | LungCancerACvsSCCGEO 1.34.0 (landing page) | Adi Laurentiu Tarca | OK | OK | OK | ||||||||||||||||||||||||||||||
| 207/416 | LungCancerLines 0.36.0 (landing page) | Cory Barr | OK | OK | OK | ||||||||||||||||||||||||||||||
| 208/416 | lungExpression 0.36.0 (landing page) | Robert Scharpf | OK | OK | OK | ||||||||||||||||||||||||||||||
| 209/416 | lydata 1.24.0 (landing page) | Alex Pickering | OK | OK | OK | ||||||||||||||||||||||||||||||
|
| ||||||||||||||||||||||||||||||||||
| Package | Maintainer | INSTALL | BUILD | CHECK | |||||||||||||||||||||||||||||||
| 210/416 | M3DExampleData 1.24.0 (landing page) | Tallulah Andrews | OK | OK | WARNINGS | ||||||||||||||||||||||||||||||
| 211/416 | macrophage 1.14.0 (landing page) | Michael Love | OK | OK | OK | ||||||||||||||||||||||||||||||
| 212/416 | MACSdata 1.6.0 (landing page) | Qiang Hu | OK | OK | OK | ||||||||||||||||||||||||||||||
| 213/416 | mammaPrintData 1.34.0 (landing page) | Luigi Marchionni | OK | OK | OK | ||||||||||||||||||||||||||||||
| 214/416 | mAPKLData 1.30.0 (landing page) | Argiris Sakellariou | OK | OK | WARNINGS | ||||||||||||||||||||||||||||||
| 215/416 | maqcExpression4plex 1.42.0 (landing page) | Benilton Carvalho | OK | OK | OK | ||||||||||||||||||||||||||||||
| 216/416 | MAQCsubset 1.36.0 (landing page) | VJ Carey | OK | OK | OK | ||||||||||||||||||||||||||||||
| 217/416 | MAQCsubsetILM 1.36.0 (landing page) | Laurent Gatto | OK | OK | OK | ||||||||||||||||||||||||||||||
| 218/416 | mCSEAdata 1.18.0 (landing page) | Jordi Martorell Marugán | OK | OK | WARNINGS | ||||||||||||||||||||||||||||||
| 219/416 | mcsurvdata 1.16.0 (landing page) | Adria Caballe Mestres | OK | OK | OK | ||||||||||||||||||||||||||||||
| 220/416 | MEDIPSData 1.34.0 (landing page) | Lukas Chavez | OK | OK | WARNINGS | ||||||||||||||||||||||||||||||
| 221/416 | MEEBOdata 1.36.0 (landing page) | Agnes Paquet | OK | OK | WARNINGS | ||||||||||||||||||||||||||||||
| 222/416 | MerfishData 1.0.0 (landing page) | Ludwig Geistlinger | OK | OK | OK | ||||||||||||||||||||||||||||||
| 223/416 | MetaGxBreast 1.18.0 (landing page) | Benjamin Haibe-Kains | OK | OK | OK | ||||||||||||||||||||||||||||||
| 224/416 | MetaGxOvarian 1.18.0 (landing page) | Benjamin Haibe-Kains | OK | OK | WARNINGS | ||||||||||||||||||||||||||||||
| 225/416 | MetaGxPancreas 1.18.0 (landing page) | Benjamin Haibe-Kains | OK | OK | OK | ||||||||||||||||||||||||||||||
| 226/416 | metaMSdata 1.34.0 (landing page) | Yann Guitton | OK | OK | OK | ||||||||||||||||||||||||||||||
| 227/416 | MethylAidData 1.30.0 (landing page) | M. van Iterson | OK | OK | OK | ||||||||||||||||||||||||||||||
| 228/416 | methylclockData 1.6.0 (landing page) | Dolors Pelegri-Siso | OK | OK | OK | ||||||||||||||||||||||||||||||
| 229/416 | MethylSeqData 1.8.0 (landing page) | Peter Hickey | OK | OK | OK | ||||||||||||||||||||||||||||||
| 230/416 | MicrobiomeBenchmarkData 1.0.0 (landing page) | Samuel Gamboa | OK | OK | OK | ||||||||||||||||||||||||||||||
| 231/416 | microbiomeDataSets 1.6.0 (landing page) | Leo Lahti | OK | OK | OK | ||||||||||||||||||||||||||||||
| 232/416 | microRNAome 1.20.0 (landing page) | Matthew N. McCall | OK | OK | OK | ||||||||||||||||||||||||||||||
| 233/416 | MIGSAdata 1.22.0 (landing page) | Juan C. Rodriguez | OK | OK | OK | ||||||||||||||||||||||||||||||
| 234/416 | minfiData 0.44.0 (landing page) | Kasper Daniel Hansen | OK | OK | WARNINGS | ||||||||||||||||||||||||||||||
| 235/416 | minfiDataEPIC 1.24.0 (landing page) | Kasper Daniel Hansen | OK | OK | WARNINGS | ||||||||||||||||||||||||||||||
| 236/416 | minionSummaryData 1.28.0 (landing page) | Mike Smith | OK | OK | OK | ||||||||||||||||||||||||||||||
| 237/416 | miRcompData 1.28.0 (landing page) | Matthew N. McCall | OK | OK | OK | ||||||||||||||||||||||||||||||
| 238/416 | miRNATarget 1.36.0 (landing page) | Y-h. Taguchi | OK | OK | OK | ||||||||||||||||||||||||||||||
| 239/416 | MMAPPR2data 1.12.0 (landing page) | Jonathon Hill | OK | OK | OK | ||||||||||||||||||||||||||||||
| 240/416 | MMDiffBamSubset 1.34.0 (landing page) | Gabriele Schweikert | OK | OK | OK | ||||||||||||||||||||||||||||||
| 241/416 | MOFAdata 1.14.0 (landing page) | Britta Velten | OK | OK | OK | ||||||||||||||||||||||||||||||
| 242/416 | mosaicsExample 1.36.0 (landing page) | Dongjun Chung | OK | OK | OK | ||||||||||||||||||||||||||||||
| 243/416 | mouse4302barcodevecs 1.36.0 (landing page) | Matthew N. McCall | OK | OK | OK | ||||||||||||||||||||||||||||||
| 244/416 | MouseGastrulationData 1.12.0 (landing page) | Jonathan Griffiths | OK | OK | OK | ||||||||||||||||||||||||||||||
| 245/416 | MouseThymusAgeing 1.6.1 (landing page) | Mike Morgan | OK | OK | OK | ||||||||||||||||||||||||||||||
| 246/416 | msd16s 1.18.0 (landing page) | Joseph N. Paulson | OK | OK | OK | ||||||||||||||||||||||||||||||
| 247/416 | msdata 0.38.0 (landing page) | Steffen Neumann | OK | OK | OK | ||||||||||||||||||||||||||||||
| 248/416 | msigdb 1.6.0 (landing page) | Dharmesh D. Bhuva | OK | OK | WARNINGS | ||||||||||||||||||||||||||||||
| 249/416 | MSMB 1.16.0 (landing page) | Wolfgang Huber | OK | OK | OK | ||||||||||||||||||||||||||||||
| 250/416 | msPurityData 1.26.0 (landing page) | Thomas N. Lawson | OK | OK | OK | ||||||||||||||||||||||||||||||
| 251/416 | msqc1 1.26.0 (landing page) | Christian Panse | OK | OK | OK | ||||||||||||||||||||||||||||||
| 252/416 | mtbls2 1.28.0 (landing page) | Steffen Neumann | OK | OK | WARNINGS | ||||||||||||||||||||||||||||||
| 253/416 | MUGAExampleData 1.18.0 (landing page) | Daniel Gatti | OK | OK | OK | ||||||||||||||||||||||||||||||
| 254/416 | muscData 1.12.0 (landing page) | Helena L. Crowell | OK | OK | WARNINGS | ||||||||||||||||||||||||||||||
| 255/416 | mvoutData 1.34.0 (landing page) | VJ Carey | OK | OK | OK | ||||||||||||||||||||||||||||||
|
| ||||||||||||||||||||||||||||||||||
| Package | Maintainer | INSTALL | BUILD | CHECK | |||||||||||||||||||||||||||||||
| 256/416 | NanoporeRNASeq 1.8.0 (landing page) | Ying Chen | OK | OK | OK | ||||||||||||||||||||||||||||||
| 257/416 | nanotubes 1.14.0 (landing page) | Malte Thodberg | OK | OK | OK | ||||||||||||||||||||||||||||||
| 258/416 | NCIgraphData 1.34.0 (landing page) | Laurent Jacob | OK | OK | WARNINGS | ||||||||||||||||||||||||||||||
| 259/416 | NestLink 1.14.0 (landing page) | Lennart Opitz | OK | OK | OK | ||||||||||||||||||||||||||||||
| 260/416 | NetActivityData 1.0.0 (landing page) | Carlos Ruiz-Arenas | OK | OK | OK | ||||||||||||||||||||||||||||||
| 261/416 | Neve2006 0.36.0 (landing page) | VJ Carey | OK | OK | OK | ||||||||||||||||||||||||||||||
| 262/416 | NGScopyData 1.18.0 (landing page) | Xiaobei Zhao | OK | OK | OK | ||||||||||||||||||||||||||||||
| 263/416 | nullrangesData 1.4.0 (landing page) | Michael Love | OK | OK | OK | ||||||||||||||||||||||||||||||
| 264/416 | NxtIRFdata 1.4.0 (landing page) | Alex Chit Hei Wong | OK | OK | OK | ||||||||||||||||||||||||||||||
|
| ||||||||||||||||||||||||||||||||||
| Package | Maintainer | INSTALL | BUILD | CHECK | |||||||||||||||||||||||||||||||
| 265/416 | ObMiTi 1.6.0 (landing page) | Omar Elashkar | OK | OK | OK | ||||||||||||||||||||||||||||||
| 266/416 | oct4 1.14.0 (landing page) | Michael Love | OK | OK | OK | ||||||||||||||||||||||||||||||
| 267/416 | octad.db 1.0.0 (landing page) | E. Chekalin | OK | OK | OK | ||||||||||||||||||||||||||||||
| 268/416 | OMICsPCAdata 1.16.0 (landing page) | Subhadeep Das | OK | OK | WARNINGS | ||||||||||||||||||||||||||||||
| 269/416 | OnassisJavaLibs 1.20.0 (landing page) | Eugenia Galeota | OK | OK | OK | ||||||||||||||||||||||||||||||
| 270/416 | optimalFlowData 1.10.0 (landing page) | Hristo Inouzhe | OK | OK | WARNINGS | ||||||||||||||||||||||||||||||
|
| ||||||||||||||||||||||||||||||||||
| Package | Maintainer | INSTALL | BUILD | CHECK | |||||||||||||||||||||||||||||||
| 271/416 | parathyroidSE 1.36.0 (landing page) | Michael Love | OK | OK | OK | ||||||||||||||||||||||||||||||
| 272/416 | pasilla 1.26.0 (landing page) | Alejandro Reyes | OK | OK | WARNINGS | ||||||||||||||||||||||||||||||
| 273/416 | pasillaBamSubset 0.36.0 (landing page) | Hervé Pagès | OK | OK | OK | ||||||||||||||||||||||||||||||
| 274/416 | PasillaTranscriptExpr 1.26.0 (landing page) | Malgorzata Nowicka | OK | OK | OK | ||||||||||||||||||||||||||||||
| 275/416 | PathNetData 1.34.0 (landing page) | Ludwig Geistlinger | OK | OK | OK | ||||||||||||||||||||||||||||||
| 276/416 | PCHiCdata 1.26.0 (landing page) | Mikhail Spivakov | OK | OK | WARNINGS | ||||||||||||||||||||||||||||||
| 277/416 | pcxnData 2.20.0 (landing page) | Sokratis Kariotis | OK | OK | WARNINGS | ||||||||||||||||||||||||||||||
| 278/416 | pd.atdschip.tiling 0.36.0 (landing page) | Kristof De Beuf | OK | OK | WARNINGS | ||||||||||||||||||||||||||||||
| 279/416 | pepDat 1.18.0 (landing page) | Renan Sauteraud | OK | OK | OK | ||||||||||||||||||||||||||||||
| 280/416 | PepsNMRData 1.16.0 (landing page) | Manon Martin | OK | OK | WARNINGS | ||||||||||||||||||||||||||||||
| 281/416 | PhyloProfileData 1.12.0 (landing page) | Vinh Tran | OK | OK | OK | ||||||||||||||||||||||||||||||
| 282/416 | plasFIA 1.26.0 (landing page) | Alexis Delabriere | OK | OK | OK | ||||||||||||||||||||||||||||||
| 283/416 | plotgardenerData 1.4.0 (landing page) | Nicole Kramer | OK | OK | OK | ||||||||||||||||||||||||||||||
| 284/416 | prebsdata 1.34.0 (landing page) | Karolis Uziela | OK | OK | OK | ||||||||||||||||||||||||||||||
| 285/416 | preciseTADhub 1.6.0 (landing page) | Mikhail Dozmorov | OK | OK | OK | ||||||||||||||||||||||||||||||
| 286/416 | PREDAsampledata 0.38.0 (landing page) | Francesco Ferrari | OK | OK | OK | ||||||||||||||||||||||||||||||
| 287/416 | ProData 1.36.0 (landing page) | Xiaochun Li | OK | OK | OK | ||||||||||||||||||||||||||||||
| 288/416 | pRolocdata 1.36.0 (landing page) | Laurent Gatto | OK | OK | OK | ||||||||||||||||||||||||||||||
| 289/416 | prostateCancerCamcap 1.26.0 (landing page) | Mark Dunning | OK | OK | WARNINGS | ||||||||||||||||||||||||||||||
| 290/416 | prostateCancerGrasso 1.26.0 (landing page) | Mark Dunning | OK | OK | WARNINGS | ||||||||||||||||||||||||||||||
| 291/416 | prostateCancerStockholm 1.26.0 (landing page) | Mark Dunning | OK | OK | WARNINGS | ||||||||||||||||||||||||||||||
| 292/416 | prostateCancerTaylor 1.26.0 (landing page) | Mark Dunning | OK | OK | WARNINGS | ||||||||||||||||||||||||||||||
| 293/416 | prostateCancerVarambally 1.26.0 (landing page) | Mark Dunning | OK | OK | WARNINGS | ||||||||||||||||||||||||||||||
| 294/416 | ptairData 1.6.0 (landing page) | camille Roquencourt | OK | OK | OK | ||||||||||||||||||||||||||||||
| 295/416 | PtH2O2lipids 1.24.0 (landing page) | James Collins | OK | OK | WARNINGS | ||||||||||||||||||||||||||||||
| 296/416 | pumadata 2.34.0 (landing page) | Xuejun liu | OK | OK | OK | ||||||||||||||||||||||||||||||
| 297/416 | PWMEnrich.Dmelanogaster.background 4.32.0 (landing page) | Diego Diez | OK | OK | OK | ||||||||||||||||||||||||||||||
| 298/416 | PWMEnrich.Hsapiens.background 4.32.0 (landing page) | Diego Diez | OK | OK | OK | ||||||||||||||||||||||||||||||
| 299/416 | PWMEnrich.Mmusculus.background 4.32.0 (landing page) | Diego Diez | OK | OK | OK | ||||||||||||||||||||||||||||||
| 300/416 | pwrEWAS.data 1.12.0 (landing page) | Stefan Graw | OK | OK | OK | ||||||||||||||||||||||||||||||
|
| ||||||||||||||||||||||||||||||||||
| Package | Maintainer | INSTALL | BUILD | CHECK | |||||||||||||||||||||||||||||||
| 301/416 | QDNAseq.hg19 1.28.0 (landing page) | Daoud Sie | OK | OK | OK | ||||||||||||||||||||||||||||||
| 302/416 | QDNAseq.mm10 1.28.0 (landing page) | Daoud Sie | OK | OK | OK | ||||||||||||||||||||||||||||||
| 303/416 | qPLEXdata 1.16.0 (landing page) | Kamal Kishore Developer | OK | OK | WARNINGS | ||||||||||||||||||||||||||||||
| 304/416 | QUBICdata 1.26.0 (landing page) | Yu Zhang | OK | OK | OK | ||||||||||||||||||||||||||||||
|
| ||||||||||||||||||||||||||||||||||
| Package | Maintainer | INSTALL | BUILD | CHECK | |||||||||||||||||||||||||||||||
| 305/416 | rcellminerData 2.20.0 (landing page) | Augustin Luna | OK | OK | WARNINGS | ||||||||||||||||||||||||||||||
| 306/416 | RcisTarget.hg19.motifDBs.cisbpOnly.500bp 1.18.0 (landing page) | Sara Aibar | OK | OK | OK | ||||||||||||||||||||||||||||||
| 307/416 | ReactomeGSA.data 1.12.0 (landing page) | Johannes Griss | OK | OK | OK | ||||||||||||||||||||||||||||||
| 308/416 | RegParallel 1.16.0 (landing page) | Kevin Blighe | OK | OK | OK | ||||||||||||||||||||||||||||||
| 309/416 | restfulSEData 1.20.0 (landing page) | Bioconductor Package Maintainer | OK | OK | OK | ||||||||||||||||||||||||||||||
| 310/416 | RforProteomics 1.36.2 (landing page) | Laurent Gatto | OK | OK | ERROR | ||||||||||||||||||||||||||||||
| 311/416 | RGMQLlib 1.18.0 (landing page) | Simone Pallotta | OK | OK | OK | ||||||||||||||||||||||||||||||
| 312/416 | rheumaticConditionWOLLBOLD 1.36.0 (landing page) | Alejandro Quiroz-Zarate | OK | OK | OK | ||||||||||||||||||||||||||||||
| 313/416 | RITANdata 1.22.0 (landing page) | Michael Zimmermann | OK | OK | WARNINGS | ||||||||||||||||||||||||||||||
| 314/416 | RLHub 1.4.0 (landing page) | Henry Miller | OK | OK | OK | ||||||||||||||||||||||||||||||
| 315/416 | RMassBankData 1.36.0 (landing page) | Michael Stravs, Emma Schymanski | OK | OK | OK | ||||||||||||||||||||||||||||||
| 316/416 | RNAinteractMAPK 1.36.0 (landing page) | Mike Smith | OK | OK | OK | ||||||||||||||||||||||||||||||
| 317/416 | RNAmodR.Data 1.12.0 (landing page) | Felix G.M. Ernst | ERROR | OK | ERROR | ||||||||||||||||||||||||||||||
| 318/416 | RNAseqData.HNRNPC.bam.chr14 0.36.0 (landing page) | Hervé Pagès | OK | OK | OK | ||||||||||||||||||||||||||||||
| 319/416 | Kuan-Hao Chao | OK | OK | WARNINGS | |||||||||||||||||||||||||||||||
| 320/416 | RnaSeqSampleSizeData 1.30.0 (landing page) | Shilin Zhao | OK | OK | OK | ||||||||||||||||||||||||||||||
| 321/416 | RnBeads.hg19 1.30.0 (landing page) | RnBeadsAnnotationCreator | OK | OK | WARNINGS | ||||||||||||||||||||||||||||||
| 322/416 | RnBeads.hg38 1.30.0 (landing page) | RnBeadsAnnotationCreator | OK | OK | OK | ||||||||||||||||||||||||||||||
| 323/416 | RnBeads.mm10 2.6.0 (landing page) | RnBeads Team | OK | OK | OK | ||||||||||||||||||||||||||||||
| 324/416 | RnBeads.mm9 1.30.0 (landing page) | RnBeadsAnnotationCreator | OK | OK | WARNINGS | ||||||||||||||||||||||||||||||
| 325/416 | RnBeads.rn5 1.30.0 (landing page) | RnBeadsAnnotationCreator | OK | OK | OK | ||||||||||||||||||||||||||||||
| 326/416 | RRBSdata 1.18.0 (landing page) | Katja Hebestreit | OK | OK | OK | ||||||||||||||||||||||||||||||
| 327/416 | rRDPData 1.18.0 (landing page) | Michael Hahsler | OK | OK | OK | ||||||||||||||||||||||||||||||
| 328/416 | RTCGA.clinical 20151101.28.0 (landing page) | Marcin Kosinski | OK | OK | WARNINGS | ||||||||||||||||||||||||||||||
| 329/416 | RTCGA.CNV 1.26.0 (landing page) | Marcin Kosinski | OK | OK | WARNINGS | ||||||||||||||||||||||||||||||
| 330/416 | RTCGA.methylation 1.26.0 (landing page) | Marcin Kosinski | OK | OK | WARNINGS | ||||||||||||||||||||||||||||||
| 331/416 | RTCGA.miRNASeq 1.26.0 (landing page) | Marcin Kosinski | OK | OK | WARNINGS | ||||||||||||||||||||||||||||||
| 332/416 | RTCGA.mRNA 1.26.0 (landing page) | Marcin Kosinski | OK | OK | WARNINGS | ||||||||||||||||||||||||||||||
| 333/416 | RTCGA.mutations 20151101.28.0 (landing page) | Marcin Kosinski | OK | OK | WARNINGS | ||||||||||||||||||||||||||||||
| 334/416 | RTCGA.PANCAN12 1.26.0 (landing page) | Marcin Kosinski | OK | OK | OK | ||||||||||||||||||||||||||||||
| 335/416 | RTCGA.rnaseq 20151101.28.0 (landing page) | Marcin Kosinski | OK | OK | WARNINGS | ||||||||||||||||||||||||||||||
| 336/416 | RTCGA.RPPA 1.26.0 (landing page) | Marcin Kosinski | OK | OK | WARNINGS | ||||||||||||||||||||||||||||||
| 337/416 | RUVnormalizeData 1.18.0 (landing page) | Laurent Jacob | OK | OK | OK | ||||||||||||||||||||||||||||||
|
| ||||||||||||||||||||||||||||||||||
| Package | Maintainer | INSTALL | BUILD | CHECK | |||||||||||||||||||||||||||||||
| 338/416 | sampleClassifierData 1.22.0 (landing page) | Khadija El Amrani | OK | OK | OK | ||||||||||||||||||||||||||||||
| 339/416 | SBGNview.data 1.12.0 (landing page) | Weijun Luo | OK | OK | OK | ||||||||||||||||||||||||||||||
| 340/416 | scanMiRData 1.4.0 (landing page) | Fridolin Gross | OK | OK | OK | ||||||||||||||||||||||||||||||
| 341/416 | scATAC.Explorer 1.4.0 (landing page) | Arrian Gibson-Khademi | OK | OK | OK | ||||||||||||||||||||||||||||||
| 342/416 | SCATEData 1.8.0 (landing page) | Wenpin Hou | OK | OK | OK | ||||||||||||||||||||||||||||||
| 343/416 | SCLCBam 1.30.0 (landing page) | Oscar Krijgsman | OK | OK | OK | ||||||||||||||||||||||||||||||
| 344/416 | scpdata 1.6.0 (landing page) | Christophe Vanderaa | OK | OK | OK | ||||||||||||||||||||||||||||||
| 345/416 | scRNAseq 2.12.0 (landing page) | Aaron Lun | OK | OK | WARNINGS | ||||||||||||||||||||||||||||||
| 346/416 | scTHI.data 1.10.0 (landing page) | Michele Ceccarelli | OK | OK | OK | ||||||||||||||||||||||||||||||
| 347/416 | seq2pathway.data 1.30.0 (landing page) | Arjun Kinstlick | OK | OK | WARNINGS | ||||||||||||||||||||||||||||||
| 348/416 | seqc 1.32.0 (landing page) | Yang Liao | OK | OK | WARNINGS | ||||||||||||||||||||||||||||||
| 349/416 | seqCNA.annot 1.34.0 (landing page) | David Mosen-Ansorena | OK | OK | OK | ||||||||||||||||||||||||||||||
| 350/416 | serumStimulation 1.34.0 (landing page) | Morten Hansen, | OK | OK | OK | ||||||||||||||||||||||||||||||
| 351/416 | sesameData 1.16.0 (landing page) | Wanding Zhou | OK | OK | OK | ||||||||||||||||||||||||||||||
| 352/416 | seventyGeneData 1.34.0 (landing page) | Luigi Marchionni | OK | OK | OK | ||||||||||||||||||||||||||||||
| 353/416 | SFEData 1.0.2 (landing page) | Lambda Moses | OK | OK | WARNINGS | ||||||||||||||||||||||||||||||
| 354/416 | shinyMethylData 1.18.0 (landing page) | Jean-Philippe Fortin | OK | OK | WARNINGS | ||||||||||||||||||||||||||||||
| 355/416 | signatureSearchData 1.12.0 (landing page) | Brendan Gongol | OK | OK | OK | ||||||||||||||||||||||||||||||
| 356/416 | SimBenchData 1.6.0 (landing page) | Yue Cao | OK | OK | OK | ||||||||||||||||||||||||||||||
| 357/416 | simpIntLists 1.34.0 (landing page) | Kircicegi Korkmaz | OK | OK | WARNINGS | ||||||||||||||||||||||||||||||
| 358/416 | Single.mTEC.Transcriptomes 1.26.0 (landing page) | Alejandro Reyes | OK | OK | OK | ||||||||||||||||||||||||||||||
| 359/416 | SingleCellMultiModal 1.10.1 (landing page) | Marcel Ramos | OK | OK | OK | ||||||||||||||||||||||||||||||
| 360/416 | SingleMoleculeFootprintingData 1.6.0 (landing page) | Guido Barzaghi | OK | OK | OK | ||||||||||||||||||||||||||||||
| 361/416 | SNAData 1.44.0 (landing page) | Denise Scholtens | OK | OK | OK | ||||||||||||||||||||||||||||||
| 362/416 | SNAGEEdata 1.34.0 (landing page) | David Venet | OK | OK | OK | ||||||||||||||||||||||||||||||
| 363/416 | SNPhoodData 1.28.0 (landing page) | Christian Arnold | OK | OK | OK | ||||||||||||||||||||||||||||||
| 364/416 | SomatiCAData 1.36.0 (landing page) | Mengjie Chen | OK | OK | WARNINGS | ||||||||||||||||||||||||||||||
| 365/416 | SomaticCancerAlterations 1.34.0 (landing page) | Julian Gehring | OK | OK | OK | ||||||||||||||||||||||||||||||
| 366/416 | spatialDmelxsim 1.4.0 (landing page) | Michael Love | OK | OK | OK | ||||||||||||||||||||||||||||||
| 367/416 | spatialLIBD 1.10.1 (landing page) | Leonardo Collado-Torres | OK | OK | OK | ||||||||||||||||||||||||||||||
| 368/416 | SpikeIn 1.40.0 (landing page) | Rafael A. Irizarry | OK | OK | WARNINGS | ||||||||||||||||||||||||||||||
| 369/416 | SpikeInSubset 1.38.0 (landing page) | Rafael A. Irizarry | OK | OK | WARNINGS | ||||||||||||||||||||||||||||||
| 370/416 | spqnData 1.10.0 (landing page) | Yi Wang | OK | OK | OK | ||||||||||||||||||||||||||||||
| 371/416 | stemHypoxia 1.34.0 (landing page) | Cristobal Fresno | OK | OK | OK | ||||||||||||||||||||||||||||||
| 372/416 | STexampleData 1.6.0 (landing page) | Lukas M. Weber | OK | OK | OK | ||||||||||||||||||||||||||||||
| 373/416 | stjudem 1.38.0 (landing page) | Joern Toedling | OK | OK | OK | ||||||||||||||||||||||||||||||
| 374/416 | SVM2CRMdata 1.30.0 (landing page) | Guidantonio Malagoli Tagliazucchi | OK | OK | WARNINGS | ||||||||||||||||||||||||||||||
| 375/416 | synapterdata 1.36.0 (landing page) | Laurent Gatto | OK | OK | OK | ||||||||||||||||||||||||||||||
| 376/416 | systemPipeRdata 2.2.0 (landing page) | Thomas Girke | OK | OK | OK | ||||||||||||||||||||||||||||||
|
| ||||||||||||||||||||||||||||||||||
| Package | Maintainer | INSTALL | BUILD | CHECK | |||||||||||||||||||||||||||||||
| 377/416 | TabulaMurisData 1.16.0 (landing page) | Charlotte Soneson | OK | OK | OK | ||||||||||||||||||||||||||||||
| 378/416 | TabulaMurisSenisData 1.4.0 (landing page) | Charlotte Soneson | OK | OK | OK | ||||||||||||||||||||||||||||||
| 379/416 | TargetScoreData 1.34.0 (landing page) | Yue Li | OK | OK | OK | ||||||||||||||||||||||||||||||
| 380/416 | TargetSearchData 1.36.0 (landing page) | Alvaro Cuadros-Inostroza | OK | OK | OK | ||||||||||||||||||||||||||||||
| 381/416 | tartare 1.12.0 (landing page) | Christian Panse | OK | OK | OK | ||||||||||||||||||||||||||||||
| 382/416 | TBX20BamSubset 1.34.0 (landing page) | D. Bindreither | OK | OK | OK | ||||||||||||||||||||||||||||||
| 383/416 | TCGAbiolinksGUI.data 1.18.0 (landing page) | Tiago Chedraoui Silva | OK | OK | OK | ||||||||||||||||||||||||||||||
| 384/416 | TCGAcrcmiRNA 1.18.0 (landing page) | Claudio Isella | OK | OK | OK | ||||||||||||||||||||||||||||||
| 385/416 | TCGAcrcmRNA 1.18.0 (landing page) | Claudio Isella | OK | OK | OK | ||||||||||||||||||||||||||||||
| 386/416 | TCGAMethylation450k 1.34.0 (landing page) | Sean Davis | OK | OK | OK | ||||||||||||||||||||||||||||||
| 387/416 | TCGAWorkflowData 1.22.0 (landing page) | Tiago Chedraoui Silva | OK | OK | WARNINGS | ||||||||||||||||||||||||||||||
| 388/416 | TENxBrainData 1.18.0 (landing page) | Bioconductor Package Maintainer | OK | OK | OK | ||||||||||||||||||||||||||||||
| 389/416 | TENxBUSData 1.12.0 (landing page) | Lambda Moses | OK | OK | OK | ||||||||||||||||||||||||||||||
| 390/416 | TENxPBMCData 1.16.0 (landing page) | Stephanie Hicks | OK | OK | OK | ||||||||||||||||||||||||||||||
| 391/416 | TENxVisiumData 1.6.0 (landing page) | Helena L. Crowell | OK | OK | OK | ||||||||||||||||||||||||||||||
| 392/416 | timecoursedata 1.8.0 (landing page) | Nelle Varoquaux | OK | OK | OK | ||||||||||||||||||||||||||||||
| 393/416 | TimerQuant 1.28.0 (landing page) | Joseph Barry | OK | OK | OK | ||||||||||||||||||||||||||||||
| 394/416 | tinesath1cdf 1.36.0 (landing page) | Tine Casneuf | OK | OK | WARNINGS | ||||||||||||||||||||||||||||||
| 395/416 | tinesath1probe 1.36.0 (landing page) | Tine Casneuf | OK | OK | WARNINGS | ||||||||||||||||||||||||||||||
| 396/416 | tissueTreg 1.18.0 (landing page) | Charles Imbusch | OK | OK | OK | ||||||||||||||||||||||||||||||
| 397/416 | TMExplorer 1.8.0 (landing page) | Erik Christensen | OK | OK | OK | ||||||||||||||||||||||||||||||
| 398/416 | tofsimsData 1.26.0 (landing page) | Lorenz Gerber | OK | OK | WARNINGS | ||||||||||||||||||||||||||||||
| 399/416 | topdownrdata 1.20.0 (landing page) | Sebastian Gibb | OK | OK | OK | ||||||||||||||||||||||||||||||
| 400/416 | tuberculosis 1.4.0 (landing page) | Lucas Schiffer | OK | OK | OK | ||||||||||||||||||||||||||||||
| 401/416 | tweeDEseqCountData 1.36.0 (landing page) | Juan R Gonzalez | OK | OK | OK | ||||||||||||||||||||||||||||||
| 402/416 | tximportData 1.26.0 (landing page) | Michael Love | OK | OK | OK | ||||||||||||||||||||||||||||||
|
| ||||||||||||||||||||||||||||||||||
| Package | Maintainer | INSTALL | BUILD | CHECK | |||||||||||||||||||||||||||||||
| 403/416 | VariantToolsData 1.22.0 (landing page) | Michael Lawrence | OK | OK | OK | ||||||||||||||||||||||||||||||
| 404/416 | VectraPolarisData 1.2.0 (landing page) | Wrobel Julia | OK | OK | OK | ||||||||||||||||||||||||||||||
| 405/416 | vulcandata 1.20.0 (landing page) | Federico M. Giorgi | OK | OK | OK | ||||||||||||||||||||||||||||||
|
| ||||||||||||||||||||||||||||||||||
| Package | Maintainer | INSTALL | BUILD | CHECK | |||||||||||||||||||||||||||||||
| 406/416 | WeberDivechaLCdata 1.0.1 (landing page) | Lukas M. Weber | OK | OK | OK | ||||||||||||||||||||||||||||||
| 407/416 | WES.1KG.WUGSC 1.30.0 (landing page) | Yuchao Jiang | OK | OK | OK | ||||||||||||||||||||||||||||||
| 408/416 | WGSmapp 1.10.0 (landing page) | Rujin Wang | OK | OK | WARNINGS | ||||||||||||||||||||||||||||||
|
| ||||||||||||||||||||||||||||||||||
| Package | Maintainer | INSTALL | BUILD | CHECK | |||||||||||||||||||||||||||||||
| 409/416 | xcoredata 1.2.0 (landing page) | Maciej Migdał | OK | OK | OK | ||||||||||||||||||||||||||||||
| 410/416 | XhybCasneuf 1.36.0 (landing page) | Tineke Casneuf | OK | OK | WARNINGS | ||||||||||||||||||||||||||||||
|
| ||||||||||||||||||||||||||||||||||
| Package | Maintainer | INSTALL | BUILD | CHECK | |||||||||||||||||||||||||||||||
| 411/416 | yeastCC 1.38.0 (landing page) | Sandrine Dudoit | OK | OK | WARNINGS | ||||||||||||||||||||||||||||||
| 412/416 | yeastExpData 0.44.0 (landing page) | R. Gentleman | OK | OK | WARNINGS | ||||||||||||||||||||||||||||||
| 413/416 | yeastGSData 0.36.0 (landing page) | R. Gentleman | OK | OK | WARNINGS | ||||||||||||||||||||||||||||||
| 414/416 | yeastNagalakshmi 1.34.0 (landing page) | Bioconductor Package Maintainer | OK | OK | OK | ||||||||||||||||||||||||||||||
| 415/416 | yeastRNASeq 0.36.0 (landing page) | J. Bullard | OK | OK | WARNINGS | ||||||||||||||||||||||||||||||
|
| ||||||||||||||||||||||||||||||||||
| Package | Maintainer | INSTALL | BUILD | CHECK | |||||||||||||||||||||||||||||||
| 416/416 | zebrafishRNASeq 1.18.0 (landing page) | Davide Risso | OK | OK | OK | ||||||||||||||||||||||||||||||